BEGIN:VCALENDAR
VERSION:2.0
PRODID:-//Christ The King - ECPv6.15.20//NONSGML v1.0//EN
CALSCALE:GREGORIAN
METHOD:PUBLISH
X-ORIGINAL-URL:https://www.ctklsu.org
X-WR-CALDESC:Events for Christ The King
REFRESH-INTERVAL;VALUE=DURATION:PT1H
X-Robots-Tag:noindex
X-PUBLISHED-TTL:PT1H
BEGIN:VTIMEZONE
TZID:America/Chicago
BEGIN:DAYLIGHT
TZOFFSETFROM:-0600
TZOFFSETTO:-0500
TZNAME:CDT
DTSTART:20230312T080000
END:DAYLIGHT
BEGIN:STANDARD
TZOFFSETFROM:-0500
TZOFFSETTO:-0600
TZNAME:CST
DTSTART:20231105T070000
END:STANDARD
BEGIN:DAYLIGHT
TZOFFSETFROM:-0600
TZOFFSETTO:-0500
TZNAME:CDT
DTSTART:20240310T080000
END:DAYLIGHT
BEGIN:STANDARD
TZOFFSETFROM:-0500
TZOFFSETTO:-0600
TZNAME:CST
DTSTART:20241103T070000
END:STANDARD
BEGIN:DAYLIGHT
TZOFFSETFROM:-0600
TZOFFSETTO:-0500
TZNAME:CDT
DTSTART:20250309T080000
END:DAYLIGHT
BEGIN:STANDARD
TZOFFSETFROM:-0500
TZOFFSETTO:-0600
TZNAME:CST
DTSTART:20251102T070000
END:STANDARD
END:VTIMEZONE
BEGIN:VTIMEZONE
TZID:UTC
BEGIN:STANDARD
TZOFFSETFROM:+0000
TZOFFSETTO:+0000
TZNAME:UTC
DTSTART:20230101T000000
END:STANDARD
END:VTIMEZONE
BEGIN:VEVENT
DTSTART;TZID=America/Chicago:20240201T170000
DTEND;TZID=America/Chicago:20240201T180000
DTSTAMP:20260420T061304
CREATED:20231218T194449Z
LAST-MODIFIED:20240109T211104Z
UID:10001084-1706806800-1706810400@www.ctklsu.org
SUMMARY:Men's Freedom Group
DESCRIPTION:Do you have a problem with lust and sexual sin and desire freedom? Freedom Group provides a space to learn how to recover and be free from lust within a fellowship of brothers who are all pursuing this freedom. If you are interested in trying a meeting\, please email Brennan at bgarriques@ctklsu.org for more information. \nWe will meet in Gonzaga Hall at St. Aloysius Catholic Church\nClick here to see a map of St. Aloysius
URL:https://www.ctklsu.org/event/freedom-2/2024-02-01/
LOCATION:St. Aloysius Catholic Church\, 2025 Stuart Ave\, Baton Rouge\, LA\, 70808
CATEGORIES:Formation
ATTACH;FMTTYPE=image/jpeg:https://www.ctklsu.org/wp-content/uploads/69-1O4A1460-scaled.jpg
END:VEVENT
BEGIN:VEVENT
DTSTART;VALUE=DATE:20240204
DTEND;VALUE=DATE:20240206
DTSTAMP:20260420T061304
CREATED:20231017T181204Z
LAST-MODIFIED:20240130T220107Z
UID:10001032-1707004800-1707177599@www.ctklsu.org
SUMMARY:Carmelites Visit
DESCRIPTION:The Carmelite Sisters of the Most Sacred Heart of Los Angeles are back! \nFeb. 4: Calling all women! Join the sisters at 7:30 p.m. in the activity center for ice cream and their talk Healed by Love: Personal Testimonies of the Carmelite Sisters.\nWe all have a sacred story\, our own personal “salvation history” where God heals us by His Love. All women are invited to hear the Carmelite Sisters share their personal testimonies of how God touched their feminine hearts and set them on a healing journey to Carmel. There will be time for a Q&A after the talk. \nFeb. 5: We invite both men and women to join the sisters in the activity center at 7:30 p.m. for Into the Deep: Prayer in the Carmelite Tradition.\nWe all thirst for a deep and loving relationship with the Living God. Join the Carmelite Sisters for a talk on how to go deeper in prayer and develop an abiding intimacy with Him Who we know loves us. There will be time for a Q&A after the talk. \nSpiritual direction: The sister are also offering spiritual direction to women Feb. 5-6. Click the link in our bio to sign up for a 30 minute time slot with one of the sisters.
URL:https://www.ctklsu.org/event/carmelites/
LOCATION:CTK\, CTK\, Baton Rouge\, LA\, 70803\, United States
CATEGORIES:Formation,Women's Ministry
ATTACH;FMTTYPE=image/png:https://www.ctklsu.org/wp-content/uploads/carmelite-visit.png
GEO:30.4157757;-91.1750936
X-APPLE-STRUCTURED-LOCATION;VALUE=URI;X-ADDRESS=CTK CTK Baton Rouge LA 70803 United States;X-APPLE-RADIUS=500;X-TITLE=CTK:geo:-91.1750936,30.4157757
END:VEVENT
BEGIN:VEVENT
DTSTART;TZID=America/Chicago:20240206T170000
DTEND;TZID=America/Chicago:20240206T180000
DTSTAMP:20260420T061304
CREATED:20231219T220842Z
LAST-MODIFIED:20231219T221145Z
UID:10001061-1707238800-1707242400@www.ctklsu.org
SUMMARY:School of Prayer
DESCRIPTION:Have you ever struggled to hear God’s voice or to understand what He is speaking to you? Are you new to a relationship with Christ or are you just feeling stuck in your prayer life? Have you ever discovered the power of silence? All are welcome to join us for the “School of Prayer” on Tuesdays at 5pm beginning January 30th as we dive deeper into what personal prayer really is and how together we can grow in our personal relationship with Christ through prayer. Email Katie Ibarra at ctkschoolofprayer22@gmail.com for more information. \nWe will meet in the Tracy classroom (upstairs in the admin building)
URL:https://www.ctklsu.org/event/school-of-prayer/2024-02-06/
LOCATION:CTK\, CTK\, Baton Rouge\, LA\, 70803\, United States
CATEGORIES:Formation,Prayer
ATTACH;FMTTYPE=image/jpeg:https://www.ctklsu.org/wp-content/uploads/IMG_8355-scaled.jpg
GEO:30.4157757;-91.1750936
X-APPLE-STRUCTURED-LOCATION;VALUE=URI;X-ADDRESS=CTK CTK Baton Rouge LA 70803 United States;X-APPLE-RADIUS=500;X-TITLE=CTK:geo:-91.1750936,30.4157757
END:VEVENT
BEGIN:VEVENT
DTSTART;TZID=America/Chicago:20240206T190000
DTEND;TZID=America/Chicago:20240206T203000
DTSTAMP:20260420T061304
CREATED:20230123T153632Z
LAST-MODIFIED:20240110T195722Z
UID:10001055-1707246000-1707251400@www.ctklsu.org
SUMMARY:Musician Formation Night
DESCRIPTION:If you are part of music ministry at CTK\, join us for our music ministry meetings throughout the semester. The first one will be on Tuesday\, February 6th at 7pm in the Tracy classroom. They will be on every other Tuesday throughout the semester. If you are not part of music ministry but would like to get involved\, please don’t hesitate to reach out to Rachel (rhaydel@ctklsu.org) or Greg (greg@thevigilproject.com). We look forward to seeing you there! \nSpring 2024 Music Formation Dates: \nFebruary 6\nFebruary 20\nMarch 5 (Lenten Mission & Dinner after)\nMarch 19\nApril 2\nApril 16
URL:https://www.ctklsu.org/event/musicformation/2024-02-06/
LOCATION:CTK\, CTK\, Baton Rouge\, LA\, 70803\, United States
CATEGORIES:Formation,Music,Prayer
ATTACH;FMTTYPE=image/jpeg:https://www.ctklsu.org/wp-content/uploads/76-DSC_5742-scaled.jpg
GEO:30.4157757;-91.1750936
X-APPLE-STRUCTURED-LOCATION;VALUE=URI;X-ADDRESS=CTK CTK Baton Rouge LA 70803 United States;X-APPLE-RADIUS=500;X-TITLE=CTK:geo:-91.1750936,30.4157757
END:VEVENT
BEGIN:VEVENT
DTSTART;TZID=America/Chicago:20240208T170000
DTEND;TZID=America/Chicago:20240208T180000
DTSTAMP:20260420T061304
CREATED:20231218T194449Z
LAST-MODIFIED:20240109T211104Z
UID:10001085-1707411600-1707415200@www.ctklsu.org
SUMMARY:Men's Freedom Group
DESCRIPTION:Do you have a problem with lust and sexual sin and desire freedom? Freedom Group provides a space to learn how to recover and be free from lust within a fellowship of brothers who are all pursuing this freedom. If you are interested in trying a meeting\, please email Brennan at bgarriques@ctklsu.org for more information. \nWe will meet in Gonzaga Hall at St. Aloysius Catholic Church\nClick here to see a map of St. Aloysius
URL:https://www.ctklsu.org/event/freedom-2/2024-02-08/
LOCATION:St. Aloysius Catholic Church\, 2025 Stuart Ave\, Baton Rouge\, LA\, 70808
CATEGORIES:Formation
ATTACH;FMTTYPE=image/jpeg:https://www.ctklsu.org/wp-content/uploads/69-1O4A1460-scaled.jpg
END:VEVENT
BEGIN:VEVENT
DTSTART;VALUE=DATE:20240214
DTEND;VALUE=DATE:20240215
DTSTAMP:20260420T061304
CREATED:20210126T040229Z
LAST-MODIFIED:20240214T162108Z
UID:10000512-1707868800-1707955199@www.ctklsu.org
SUMMARY:Ash Wednesday
DESCRIPTION:Confession: 11am\nMass: 12pm | 6pm | 8pm\nWatch the video to learn more about the significance of Ash Wednesday!
URL:https://www.ctklsu.org/event/ash-wednesday/
LOCATION:CTK\, CTK\, Baton Rouge\, LA\, 70803\, United States
CATEGORIES:Featured Event,Prayer
ATTACH;FMTTYPE=image/jpeg:https://www.ctklsu.org/wp-content/uploads/ashes.jpg
GEO:30.4157757;-91.1750936
X-APPLE-STRUCTURED-LOCATION;VALUE=URI;X-ADDRESS=CTK CTK Baton Rouge LA 70803 United States;X-APPLE-RADIUS=500;X-TITLE=CTK:geo:-91.1750936,30.4157757
END:VEVENT
BEGIN:VEVENT
DTSTART;TZID=America/Chicago:20240215T170000
DTEND;TZID=America/Chicago:20240215T180000
DTSTAMP:20260420T061304
CREATED:20231218T194449Z
LAST-MODIFIED:20240109T211104Z
UID:10001086-1708016400-1708020000@www.ctklsu.org
SUMMARY:Men's Freedom Group
DESCRIPTION:Do you have a problem with lust and sexual sin and desire freedom? Freedom Group provides a space to learn how to recover and be free from lust within a fellowship of brothers who are all pursuing this freedom. If you are interested in trying a meeting\, please email Brennan at bgarriques@ctklsu.org for more information. \nWe will meet in Gonzaga Hall at St. Aloysius Catholic Church\nClick here to see a map of St. Aloysius
URL:https://www.ctklsu.org/event/freedom-2/2024-02-15/
LOCATION:St. Aloysius Catholic Church\, 2025 Stuart Ave\, Baton Rouge\, LA\, 70808
CATEGORIES:Formation
ATTACH;FMTTYPE=image/jpeg:https://www.ctklsu.org/wp-content/uploads/69-1O4A1460-scaled.jpg
END:VEVENT
BEGIN:VEVENT
DTSTART;TZID=America/Chicago:20240216T150000
DTEND;TZID=America/Chicago:20240216T160000
DTSTAMP:20260420T061304
CREATED:20240216T153508Z
LAST-MODIFIED:20240227T193048Z
UID:10001125-1708095600-1708099200@www.ctklsu.org
SUMMARY:Stations of the Cross
DESCRIPTION:Pray the Stations of the Cross with us every Friday during Lent at 3pm in the Church! \nWe will not have stations on Friday\, March 15.
URL:https://www.ctklsu.org/event/stations-of-the-cross/2024-02-16/
LOCATION:CTK\, CTK\, Baton Rouge\, LA\, 70803\, United States
CATEGORIES:Prayer
ATTACH;FMTTYPE=image/jpeg:https://www.ctklsu.org/wp-content/uploads/untitled-381-scaled.jpg
GEO:30.4157757;-91.1750936
X-APPLE-STRUCTURED-LOCATION;VALUE=URI;X-ADDRESS=CTK CTK Baton Rouge LA 70803 United States;X-APPLE-RADIUS=500;X-TITLE=CTK:geo:-91.1750936,30.4157757
END:VEVENT
BEGIN:VEVENT
DTSTART;TZID=America/Chicago:20240220T170000
DTEND;TZID=America/Chicago:20240220T180000
DTSTAMP:20260420T061304
CREATED:20231219T220842Z
LAST-MODIFIED:20231219T221145Z
UID:10001062-1708448400-1708452000@www.ctklsu.org
SUMMARY:School of Prayer
DESCRIPTION:Have you ever struggled to hear God’s voice or to understand what He is speaking to you? Are you new to a relationship with Christ or are you just feeling stuck in your prayer life? Have you ever discovered the power of silence? All are welcome to join us for the “School of Prayer” on Tuesdays at 5pm beginning January 30th as we dive deeper into what personal prayer really is and how together we can grow in our personal relationship with Christ through prayer. Email Katie Ibarra at ctkschoolofprayer22@gmail.com for more information. \nWe will meet in the Tracy classroom (upstairs in the admin building)
URL:https://www.ctklsu.org/event/school-of-prayer/2024-02-20/
LOCATION:CTK\, CTK\, Baton Rouge\, LA\, 70803\, United States
CATEGORIES:Formation,Prayer
ATTACH;FMTTYPE=image/jpeg:https://www.ctklsu.org/wp-content/uploads/IMG_8355-scaled.jpg
GEO:30.4157757;-91.1750936
X-APPLE-STRUCTURED-LOCATION;VALUE=URI;X-ADDRESS=CTK CTK Baton Rouge LA 70803 United States;X-APPLE-RADIUS=500;X-TITLE=CTK:geo:-91.1750936,30.4157757
END:VEVENT
BEGIN:VEVENT
DTSTART;TZID=America/Chicago:20240220T190000
DTEND;TZID=America/Chicago:20240220T203000
DTSTAMP:20260420T061304
CREATED:20230123T153632Z
LAST-MODIFIED:20240110T195722Z
UID:10001056-1708455600-1708461000@www.ctklsu.org
SUMMARY:Musician Formation Night
DESCRIPTION:If you are part of music ministry at CTK\, join us for our music ministry meetings throughout the semester. The first one will be on Tuesday\, February 6th at 7pm in the Tracy classroom. They will be on every other Tuesday throughout the semester. If you are not part of music ministry but would like to get involved\, please don’t hesitate to reach out to Rachel (rhaydel@ctklsu.org) or Greg (greg@thevigilproject.com). We look forward to seeing you there! \nSpring 2024 Music Formation Dates: \nFebruary 6\nFebruary 20\nMarch 5 (Lenten Mission & Dinner after)\nMarch 19\nApril 2\nApril 16
URL:https://www.ctklsu.org/event/musicformation/2024-02-20/
LOCATION:CTK\, CTK\, Baton Rouge\, LA\, 70803\, United States
CATEGORIES:Formation,Music,Prayer
ATTACH;FMTTYPE=image/jpeg:https://www.ctklsu.org/wp-content/uploads/76-DSC_5742-scaled.jpg
GEO:30.4157757;-91.1750936
X-APPLE-STRUCTURED-LOCATION;VALUE=URI;X-ADDRESS=CTK CTK Baton Rouge LA 70803 United States;X-APPLE-RADIUS=500;X-TITLE=CTK:geo:-91.1750936,30.4157757
END:VEVENT
BEGIN:VEVENT
DTSTART;TZID=America/Chicago:20240221T193000
DTEND;TZID=America/Chicago:20240221T203000
DTSTAMP:20260420T061304
CREATED:20220304T184953Z
LAST-MODIFIED:20240117T225017Z
UID:10001118-1708543800-1708547400@www.ctklsu.org
SUMMARY:Varsity Catholic
DESCRIPTION:All LSU athletes invited to Varsity Catholic Night! Join us in the church for Adoration with praise and worship at 7:30 p.m. followed by a special Mass at 8 p.m. just for athletes! \nQuestions? Contact one of your Varsity Catholic Missionaries: Kelley Hartman or Sebastian Wagner.
URL:https://www.ctklsu.org/event/varsity-catholic/2024-02-21/
LOCATION:CTK\, CTK\, Baton Rouge\, LA\, 70803\, United States
CATEGORIES:Guest Speakers,Social
ATTACH;FMTTYPE=image/jpeg:https://www.ctklsu.org/wp-content/uploads/DavisBove-e1646762775132.jpg
GEO:30.4157757;-91.1750936
X-APPLE-STRUCTURED-LOCATION;VALUE=URI;X-ADDRESS=CTK CTK Baton Rouge LA 70803 United States;X-APPLE-RADIUS=500;X-TITLE=CTK:geo:-91.1750936,30.4157757
END:VEVENT
BEGIN:VEVENT
DTSTART;TZID=America/Chicago:20240222T170000
DTEND;TZID=America/Chicago:20240222T180000
DTSTAMP:20260420T061304
CREATED:20231218T194449Z
LAST-MODIFIED:20240109T211104Z
UID:10001087-1708621200-1708624800@www.ctklsu.org
SUMMARY:Men's Freedom Group
DESCRIPTION:Do you have a problem with lust and sexual sin and desire freedom? Freedom Group provides a space to learn how to recover and be free from lust within a fellowship of brothers who are all pursuing this freedom. If you are interested in trying a meeting\, please email Brennan at bgarriques@ctklsu.org for more information. \nWe will meet in Gonzaga Hall at St. Aloysius Catholic Church\nClick here to see a map of St. Aloysius
URL:https://www.ctklsu.org/event/freedom-2/2024-02-22/
LOCATION:St. Aloysius Catholic Church\, 2025 Stuart Ave\, Baton Rouge\, LA\, 70808
CATEGORIES:Formation
ATTACH;FMTTYPE=image/jpeg:https://www.ctklsu.org/wp-content/uploads/69-1O4A1460-scaled.jpg
END:VEVENT
BEGIN:VEVENT
DTSTART;TZID=America/Chicago:20240223T150000
DTEND;TZID=America/Chicago:20240223T160000
DTSTAMP:20260420T061304
CREATED:20240216T153508Z
LAST-MODIFIED:20240227T193048Z
UID:10001126-1708700400-1708704000@www.ctklsu.org
SUMMARY:Stations of the Cross
DESCRIPTION:Pray the Stations of the Cross with us every Friday during Lent at 3pm in the Church! \nWe will not have stations on Friday\, March 15.
URL:https://www.ctklsu.org/event/stations-of-the-cross/2024-02-23/
LOCATION:CTK\, CTK\, Baton Rouge\, LA\, 70803\, United States
CATEGORIES:Prayer
ATTACH;FMTTYPE=image/jpeg:https://www.ctklsu.org/wp-content/uploads/untitled-381-scaled.jpg
GEO:30.4157757;-91.1750936
X-APPLE-STRUCTURED-LOCATION;VALUE=URI;X-ADDRESS=CTK CTK Baton Rouge LA 70803 United States;X-APPLE-RADIUS=500;X-TITLE=CTK:geo:-91.1750936,30.4157757
END:VEVENT
BEGIN:VEVENT
DTSTART;TZID=America/Chicago:20240227T170000
DTEND;TZID=America/Chicago:20240227T180000
DTSTAMP:20260420T061304
CREATED:20231219T220842Z
LAST-MODIFIED:20231219T221145Z
UID:10001063-1709053200-1709056800@www.ctklsu.org
SUMMARY:School of Prayer
DESCRIPTION:Have you ever struggled to hear God’s voice or to understand what He is speaking to you? Are you new to a relationship with Christ or are you just feeling stuck in your prayer life? Have you ever discovered the power of silence? All are welcome to join us for the “School of Prayer” on Tuesdays at 5pm beginning January 30th as we dive deeper into what personal prayer really is and how together we can grow in our personal relationship with Christ through prayer. Email Katie Ibarra at ctkschoolofprayer22@gmail.com for more information. \nWe will meet in the Tracy classroom (upstairs in the admin building)
URL:https://www.ctklsu.org/event/school-of-prayer/2024-02-27/
LOCATION:CTK\, CTK\, Baton Rouge\, LA\, 70803\, United States
CATEGORIES:Formation,Prayer
ATTACH;FMTTYPE=image/jpeg:https://www.ctklsu.org/wp-content/uploads/IMG_8355-scaled.jpg
GEO:30.4157757;-91.1750936
X-APPLE-STRUCTURED-LOCATION;VALUE=URI;X-ADDRESS=CTK CTK Baton Rouge LA 70803 United States;X-APPLE-RADIUS=500;X-TITLE=CTK:geo:-91.1750936,30.4157757
END:VEVENT
BEGIN:VEVENT
DTSTART;TZID=America/Chicago:20240229T170000
DTEND;TZID=America/Chicago:20240229T180000
DTSTAMP:20260420T061304
CREATED:20231218T194449Z
LAST-MODIFIED:20240109T211104Z
UID:10001088-1709226000-1709229600@www.ctklsu.org
SUMMARY:Men's Freedom Group
DESCRIPTION:Do you have a problem with lust and sexual sin and desire freedom? Freedom Group provides a space to learn how to recover and be free from lust within a fellowship of brothers who are all pursuing this freedom. If you are interested in trying a meeting\, please email Brennan at bgarriques@ctklsu.org for more information. \nWe will meet in Gonzaga Hall at St. Aloysius Catholic Church\nClick here to see a map of St. Aloysius
URL:https://www.ctklsu.org/event/freedom-2/2024-02-29/
LOCATION:St. Aloysius Catholic Church\, 2025 Stuart Ave\, Baton Rouge\, LA\, 70808
CATEGORIES:Formation
ATTACH;FMTTYPE=image/jpeg:https://www.ctklsu.org/wp-content/uploads/69-1O4A1460-scaled.jpg
END:VEVENT
END:VCALENDAR