BEGIN:VCALENDAR
VERSION:2.0
PRODID:-//Christ The King - ECPv6.15.20//NONSGML v1.0//EN
CALSCALE:GREGORIAN
METHOD:PUBLISH
X-WR-CALNAME:Christ The King
X-ORIGINAL-URL:https://www.ctklsu.org
X-WR-CALDESC:Events for Christ The King
REFRESH-INTERVAL;VALUE=DURATION:PT1H
X-Robots-Tag:noindex
X-PUBLISHED-TTL:PT1H
BEGIN:VTIMEZONE
TZID:America/Chicago
BEGIN:DAYLIGHT
TZOFFSETFROM:-0600
TZOFFSETTO:-0500
TZNAME:CDT
DTSTART:20230312T080000
END:DAYLIGHT
BEGIN:STANDARD
TZOFFSETFROM:-0500
TZOFFSETTO:-0600
TZNAME:CST
DTSTART:20231105T070000
END:STANDARD
BEGIN:DAYLIGHT
TZOFFSETFROM:-0600
TZOFFSETTO:-0500
TZNAME:CDT
DTSTART:20240310T080000
END:DAYLIGHT
BEGIN:STANDARD
TZOFFSETFROM:-0500
TZOFFSETTO:-0600
TZNAME:CST
DTSTART:20241103T070000
END:STANDARD
BEGIN:DAYLIGHT
TZOFFSETFROM:-0600
TZOFFSETTO:-0500
TZNAME:CDT
DTSTART:20250309T080000
END:DAYLIGHT
BEGIN:STANDARD
TZOFFSETFROM:-0500
TZOFFSETTO:-0600
TZNAME:CST
DTSTART:20251102T070000
END:STANDARD
END:VTIMEZONE
BEGIN:VEVENT
DTSTART;TZID=America/Chicago:20240111T170000
DTEND;TZID=America/Chicago:20240111T180000
DTSTAMP:20260420T073839
CREATED:20231218T194449Z
LAST-MODIFIED:20240109T211104Z
UID:10001008-1704992400-1704996000@www.ctklsu.org
SUMMARY:Men's Freedom Group
DESCRIPTION:Do you have a problem with lust and sexual sin and desire freedom? Freedom Group provides a space to learn how to recover and be free from lust within a fellowship of brothers who are all pursuing this freedom. If you are interested in trying a meeting\, please email Brennan at bgarriques@ctklsu.org for more information. \nWe will meet in Gonzaga Hall at St. Aloysius Catholic Church\nClick here to see a map of St. Aloysius
URL:https://www.ctklsu.org/event/freedom-2/2024-01-11/
LOCATION:St. Aloysius Catholic Church\, 2025 Stuart Ave\, Baton Rouge\, LA\, 70808
CATEGORIES:Formation
ATTACH;FMTTYPE=image/jpeg:https://www.ctklsu.org/wp-content/uploads/69-1O4A1460-scaled.jpg
END:VEVENT
BEGIN:VEVENT
DTSTART;TZID=America/Chicago:20240118T170000
DTEND;TZID=America/Chicago:20240118T180000
DTSTAMP:20260420T073839
CREATED:20231218T194449Z
LAST-MODIFIED:20240109T211104Z
UID:10001082-1705597200-1705600800@www.ctklsu.org
SUMMARY:Men's Freedom Group
DESCRIPTION:Do you have a problem with lust and sexual sin and desire freedom? Freedom Group provides a space to learn how to recover and be free from lust within a fellowship of brothers who are all pursuing this freedom. If you are interested in trying a meeting\, please email Brennan at bgarriques@ctklsu.org for more information. \nWe will meet in Gonzaga Hall at St. Aloysius Catholic Church\nClick here to see a map of St. Aloysius
URL:https://www.ctklsu.org/event/freedom-2/2024-01-18/
LOCATION:St. Aloysius Catholic Church\, 2025 Stuart Ave\, Baton Rouge\, LA\, 70808
CATEGORIES:Formation
ATTACH;FMTTYPE=image/jpeg:https://www.ctklsu.org/wp-content/uploads/69-1O4A1460-scaled.jpg
END:VEVENT
BEGIN:VEVENT
DTSTART;TZID=America/Chicago:20240122T193000
DTEND;TZID=America/Chicago:20240122T203000
DTSTAMP:20260420T073839
CREATED:20220304T184953Z
LAST-MODIFIED:20240117T225017Z
UID:10001117-1705951800-1705955400@www.ctklsu.org
SUMMARY:Varsity Catholic
DESCRIPTION:All LSU athletes invited to Varsity Catholic Night! Join us in the church for Adoration with praise and worship at 7:30 p.m. followed by a special Mass at 8 p.m. just for athletes! \nQuestions? Contact one of your Varsity Catholic Missionaries: Kelley Hartman or Sebastian Wagner.
URL:https://www.ctklsu.org/event/varsity-catholic/2024-01-22/
LOCATION:CTK\, CTK\, Baton Rouge\, LA\, 70803\, United States
CATEGORIES:Guest Speakers,Social
ATTACH;FMTTYPE=image/jpeg:https://www.ctklsu.org/wp-content/uploads/DavisBove-e1646762775132.jpg
GEO:30.4157757;-91.1750936
X-APPLE-STRUCTURED-LOCATION;VALUE=URI;X-ADDRESS=CTK CTK Baton Rouge LA 70803 United States;X-APPLE-RADIUS=500;X-TITLE=CTK:geo:-91.1750936,30.4157757
END:VEVENT
BEGIN:VEVENT
DTSTART;TZID=America/Chicago:20240125T170000
DTEND;TZID=America/Chicago:20240125T180000
DTSTAMP:20260420T073839
CREATED:20231218T194449Z
LAST-MODIFIED:20240109T211104Z
UID:10001083-1706202000-1706205600@www.ctklsu.org
SUMMARY:Men's Freedom Group
DESCRIPTION:Do you have a problem with lust and sexual sin and desire freedom? Freedom Group provides a space to learn how to recover and be free from lust within a fellowship of brothers who are all pursuing this freedom. If you are interested in trying a meeting\, please email Brennan at bgarriques@ctklsu.org for more information. \nWe will meet in Gonzaga Hall at St. Aloysius Catholic Church\nClick here to see a map of St. Aloysius
URL:https://www.ctklsu.org/event/freedom-2/2024-01-25/
LOCATION:St. Aloysius Catholic Church\, 2025 Stuart Ave\, Baton Rouge\, LA\, 70808
CATEGORIES:Formation
ATTACH;FMTTYPE=image/jpeg:https://www.ctklsu.org/wp-content/uploads/69-1O4A1460-scaled.jpg
END:VEVENT
BEGIN:VEVENT
DTSTART;TZID=America/Chicago:20240130T170000
DTEND;TZID=America/Chicago:20240130T180000
DTSTAMP:20260420T073839
CREATED:20231219T220842Z
LAST-MODIFIED:20231219T221145Z
UID:10000991-1706634000-1706637600@www.ctklsu.org
SUMMARY:School of Prayer
DESCRIPTION:Have you ever struggled to hear God’s voice or to understand what He is speaking to you? Are you new to a relationship with Christ or are you just feeling stuck in your prayer life? Have you ever discovered the power of silence? All are welcome to join us for the “School of Prayer” on Tuesdays at 5pm beginning January 30th as we dive deeper into what personal prayer really is and how together we can grow in our personal relationship with Christ through prayer. Email Katie Ibarra at ctkschoolofprayer22@gmail.com for more information. \nWe will meet in the Tracy classroom (upstairs in the admin building)
URL:https://www.ctklsu.org/event/school-of-prayer/2024-01-30/
LOCATION:CTK\, CTK\, Baton Rouge\, LA\, 70803\, United States
CATEGORIES:Formation,Prayer
ATTACH;FMTTYPE=image/jpeg:https://www.ctklsu.org/wp-content/uploads/IMG_8355-scaled.jpg
GEO:30.4157757;-91.1750936
X-APPLE-STRUCTURED-LOCATION;VALUE=URI;X-ADDRESS=CTK CTK Baton Rouge LA 70803 United States;X-APPLE-RADIUS=500;X-TITLE=CTK:geo:-91.1750936,30.4157757
END:VEVENT
END:VCALENDAR