BEGIN:VCALENDAR
VERSION:2.0
PRODID:-//Christ The King - ECPv6.15.20//NONSGML v1.0//EN
CALSCALE:GREGORIAN
METHOD:PUBLISH
X-WR-CALNAME:Christ The King
X-ORIGINAL-URL:https://www.ctklsu.org
X-WR-CALDESC:Events for Christ The King
REFRESH-INTERVAL;VALUE=DURATION:PT1H
X-Robots-Tag:noindex
X-PUBLISHED-TTL:PT1H
BEGIN:VTIMEZONE
TZID:America/Chicago
BEGIN:DAYLIGHT
TZOFFSETFROM:-0600
TZOFFSETTO:-0500
TZNAME:CDT
DTSTART:20220313T080000
END:DAYLIGHT
BEGIN:STANDARD
TZOFFSETFROM:-0500
TZOFFSETTO:-0600
TZNAME:CST
DTSTART:20221106T070000
END:STANDARD
BEGIN:DAYLIGHT
TZOFFSETFROM:-0600
TZOFFSETTO:-0500
TZNAME:CDT
DTSTART:20230312T080000
END:DAYLIGHT
BEGIN:STANDARD
TZOFFSETFROM:-0500
TZOFFSETTO:-0600
TZNAME:CST
DTSTART:20231105T070000
END:STANDARD
BEGIN:DAYLIGHT
TZOFFSETFROM:-0600
TZOFFSETTO:-0500
TZNAME:CDT
DTSTART:20240310T080000
END:DAYLIGHT
BEGIN:STANDARD
TZOFFSETFROM:-0500
TZOFFSETTO:-0600
TZNAME:CST
DTSTART:20241103T070000
END:STANDARD
END:VTIMEZONE
BEGIN:VEVENT
DTSTART;VALUE=DATE:20231001
DTEND;VALUE=DATE:20231002
DTSTAMP:20260419T110556
CREATED:20221111T160118Z
LAST-MODIFIED:20230921T212154Z
UID:10000841-1696118400-1696204799@www.ctklsu.org
SUMMARY:Women's Spiritual Direction
DESCRIPTION:We will have two Dominican Sisters from Nashville visiting us Sunday\, October 1st! They will be available for spiritual direction on Sunday afternoon\, so please use the button to sign up!
URL:https://www.ctklsu.org/event/womens-spiritual-direction/
LOCATION:CTK\, CTK\, Baton Rouge\, LA\, 70803\, United States
CATEGORIES:Formation,Prayer
ATTACH;FMTTYPE=image/jpeg:https://www.ctklsu.org/wp-content/uploads/qtq80-AhvKmI.jpeg
GEO:30.4157757;-91.1750936
X-APPLE-STRUCTURED-LOCATION;VALUE=URI;X-ADDRESS=CTK CTK Baton Rouge LA 70803 United States;X-APPLE-RADIUS=500;X-TITLE=CTK:geo:-91.1750936,30.4157757
END:VEVENT
BEGIN:VEVENT
DTSTART;TZID=America/Chicago:20231011T183000
DTEND;TZID=America/Chicago:20231011T210000
DTSTAMP:20260419T110556
CREATED:20230919T212659Z
LAST-MODIFIED:20230919T212659Z
UID:10001022-1697049000-1697058000@www.ctklsu.org
SUMMARY:Intercessory Prayer Talk
DESCRIPTION:Join us for a night of intercessory prayer with guest speakers Katie Ibarra\, Rachel Haydel\, and Kevin McCall. We will have talks on the importance of vocal prayer\, how to pray out loud with others\, and time to practice intercessory prayer. The night will end with Alive praise and worship in the chapel with prayer teams. Reach out to Rachel with questions at Rhaydel@ctklsu.org
URL:https://www.ctklsu.org/event/intercessory-prayer-talk/
LOCATION:CTK\, CTK\, Baton Rouge\, LA\, 70803\, United States
CATEGORIES:Formation,Guest Speakers,Prayer
ATTACH;FMTTYPE=image/jpeg:https://www.ctklsu.org/wp-content/uploads/232-1O4A2543-scaled.jpg
GEO:30.4157757;-91.1750936
X-APPLE-STRUCTURED-LOCATION;VALUE=URI;X-ADDRESS=CTK CTK Baton Rouge LA 70803 United States;X-APPLE-RADIUS=500;X-TITLE=CTK:geo:-91.1750936,30.4157757
END:VEVENT
BEGIN:VEVENT
DTSTART;TZID=America/Chicago:20231018T113000
DTEND;TZID=America/Chicago:20231018T133000
DTSTAMP:20260419T110556
CREATED:20230906T220737Z
LAST-MODIFIED:20230906T223128Z
UID:10001018-1697628600-1697635800@www.ctklsu.org
SUMMARY:Alumni Mass & Luncheon
DESCRIPTION:Join us during your lunch break on October 18th for Mass celebrated by Fr. Mathew Dunn\, pastor of Christ the King at LSU\, followed by a short lunch and ministry updates.  \n\nWHEN: Wednesday\, October 18th\, 2023 \nWHERE: Holy Cross Chapel – 905 Main St.\, Houston\, TX 77002 \nWHO: Alumni\, friends\, & family of LSU/CTK living in Houston \n  \nSCHEDULE OF EVENTS: \n11:35AM – Mass \n12:15PM – Luncheon & Presentation \n1:15PM – Closing Remarks & Sendoff \n  \nparking & directions can be found here \n 
URL:https://www.ctklsu.org/event/alumni-mass-luncheon/
LOCATION:Holy Cross Chapel\, 905 Main Street\, Houston\, TX\, 77002\, United States
CATEGORIES:Featured Event,Guest Speakers,Prayer,Social
ATTACH;FMTTYPE=image/jpeg:https://www.ctklsu.org/wp-content/uploads/380-1O4A3447-scaled.jpg
END:VEVENT
BEGIN:VEVENT
DTSTART;TZID=America/Chicago:20231020T183000
DTEND;TZID=America/Chicago:20231020T210000
DTSTAMP:20260419T110556
CREATED:20231011T180851Z
LAST-MODIFIED:20231011T180851Z
UID:10001030-1697826600-1697835600@www.ctklsu.org
SUMMARY:Women's Painting Night
DESCRIPTION:Join women’s ministry for a movie and painting night at Christ the King on Friday October 20 6:30-9:00! Bring a pumpkin to paint and come hang out! If you have paint and brushes to share\, please bring them.
URL:https://www.ctklsu.org/event/womens-painting-night/
LOCATION:CTK\, CTK\, Baton Rouge\, LA\, 70803\, United States
CATEGORIES:Social,Women's Ministry
ATTACH;FMTTYPE=image/png:https://www.ctklsu.org/wp-content/uploads/painting-and-movie-night.png
GEO:30.4157757;-91.1750936
X-APPLE-STRUCTURED-LOCATION;VALUE=URI;X-ADDRESS=CTK CTK Baton Rouge LA 70803 United States;X-APPLE-RADIUS=500;X-TITLE=CTK:geo:-91.1750936,30.4157757
END:VEVENT
BEGIN:VEVENT
DTSTART;TZID=America/Chicago:20231030T190000
DTEND;TZID=America/Chicago:20231030T200000
DTSTAMP:20260419T110556
CREATED:20231017T181752Z
LAST-MODIFIED:20231017T181752Z
UID:10001033-1698692400-1698696000@www.ctklsu.org
SUMMARY:ALP Info Session
DESCRIPTION:Chris Baker from ALP adventure pilgrimages is returning again to CTK to provide an informational meeting about next summer’s adventure pilgrimage to Switzerland\, France and Italy (July 16-27\, 2024). Come hear more about this exciting and unique opportunity to hike in the Swiss and Italian alps\, swim and kayak in the French Riviera\, visit the shrine of Our Lady of LaSalette\, the Grand Chartreuse\, the tomb of St. Francis de Sales\, the cave where St. Mary Magdelen lived and died after leaving the Holy Land and more! \nInfo session:\nMonday\, October 30th\n7-8pm\nCTK Activity Center \nQuestions? Contact Scott at sjohnson@ctklsu.org.
URL:https://www.ctklsu.org/event/alp-info-session/
LOCATION:CTK\, CTK\, Baton Rouge\, LA\, 70803\, United States
CATEGORIES:Guest Speakers
ATTACH;FMTTYPE=image/jpeg:https://www.ctklsu.org/wp-content/uploads/102-1O4A1634-scaled.jpg
GEO:30.4157757;-91.1750936
X-APPLE-STRUCTURED-LOCATION;VALUE=URI;X-ADDRESS=CTK CTK Baton Rouge LA 70803 United States;X-APPLE-RADIUS=500;X-TITLE=CTK:geo:-91.1750936,30.4157757
END:VEVENT
END:VCALENDAR