BEGIN:VCALENDAR
VERSION:2.0
PRODID:-//Christ The King - ECPv6.15.20//NONSGML v1.0//EN
CALSCALE:GREGORIAN
METHOD:PUBLISH
X-ORIGINAL-URL:https://www.ctklsu.org
X-WR-CALDESC:Events for Christ The King
REFRESH-INTERVAL;VALUE=DURATION:PT1H
X-Robots-Tag:noindex
X-PUBLISHED-TTL:PT1H
BEGIN:VTIMEZONE
TZID:America/Chicago
BEGIN:DAYLIGHT
TZOFFSETFROM:-0600
TZOFFSETTO:-0500
TZNAME:CDT
DTSTART:20260308T080000
END:DAYLIGHT
BEGIN:STANDARD
TZOFFSETFROM:-0500
TZOFFSETTO:-0600
TZNAME:CST
DTSTART:20261101T070000
END:STANDARD
BEGIN:DAYLIGHT
TZOFFSETFROM:-0600
TZOFFSETTO:-0500
TZNAME:CDT
DTSTART:20270314T080000
END:DAYLIGHT
BEGIN:STANDARD
TZOFFSETFROM:-0500
TZOFFSETTO:-0600
TZNAME:CST
DTSTART:20271107T070000
END:STANDARD
BEGIN:DAYLIGHT
TZOFFSETFROM:-0600
TZOFFSETTO:-0500
TZNAME:CDT
DTSTART:20280312T080000
END:DAYLIGHT
BEGIN:STANDARD
TZOFFSETFROM:-0500
TZOFFSETTO:-0600
TZNAME:CST
DTSTART:20281105T070000
END:STANDARD
END:VTIMEZONE
BEGIN:VEVENT
DTSTART;TZID=America/Chicago:20270315T170000
DTEND;TZID=America/Chicago:20270315T180000
DTSTAMP:20260420T015028
CREATED:20250901T143934Z
LAST-MODIFIED:20250907T184051Z
UID:10001928-1805130000-1805133600@www.ctklsu.org
SUMMARY:Men's Holy Hour
DESCRIPTION:All men are invited to join us every Monday in the Adoration Chapel for our Men’s Holy Hour from 5-6 p.m.
URL:https://www.ctklsu.org/event/mens-holy-hour-2/2027-03-15/
LOCATION:CTK\, CTK\, Baton Rouge\, LA\, 70803\, United States
CATEGORIES:Men's Ministry,Prayer
ATTACH;FMTTYPE=image/jpeg:https://www.ctklsu.org/wp-content/uploads/CTKAdorationnight-024-scaled.jpg
GEO:30.4157757;-91.1750936
X-APPLE-STRUCTURED-LOCATION;VALUE=URI;X-ADDRESS=CTK CTK Baton Rouge LA 70803 United States;X-APPLE-RADIUS=500;X-TITLE=CTK:geo:-91.1750936,30.4157757
END:VEVENT
BEGIN:VEVENT
DTSTART;TZID=America/Chicago:20270318T170000
DTEND;TZID=America/Chicago:20270318T180000
DTSTAMP:20260420T015028
CREATED:20260108T200604Z
LAST-MODIFIED:20260108T200606Z
UID:10002184-1805389200-1805392800@www.ctklsu.org
SUMMARY:Men's Freedom Group
DESCRIPTION:Do you struggle with lust and sexual sin and desire freedom? Freedom Group provides a space to learn how to recover and be free from lust within a fellowship of brothers who are all pursuing this freedom. If you are interested in trying a meeting\, please email Bryce at bpellegrin@ctklsu.org for more information.
URL:https://www.ctklsu.org/event/freedom-group-2/2027-03-18/
LOCATION:St. Aloysius Catholic Church\, 2025 Stuart Ave\, Baton Rouge\, LA\, 70808
CATEGORIES:Formation
ATTACH;FMTTYPE=image/jpeg:https://www.ctklsu.org/wp-content/uploads/69-1O4A1460-scaled.jpg
END:VEVENT
BEGIN:VEVENT
DTSTART;TZID=America/Chicago:20270322T170000
DTEND;TZID=America/Chicago:20270322T180000
DTSTAMP:20260420T015028
CREATED:20250901T143934Z
LAST-MODIFIED:20250907T184051Z
UID:10001929-1805734800-1805738400@www.ctklsu.org
SUMMARY:Men's Holy Hour
DESCRIPTION:All men are invited to join us every Monday in the Adoration Chapel for our Men’s Holy Hour from 5-6 p.m.
URL:https://www.ctklsu.org/event/mens-holy-hour-2/2027-03-22/
LOCATION:CTK\, CTK\, Baton Rouge\, LA\, 70803\, United States
CATEGORIES:Men's Ministry,Prayer
ATTACH;FMTTYPE=image/jpeg:https://www.ctklsu.org/wp-content/uploads/CTKAdorationnight-024-scaled.jpg
GEO:30.4157757;-91.1750936
X-APPLE-STRUCTURED-LOCATION;VALUE=URI;X-ADDRESS=CTK CTK Baton Rouge LA 70803 United States;X-APPLE-RADIUS=500;X-TITLE=CTK:geo:-91.1750936,30.4157757
END:VEVENT
BEGIN:VEVENT
DTSTART;TZID=America/Chicago:20270325T170000
DTEND;TZID=America/Chicago:20270325T180000
DTSTAMP:20260420T015028
CREATED:20260108T200604Z
LAST-MODIFIED:20260108T200606Z
UID:10002185-1805994000-1805997600@www.ctklsu.org
SUMMARY:Men's Freedom Group
DESCRIPTION:Do you struggle with lust and sexual sin and desire freedom? Freedom Group provides a space to learn how to recover and be free from lust within a fellowship of brothers who are all pursuing this freedom. If you are interested in trying a meeting\, please email Bryce at bpellegrin@ctklsu.org for more information.
URL:https://www.ctklsu.org/event/freedom-group-2/2027-03-25/
LOCATION:St. Aloysius Catholic Church\, 2025 Stuart Ave\, Baton Rouge\, LA\, 70808
CATEGORIES:Formation
ATTACH;FMTTYPE=image/jpeg:https://www.ctklsu.org/wp-content/uploads/69-1O4A1460-scaled.jpg
END:VEVENT
BEGIN:VEVENT
DTSTART;TZID=America/Chicago:20270329T170000
DTEND;TZID=America/Chicago:20270329T180000
DTSTAMP:20260420T015028
CREATED:20250901T143934Z
LAST-MODIFIED:20250907T184051Z
UID:10001930-1806339600-1806343200@www.ctklsu.org
SUMMARY:Men's Holy Hour
DESCRIPTION:All men are invited to join us every Monday in the Adoration Chapel for our Men’s Holy Hour from 5-6 p.m.
URL:https://www.ctklsu.org/event/mens-holy-hour-2/2027-03-29/
LOCATION:CTK\, CTK\, Baton Rouge\, LA\, 70803\, United States
CATEGORIES:Men's Ministry,Prayer
ATTACH;FMTTYPE=image/jpeg:https://www.ctklsu.org/wp-content/uploads/CTKAdorationnight-024-scaled.jpg
GEO:30.4157757;-91.1750936
X-APPLE-STRUCTURED-LOCATION;VALUE=URI;X-ADDRESS=CTK CTK Baton Rouge LA 70803 United States;X-APPLE-RADIUS=500;X-TITLE=CTK:geo:-91.1750936,30.4157757
END:VEVENT
BEGIN:VEVENT
DTSTART;TZID=America/Chicago:20270401T170000
DTEND;TZID=America/Chicago:20270401T180000
DTSTAMP:20260420T015028
CREATED:20260108T200604Z
LAST-MODIFIED:20260108T200606Z
UID:10002186-1806598800-1806602400@www.ctklsu.org
SUMMARY:Men's Freedom Group
DESCRIPTION:Do you struggle with lust and sexual sin and desire freedom? Freedom Group provides a space to learn how to recover and be free from lust within a fellowship of brothers who are all pursuing this freedom. If you are interested in trying a meeting\, please email Bryce at bpellegrin@ctklsu.org for more information.
URL:https://www.ctklsu.org/event/freedom-group-2/2027-04-01/
LOCATION:St. Aloysius Catholic Church\, 2025 Stuart Ave\, Baton Rouge\, LA\, 70808
CATEGORIES:Formation
ATTACH;FMTTYPE=image/jpeg:https://www.ctklsu.org/wp-content/uploads/69-1O4A1460-scaled.jpg
END:VEVENT
BEGIN:VEVENT
DTSTART;TZID=America/Chicago:20270405T170000
DTEND;TZID=America/Chicago:20270405T180000
DTSTAMP:20260420T015028
CREATED:20250901T143934Z
LAST-MODIFIED:20250907T184051Z
UID:10001931-1806944400-1806948000@www.ctklsu.org
SUMMARY:Men's Holy Hour
DESCRIPTION:All men are invited to join us every Monday in the Adoration Chapel for our Men’s Holy Hour from 5-6 p.m.
URL:https://www.ctklsu.org/event/mens-holy-hour-2/2027-04-05/
LOCATION:CTK\, CTK\, Baton Rouge\, LA\, 70803\, United States
CATEGORIES:Men's Ministry,Prayer
ATTACH;FMTTYPE=image/jpeg:https://www.ctklsu.org/wp-content/uploads/CTKAdorationnight-024-scaled.jpg
GEO:30.4157757;-91.1750936
X-APPLE-STRUCTURED-LOCATION;VALUE=URI;X-ADDRESS=CTK CTK Baton Rouge LA 70803 United States;X-APPLE-RADIUS=500;X-TITLE=CTK:geo:-91.1750936,30.4157757
END:VEVENT
BEGIN:VEVENT
DTSTART;TZID=America/Chicago:20270408T170000
DTEND;TZID=America/Chicago:20270408T180000
DTSTAMP:20260420T015028
CREATED:20260108T200604Z
LAST-MODIFIED:20260108T200606Z
UID:10002187-1807203600-1807207200@www.ctklsu.org
SUMMARY:Men's Freedom Group
DESCRIPTION:Do you struggle with lust and sexual sin and desire freedom? Freedom Group provides a space to learn how to recover and be free from lust within a fellowship of brothers who are all pursuing this freedom. If you are interested in trying a meeting\, please email Bryce at bpellegrin@ctklsu.org for more information.
URL:https://www.ctklsu.org/event/freedom-group-2/2027-04-08/
LOCATION:St. Aloysius Catholic Church\, 2025 Stuart Ave\, Baton Rouge\, LA\, 70808
CATEGORIES:Formation
ATTACH;FMTTYPE=image/jpeg:https://www.ctklsu.org/wp-content/uploads/69-1O4A1460-scaled.jpg
END:VEVENT
BEGIN:VEVENT
DTSTART;TZID=America/Chicago:20270412T170000
DTEND;TZID=America/Chicago:20270412T180000
DTSTAMP:20260420T015028
CREATED:20250901T143934Z
LAST-MODIFIED:20250907T184051Z
UID:10001932-1807549200-1807552800@www.ctklsu.org
SUMMARY:Men's Holy Hour
DESCRIPTION:All men are invited to join us every Monday in the Adoration Chapel for our Men’s Holy Hour from 5-6 p.m.
URL:https://www.ctklsu.org/event/mens-holy-hour-2/2027-04-12/
LOCATION:CTK\, CTK\, Baton Rouge\, LA\, 70803\, United States
CATEGORIES:Men's Ministry,Prayer
ATTACH;FMTTYPE=image/jpeg:https://www.ctklsu.org/wp-content/uploads/CTKAdorationnight-024-scaled.jpg
GEO:30.4157757;-91.1750936
X-APPLE-STRUCTURED-LOCATION;VALUE=URI;X-ADDRESS=CTK CTK Baton Rouge LA 70803 United States;X-APPLE-RADIUS=500;X-TITLE=CTK:geo:-91.1750936,30.4157757
END:VEVENT
BEGIN:VEVENT
DTSTART;TZID=America/Chicago:20270415T170000
DTEND;TZID=America/Chicago:20270415T180000
DTSTAMP:20260420T015028
CREATED:20260108T200604Z
LAST-MODIFIED:20260108T200606Z
UID:10002188-1807808400-1807812000@www.ctklsu.org
SUMMARY:Men's Freedom Group
DESCRIPTION:Do you struggle with lust and sexual sin and desire freedom? Freedom Group provides a space to learn how to recover and be free from lust within a fellowship of brothers who are all pursuing this freedom. If you are interested in trying a meeting\, please email Bryce at bpellegrin@ctklsu.org for more information.
URL:https://www.ctklsu.org/event/freedom-group-2/2027-04-15/
LOCATION:St. Aloysius Catholic Church\, 2025 Stuart Ave\, Baton Rouge\, LA\, 70808
CATEGORIES:Formation
ATTACH;FMTTYPE=image/jpeg:https://www.ctklsu.org/wp-content/uploads/69-1O4A1460-scaled.jpg
END:VEVENT
BEGIN:VEVENT
DTSTART;TZID=America/Chicago:20270419T170000
DTEND;TZID=America/Chicago:20270419T180000
DTSTAMP:20260420T015028
CREATED:20250901T143934Z
LAST-MODIFIED:20250907T184051Z
UID:10001933-1808154000-1808157600@www.ctklsu.org
SUMMARY:Men's Holy Hour
DESCRIPTION:All men are invited to join us every Monday in the Adoration Chapel for our Men’s Holy Hour from 5-6 p.m.
URL:https://www.ctklsu.org/event/mens-holy-hour-2/2027-04-19/
LOCATION:CTK\, CTK\, Baton Rouge\, LA\, 70803\, United States
CATEGORIES:Men's Ministry,Prayer
ATTACH;FMTTYPE=image/jpeg:https://www.ctklsu.org/wp-content/uploads/CTKAdorationnight-024-scaled.jpg
GEO:30.4157757;-91.1750936
X-APPLE-STRUCTURED-LOCATION;VALUE=URI;X-ADDRESS=CTK CTK Baton Rouge LA 70803 United States;X-APPLE-RADIUS=500;X-TITLE=CTK:geo:-91.1750936,30.4157757
END:VEVENT
BEGIN:VEVENT
DTSTART;TZID=America/Chicago:20270422T170000
DTEND;TZID=America/Chicago:20270422T180000
DTSTAMP:20260420T015028
CREATED:20260108T200604Z
LAST-MODIFIED:20260108T200606Z
UID:10002189-1808413200-1808416800@www.ctklsu.org
SUMMARY:Men's Freedom Group
DESCRIPTION:Do you struggle with lust and sexual sin and desire freedom? Freedom Group provides a space to learn how to recover and be free from lust within a fellowship of brothers who are all pursuing this freedom. If you are interested in trying a meeting\, please email Bryce at bpellegrin@ctklsu.org for more information.
URL:https://www.ctklsu.org/event/freedom-group-2/2027-04-22/
LOCATION:St. Aloysius Catholic Church\, 2025 Stuart Ave\, Baton Rouge\, LA\, 70808
CATEGORIES:Formation
ATTACH;FMTTYPE=image/jpeg:https://www.ctklsu.org/wp-content/uploads/69-1O4A1460-scaled.jpg
END:VEVENT
BEGIN:VEVENT
DTSTART;TZID=America/Chicago:20270426T170000
DTEND;TZID=America/Chicago:20270426T180000
DTSTAMP:20260420T015028
CREATED:20250901T143934Z
LAST-MODIFIED:20250907T184051Z
UID:10001934-1808758800-1808762400@www.ctklsu.org
SUMMARY:Men's Holy Hour
DESCRIPTION:All men are invited to join us every Monday in the Adoration Chapel for our Men’s Holy Hour from 5-6 p.m.
URL:https://www.ctklsu.org/event/mens-holy-hour-2/2027-04-26/
LOCATION:CTK\, CTK\, Baton Rouge\, LA\, 70803\, United States
CATEGORIES:Men's Ministry,Prayer
ATTACH;FMTTYPE=image/jpeg:https://www.ctklsu.org/wp-content/uploads/CTKAdorationnight-024-scaled.jpg
GEO:30.4157757;-91.1750936
X-APPLE-STRUCTURED-LOCATION;VALUE=URI;X-ADDRESS=CTK CTK Baton Rouge LA 70803 United States;X-APPLE-RADIUS=500;X-TITLE=CTK:geo:-91.1750936,30.4157757
END:VEVENT
BEGIN:VEVENT
DTSTART;TZID=America/Chicago:20270429T170000
DTEND;TZID=America/Chicago:20270429T180000
DTSTAMP:20260420T015028
CREATED:20260108T200604Z
LAST-MODIFIED:20260108T200606Z
UID:10002190-1809018000-1809021600@www.ctklsu.org
SUMMARY:Men's Freedom Group
DESCRIPTION:Do you struggle with lust and sexual sin and desire freedom? Freedom Group provides a space to learn how to recover and be free from lust within a fellowship of brothers who are all pursuing this freedom. If you are interested in trying a meeting\, please email Bryce at bpellegrin@ctklsu.org for more information.
URL:https://www.ctklsu.org/event/freedom-group-2/2027-04-29/
LOCATION:St. Aloysius Catholic Church\, 2025 Stuart Ave\, Baton Rouge\, LA\, 70808
CATEGORIES:Formation
ATTACH;FMTTYPE=image/jpeg:https://www.ctklsu.org/wp-content/uploads/69-1O4A1460-scaled.jpg
END:VEVENT
BEGIN:VEVENT
DTSTART;TZID=America/Chicago:20270503T170000
DTEND;TZID=America/Chicago:20270503T180000
DTSTAMP:20260420T015028
CREATED:20250901T143934Z
LAST-MODIFIED:20250907T184051Z
UID:10001935-1809363600-1809367200@www.ctklsu.org
SUMMARY:Men's Holy Hour
DESCRIPTION:All men are invited to join us every Monday in the Adoration Chapel for our Men’s Holy Hour from 5-6 p.m.
URL:https://www.ctklsu.org/event/mens-holy-hour-2/2027-05-03/
LOCATION:CTK\, CTK\, Baton Rouge\, LA\, 70803\, United States
CATEGORIES:Men's Ministry,Prayer
ATTACH;FMTTYPE=image/jpeg:https://www.ctklsu.org/wp-content/uploads/CTKAdorationnight-024-scaled.jpg
GEO:30.4157757;-91.1750936
X-APPLE-STRUCTURED-LOCATION;VALUE=URI;X-ADDRESS=CTK CTK Baton Rouge LA 70803 United States;X-APPLE-RADIUS=500;X-TITLE=CTK:geo:-91.1750936,30.4157757
END:VEVENT
BEGIN:VEVENT
DTSTART;TZID=America/Chicago:20270506T170000
DTEND;TZID=America/Chicago:20270506T180000
DTSTAMP:20260420T015028
CREATED:20260108T200604Z
LAST-MODIFIED:20260108T200606Z
UID:10002191-1809622800-1809626400@www.ctklsu.org
SUMMARY:Men's Freedom Group
DESCRIPTION:Do you struggle with lust and sexual sin and desire freedom? Freedom Group provides a space to learn how to recover and be free from lust within a fellowship of brothers who are all pursuing this freedom. If you are interested in trying a meeting\, please email Bryce at bpellegrin@ctklsu.org for more information.
URL:https://www.ctklsu.org/event/freedom-group-2/2027-05-06/
LOCATION:St. Aloysius Catholic Church\, 2025 Stuart Ave\, Baton Rouge\, LA\, 70808
CATEGORIES:Formation
ATTACH;FMTTYPE=image/jpeg:https://www.ctklsu.org/wp-content/uploads/69-1O4A1460-scaled.jpg
END:VEVENT
BEGIN:VEVENT
DTSTART;TZID=America/Chicago:20270510T170000
DTEND;TZID=America/Chicago:20270510T180000
DTSTAMP:20260420T015028
CREATED:20250901T143934Z
LAST-MODIFIED:20250907T184051Z
UID:10001936-1809968400-1809972000@www.ctklsu.org
SUMMARY:Men's Holy Hour
DESCRIPTION:All men are invited to join us every Monday in the Adoration Chapel for our Men’s Holy Hour from 5-6 p.m.
URL:https://www.ctklsu.org/event/mens-holy-hour-2/2027-05-10/
LOCATION:CTK\, CTK\, Baton Rouge\, LA\, 70803\, United States
CATEGORIES:Men's Ministry,Prayer
ATTACH;FMTTYPE=image/jpeg:https://www.ctklsu.org/wp-content/uploads/CTKAdorationnight-024-scaled.jpg
GEO:30.4157757;-91.1750936
X-APPLE-STRUCTURED-LOCATION;VALUE=URI;X-ADDRESS=CTK CTK Baton Rouge LA 70803 United States;X-APPLE-RADIUS=500;X-TITLE=CTK:geo:-91.1750936,30.4157757
END:VEVENT
BEGIN:VEVENT
DTSTART;TZID=America/Chicago:20270513T170000
DTEND;TZID=America/Chicago:20270513T180000
DTSTAMP:20260420T015028
CREATED:20260108T200604Z
LAST-MODIFIED:20260108T200606Z
UID:10002192-1810227600-1810231200@www.ctklsu.org
SUMMARY:Men's Freedom Group
DESCRIPTION:Do you struggle with lust and sexual sin and desire freedom? Freedom Group provides a space to learn how to recover and be free from lust within a fellowship of brothers who are all pursuing this freedom. If you are interested in trying a meeting\, please email Bryce at bpellegrin@ctklsu.org for more information.
URL:https://www.ctklsu.org/event/freedom-group-2/2027-05-13/
LOCATION:St. Aloysius Catholic Church\, 2025 Stuart Ave\, Baton Rouge\, LA\, 70808
CATEGORIES:Formation
ATTACH;FMTTYPE=image/jpeg:https://www.ctklsu.org/wp-content/uploads/69-1O4A1460-scaled.jpg
END:VEVENT
BEGIN:VEVENT
DTSTART;TZID=America/Chicago:20270517T170000
DTEND;TZID=America/Chicago:20270517T180000
DTSTAMP:20260420T015028
CREATED:20250901T143934Z
LAST-MODIFIED:20250907T184051Z
UID:10001937-1810573200-1810576800@www.ctklsu.org
SUMMARY:Men's Holy Hour
DESCRIPTION:All men are invited to join us every Monday in the Adoration Chapel for our Men’s Holy Hour from 5-6 p.m.
URL:https://www.ctklsu.org/event/mens-holy-hour-2/2027-05-17/
LOCATION:CTK\, CTK\, Baton Rouge\, LA\, 70803\, United States
CATEGORIES:Men's Ministry,Prayer
ATTACH;FMTTYPE=image/jpeg:https://www.ctklsu.org/wp-content/uploads/CTKAdorationnight-024-scaled.jpg
GEO:30.4157757;-91.1750936
X-APPLE-STRUCTURED-LOCATION;VALUE=URI;X-ADDRESS=CTK CTK Baton Rouge LA 70803 United States;X-APPLE-RADIUS=500;X-TITLE=CTK:geo:-91.1750936,30.4157757
END:VEVENT
BEGIN:VEVENT
DTSTART;TZID=America/Chicago:20270520T170000
DTEND;TZID=America/Chicago:20270520T180000
DTSTAMP:20260420T015028
CREATED:20260108T200604Z
LAST-MODIFIED:20260108T200606Z
UID:10002193-1810832400-1810836000@www.ctklsu.org
SUMMARY:Men's Freedom Group
DESCRIPTION:Do you struggle with lust and sexual sin and desire freedom? Freedom Group provides a space to learn how to recover and be free from lust within a fellowship of brothers who are all pursuing this freedom. If you are interested in trying a meeting\, please email Bryce at bpellegrin@ctklsu.org for more information.
URL:https://www.ctklsu.org/event/freedom-group-2/2027-05-20/
LOCATION:St. Aloysius Catholic Church\, 2025 Stuart Ave\, Baton Rouge\, LA\, 70808
CATEGORIES:Formation
ATTACH;FMTTYPE=image/jpeg:https://www.ctklsu.org/wp-content/uploads/69-1O4A1460-scaled.jpg
END:VEVENT
BEGIN:VEVENT
DTSTART;TZID=America/Chicago:20270524T170000
DTEND;TZID=America/Chicago:20270524T180000
DTSTAMP:20260420T015028
CREATED:20250901T143934Z
LAST-MODIFIED:20250907T184051Z
UID:10001938-1811178000-1811181600@www.ctklsu.org
SUMMARY:Men's Holy Hour
DESCRIPTION:All men are invited to join us every Monday in the Adoration Chapel for our Men’s Holy Hour from 5-6 p.m.
URL:https://www.ctklsu.org/event/mens-holy-hour-2/2027-05-24/
LOCATION:CTK\, CTK\, Baton Rouge\, LA\, 70803\, United States
CATEGORIES:Men's Ministry,Prayer
ATTACH;FMTTYPE=image/jpeg:https://www.ctklsu.org/wp-content/uploads/CTKAdorationnight-024-scaled.jpg
GEO:30.4157757;-91.1750936
X-APPLE-STRUCTURED-LOCATION;VALUE=URI;X-ADDRESS=CTK CTK Baton Rouge LA 70803 United States;X-APPLE-RADIUS=500;X-TITLE=CTK:geo:-91.1750936,30.4157757
END:VEVENT
BEGIN:VEVENT
DTSTART;TZID=America/Chicago:20270527T170000
DTEND;TZID=America/Chicago:20270527T180000
DTSTAMP:20260420T015028
CREATED:20260108T200604Z
LAST-MODIFIED:20260108T200606Z
UID:10002194-1811437200-1811440800@www.ctklsu.org
SUMMARY:Men's Freedom Group
DESCRIPTION:Do you struggle with lust and sexual sin and desire freedom? Freedom Group provides a space to learn how to recover and be free from lust within a fellowship of brothers who are all pursuing this freedom. If you are interested in trying a meeting\, please email Bryce at bpellegrin@ctklsu.org for more information.
URL:https://www.ctklsu.org/event/freedom-group-2/2027-05-27/
LOCATION:St. Aloysius Catholic Church\, 2025 Stuart Ave\, Baton Rouge\, LA\, 70808
CATEGORIES:Formation
ATTACH;FMTTYPE=image/jpeg:https://www.ctklsu.org/wp-content/uploads/69-1O4A1460-scaled.jpg
END:VEVENT
BEGIN:VEVENT
DTSTART;TZID=America/Chicago:20270531T170000
DTEND;TZID=America/Chicago:20270531T180000
DTSTAMP:20260420T015028
CREATED:20250901T143934Z
LAST-MODIFIED:20250907T184051Z
UID:10001939-1811782800-1811786400@www.ctklsu.org
SUMMARY:Men's Holy Hour
DESCRIPTION:All men are invited to join us every Monday in the Adoration Chapel for our Men’s Holy Hour from 5-6 p.m.
URL:https://www.ctklsu.org/event/mens-holy-hour-2/2027-05-31/
LOCATION:CTK\, CTK\, Baton Rouge\, LA\, 70803\, United States
CATEGORIES:Men's Ministry,Prayer
ATTACH;FMTTYPE=image/jpeg:https://www.ctklsu.org/wp-content/uploads/CTKAdorationnight-024-scaled.jpg
GEO:30.4157757;-91.1750936
X-APPLE-STRUCTURED-LOCATION;VALUE=URI;X-ADDRESS=CTK CTK Baton Rouge LA 70803 United States;X-APPLE-RADIUS=500;X-TITLE=CTK:geo:-91.1750936,30.4157757
END:VEVENT
BEGIN:VEVENT
DTSTART;TZID=America/Chicago:20270603T170000
DTEND;TZID=America/Chicago:20270603T180000
DTSTAMP:20260420T015028
CREATED:20260108T200604Z
LAST-MODIFIED:20260108T200606Z
UID:10002195-1812042000-1812045600@www.ctklsu.org
SUMMARY:Men's Freedom Group
DESCRIPTION:Do you struggle with lust and sexual sin and desire freedom? Freedom Group provides a space to learn how to recover and be free from lust within a fellowship of brothers who are all pursuing this freedom. If you are interested in trying a meeting\, please email Bryce at bpellegrin@ctklsu.org for more information.
URL:https://www.ctklsu.org/event/freedom-group-2/2027-06-03/
LOCATION:St. Aloysius Catholic Church\, 2025 Stuart Ave\, Baton Rouge\, LA\, 70808
CATEGORIES:Formation
ATTACH;FMTTYPE=image/jpeg:https://www.ctklsu.org/wp-content/uploads/69-1O4A1460-scaled.jpg
END:VEVENT
BEGIN:VEVENT
DTSTART;TZID=America/Chicago:20270607T170000
DTEND;TZID=America/Chicago:20270607T180000
DTSTAMP:20260420T015028
CREATED:20250901T143934Z
LAST-MODIFIED:20250907T184051Z
UID:10001940-1812387600-1812391200@www.ctklsu.org
SUMMARY:Men's Holy Hour
DESCRIPTION:All men are invited to join us every Monday in the Adoration Chapel for our Men’s Holy Hour from 5-6 p.m.
URL:https://www.ctklsu.org/event/mens-holy-hour-2/2027-06-07/
LOCATION:CTK\, CTK\, Baton Rouge\, LA\, 70803\, United States
CATEGORIES:Men's Ministry,Prayer
ATTACH;FMTTYPE=image/jpeg:https://www.ctklsu.org/wp-content/uploads/CTKAdorationnight-024-scaled.jpg
GEO:30.4157757;-91.1750936
X-APPLE-STRUCTURED-LOCATION;VALUE=URI;X-ADDRESS=CTK CTK Baton Rouge LA 70803 United States;X-APPLE-RADIUS=500;X-TITLE=CTK:geo:-91.1750936,30.4157757
END:VEVENT
BEGIN:VEVENT
DTSTART;TZID=America/Chicago:20270610T170000
DTEND;TZID=America/Chicago:20270610T180000
DTSTAMP:20260420T015028
CREATED:20260108T200604Z
LAST-MODIFIED:20260108T200606Z
UID:10002196-1812646800-1812650400@www.ctklsu.org
SUMMARY:Men's Freedom Group
DESCRIPTION:Do you struggle with lust and sexual sin and desire freedom? Freedom Group provides a space to learn how to recover and be free from lust within a fellowship of brothers who are all pursuing this freedom. If you are interested in trying a meeting\, please email Bryce at bpellegrin@ctklsu.org for more information.
URL:https://www.ctklsu.org/event/freedom-group-2/2027-06-10/
LOCATION:St. Aloysius Catholic Church\, 2025 Stuart Ave\, Baton Rouge\, LA\, 70808
CATEGORIES:Formation
ATTACH;FMTTYPE=image/jpeg:https://www.ctklsu.org/wp-content/uploads/69-1O4A1460-scaled.jpg
END:VEVENT
BEGIN:VEVENT
DTSTART;TZID=America/Chicago:20270614T170000
DTEND;TZID=America/Chicago:20270614T180000
DTSTAMP:20260420T015028
CREATED:20250901T143934Z
LAST-MODIFIED:20250907T184051Z
UID:10001941-1812992400-1812996000@www.ctklsu.org
SUMMARY:Men's Holy Hour
DESCRIPTION:All men are invited to join us every Monday in the Adoration Chapel for our Men’s Holy Hour from 5-6 p.m.
URL:https://www.ctklsu.org/event/mens-holy-hour-2/2027-06-14/
LOCATION:CTK\, CTK\, Baton Rouge\, LA\, 70803\, United States
CATEGORIES:Men's Ministry,Prayer
ATTACH;FMTTYPE=image/jpeg:https://www.ctklsu.org/wp-content/uploads/CTKAdorationnight-024-scaled.jpg
GEO:30.4157757;-91.1750936
X-APPLE-STRUCTURED-LOCATION;VALUE=URI;X-ADDRESS=CTK CTK Baton Rouge LA 70803 United States;X-APPLE-RADIUS=500;X-TITLE=CTK:geo:-91.1750936,30.4157757
END:VEVENT
BEGIN:VEVENT
DTSTART;TZID=America/Chicago:20270617T170000
DTEND;TZID=America/Chicago:20270617T180000
DTSTAMP:20260420T015028
CREATED:20260108T200604Z
LAST-MODIFIED:20260108T200606Z
UID:10002197-1813251600-1813255200@www.ctklsu.org
SUMMARY:Men's Freedom Group
DESCRIPTION:Do you struggle with lust and sexual sin and desire freedom? Freedom Group provides a space to learn how to recover and be free from lust within a fellowship of brothers who are all pursuing this freedom. If you are interested in trying a meeting\, please email Bryce at bpellegrin@ctklsu.org for more information.
URL:https://www.ctklsu.org/event/freedom-group-2/2027-06-17/
LOCATION:St. Aloysius Catholic Church\, 2025 Stuart Ave\, Baton Rouge\, LA\, 70808
CATEGORIES:Formation
ATTACH;FMTTYPE=image/jpeg:https://www.ctklsu.org/wp-content/uploads/69-1O4A1460-scaled.jpg
END:VEVENT
BEGIN:VEVENT
DTSTART;TZID=America/Chicago:20270621T170000
DTEND;TZID=America/Chicago:20270621T180000
DTSTAMP:20260420T015028
CREATED:20250901T143934Z
LAST-MODIFIED:20250907T184051Z
UID:10001942-1813597200-1813600800@www.ctklsu.org
SUMMARY:Men's Holy Hour
DESCRIPTION:All men are invited to join us every Monday in the Adoration Chapel for our Men’s Holy Hour from 5-6 p.m.
URL:https://www.ctklsu.org/event/mens-holy-hour-2/2027-06-21/
LOCATION:CTK\, CTK\, Baton Rouge\, LA\, 70803\, United States
CATEGORIES:Men's Ministry,Prayer
ATTACH;FMTTYPE=image/jpeg:https://www.ctklsu.org/wp-content/uploads/CTKAdorationnight-024-scaled.jpg
GEO:30.4157757;-91.1750936
X-APPLE-STRUCTURED-LOCATION;VALUE=URI;X-ADDRESS=CTK CTK Baton Rouge LA 70803 United States;X-APPLE-RADIUS=500;X-TITLE=CTK:geo:-91.1750936,30.4157757
END:VEVENT
BEGIN:VEVENT
DTSTART;TZID=America/Chicago:20270624T170000
DTEND;TZID=America/Chicago:20270624T180000
DTSTAMP:20260420T015028
CREATED:20260108T200604Z
LAST-MODIFIED:20260108T200606Z
UID:10002198-1813856400-1813860000@www.ctklsu.org
SUMMARY:Men's Freedom Group
DESCRIPTION:Do you struggle with lust and sexual sin and desire freedom? Freedom Group provides a space to learn how to recover and be free from lust within a fellowship of brothers who are all pursuing this freedom. If you are interested in trying a meeting\, please email Bryce at bpellegrin@ctklsu.org for more information.
URL:https://www.ctklsu.org/event/freedom-group-2/2027-06-24/
LOCATION:St. Aloysius Catholic Church\, 2025 Stuart Ave\, Baton Rouge\, LA\, 70808
CATEGORIES:Formation
ATTACH;FMTTYPE=image/jpeg:https://www.ctklsu.org/wp-content/uploads/69-1O4A1460-scaled.jpg
END:VEVENT
END:VCALENDAR