BEGIN:VCALENDAR
VERSION:2.0
PRODID:-//Christ The King - ECPv6.15.20//NONSGML v1.0//EN
CALSCALE:GREGORIAN
METHOD:PUBLISH
X-WR-CALNAME:Christ The King
X-ORIGINAL-URL:https://www.ctklsu.org
X-WR-CALDESC:Events for Christ The King
REFRESH-INTERVAL;VALUE=DURATION:PT1H
X-Robots-Tag:noindex
X-PUBLISHED-TTL:PT1H
BEGIN:VTIMEZONE
TZID:America/Chicago
BEGIN:DAYLIGHT
TZOFFSETFROM:-0600
TZOFFSETTO:-0500
TZNAME:CDT
DTSTART:20250309T080000
END:DAYLIGHT
BEGIN:STANDARD
TZOFFSETFROM:-0500
TZOFFSETTO:-0600
TZNAME:CST
DTSTART:20251102T070000
END:STANDARD
BEGIN:DAYLIGHT
TZOFFSETFROM:-0600
TZOFFSETTO:-0500
TZNAME:CDT
DTSTART:20260308T080000
END:DAYLIGHT
BEGIN:STANDARD
TZOFFSETFROM:-0500
TZOFFSETTO:-0600
TZNAME:CST
DTSTART:20261101T070000
END:STANDARD
BEGIN:DAYLIGHT
TZOFFSETFROM:-0600
TZOFFSETTO:-0500
TZNAME:CDT
DTSTART:20270314T080000
END:DAYLIGHT
BEGIN:STANDARD
TZOFFSETFROM:-0500
TZOFFSETTO:-0600
TZNAME:CST
DTSTART:20271107T070000
END:STANDARD
BEGIN:DAYLIGHT
TZOFFSETFROM:-0600
TZOFFSETTO:-0500
TZNAME:CDT
DTSTART:20280312T080000
END:DAYLIGHT
BEGIN:STANDARD
TZOFFSETFROM:-0500
TZOFFSETTO:-0600
TZNAME:CST
DTSTART:20281105T070000
END:STANDARD
END:VTIMEZONE
BEGIN:VEVENT
DTSTART;TZID=America/Chicago:20261221T170000
DTEND;TZID=America/Chicago:20261221T180000
DTSTAMP:20260419T231247
CREATED:20250901T143934Z
LAST-MODIFIED:20250907T184051Z
UID:10001916-1797872400-1797876000@www.ctklsu.org
SUMMARY:Men's Holy Hour
DESCRIPTION:All men are invited to join us every Monday in the Adoration Chapel for our Men’s Holy Hour from 5-6 p.m.
URL:https://www.ctklsu.org/event/mens-holy-hour-2/2026-12-21/
LOCATION:CTK\, CTK\, Baton Rouge\, LA\, 70803\, United States
CATEGORIES:Men's Ministry,Prayer
ATTACH;FMTTYPE=image/jpeg:https://www.ctklsu.org/wp-content/uploads/CTKAdorationnight-024-scaled.jpg
GEO:30.4157757;-91.1750936
X-APPLE-STRUCTURED-LOCATION;VALUE=URI;X-ADDRESS=CTK CTK Baton Rouge LA 70803 United States;X-APPLE-RADIUS=500;X-TITLE=CTK:geo:-91.1750936,30.4157757
END:VEVENT
BEGIN:VEVENT
DTSTART;TZID=America/Chicago:20261224T170000
DTEND;TZID=America/Chicago:20261224T180000
DTSTAMP:20260419T231247
CREATED:20260108T200604Z
LAST-MODIFIED:20260108T200606Z
UID:10002172-1798131600-1798135200@www.ctklsu.org
SUMMARY:Men's Freedom Group
DESCRIPTION:Do you struggle with lust and sexual sin and desire freedom? Freedom Group provides a space to learn how to recover and be free from lust within a fellowship of brothers who are all pursuing this freedom. If you are interested in trying a meeting\, please email Bryce at bpellegrin@ctklsu.org for more information.
URL:https://www.ctklsu.org/event/freedom-group-2/2026-12-24/
LOCATION:St. Aloysius Catholic Church\, 2025 Stuart Ave\, Baton Rouge\, LA\, 70808
CATEGORIES:Formation
ATTACH;FMTTYPE=image/jpeg:https://www.ctklsu.org/wp-content/uploads/69-1O4A1460-scaled.jpg
END:VEVENT
BEGIN:VEVENT
DTSTART;TZID=America/Chicago:20261228T170000
DTEND;TZID=America/Chicago:20261228T180000
DTSTAMP:20260419T231247
CREATED:20250901T143934Z
LAST-MODIFIED:20250907T184051Z
UID:10001917-1798477200-1798480800@www.ctklsu.org
SUMMARY:Men's Holy Hour
DESCRIPTION:All men are invited to join us every Monday in the Adoration Chapel for our Men’s Holy Hour from 5-6 p.m.
URL:https://www.ctklsu.org/event/mens-holy-hour-2/2026-12-28/
LOCATION:CTK\, CTK\, Baton Rouge\, LA\, 70803\, United States
CATEGORIES:Men's Ministry,Prayer
ATTACH;FMTTYPE=image/jpeg:https://www.ctklsu.org/wp-content/uploads/CTKAdorationnight-024-scaled.jpg
GEO:30.4157757;-91.1750936
X-APPLE-STRUCTURED-LOCATION;VALUE=URI;X-ADDRESS=CTK CTK Baton Rouge LA 70803 United States;X-APPLE-RADIUS=500;X-TITLE=CTK:geo:-91.1750936,30.4157757
END:VEVENT
BEGIN:VEVENT
DTSTART;TZID=America/Chicago:20261231T170000
DTEND;TZID=America/Chicago:20261231T180000
DTSTAMP:20260419T231247
CREATED:20260108T200604Z
LAST-MODIFIED:20260108T200606Z
UID:10002173-1798736400-1798740000@www.ctklsu.org
SUMMARY:Men's Freedom Group
DESCRIPTION:Do you struggle with lust and sexual sin and desire freedom? Freedom Group provides a space to learn how to recover and be free from lust within a fellowship of brothers who are all pursuing this freedom. If you are interested in trying a meeting\, please email Bryce at bpellegrin@ctklsu.org for more information.
URL:https://www.ctklsu.org/event/freedom-group-2/2026-12-31/
LOCATION:St. Aloysius Catholic Church\, 2025 Stuart Ave\, Baton Rouge\, LA\, 70808
CATEGORIES:Formation
ATTACH;FMTTYPE=image/jpeg:https://www.ctklsu.org/wp-content/uploads/69-1O4A1460-scaled.jpg
END:VEVENT
BEGIN:VEVENT
DTSTART;TZID=America/Chicago:20270104T170000
DTEND;TZID=America/Chicago:20270104T180000
DTSTAMP:20260419T231247
CREATED:20250901T143934Z
LAST-MODIFIED:20250907T184051Z
UID:10001918-1799082000-1799085600@www.ctklsu.org
SUMMARY:Men's Holy Hour
DESCRIPTION:All men are invited to join us every Monday in the Adoration Chapel for our Men’s Holy Hour from 5-6 p.m.
URL:https://www.ctklsu.org/event/mens-holy-hour-2/2027-01-04/
LOCATION:CTK\, CTK\, Baton Rouge\, LA\, 70803\, United States
CATEGORIES:Men's Ministry,Prayer
ATTACH;FMTTYPE=image/jpeg:https://www.ctklsu.org/wp-content/uploads/CTKAdorationnight-024-scaled.jpg
GEO:30.4157757;-91.1750936
X-APPLE-STRUCTURED-LOCATION;VALUE=URI;X-ADDRESS=CTK CTK Baton Rouge LA 70803 United States;X-APPLE-RADIUS=500;X-TITLE=CTK:geo:-91.1750936,30.4157757
END:VEVENT
BEGIN:VEVENT
DTSTART;TZID=America/Chicago:20270107T170000
DTEND;TZID=America/Chicago:20270107T180000
DTSTAMP:20260419T231247
CREATED:20260108T200604Z
LAST-MODIFIED:20260108T200606Z
UID:10002174-1799341200-1799344800@www.ctklsu.org
SUMMARY:Men's Freedom Group
DESCRIPTION:Do you struggle with lust and sexual sin and desire freedom? Freedom Group provides a space to learn how to recover and be free from lust within a fellowship of brothers who are all pursuing this freedom. If you are interested in trying a meeting\, please email Bryce at bpellegrin@ctklsu.org for more information.
URL:https://www.ctklsu.org/event/freedom-group-2/2027-01-07/
LOCATION:St. Aloysius Catholic Church\, 2025 Stuart Ave\, Baton Rouge\, LA\, 70808
CATEGORIES:Formation
ATTACH;FMTTYPE=image/jpeg:https://www.ctklsu.org/wp-content/uploads/69-1O4A1460-scaled.jpg
END:VEVENT
BEGIN:VEVENT
DTSTART;TZID=America/Chicago:20270111T170000
DTEND;TZID=America/Chicago:20270111T180000
DTSTAMP:20260419T231247
CREATED:20250901T143934Z
LAST-MODIFIED:20250907T184051Z
UID:10001919-1799686800-1799690400@www.ctklsu.org
SUMMARY:Men's Holy Hour
DESCRIPTION:All men are invited to join us every Monday in the Adoration Chapel for our Men’s Holy Hour from 5-6 p.m.
URL:https://www.ctklsu.org/event/mens-holy-hour-2/2027-01-11/
LOCATION:CTK\, CTK\, Baton Rouge\, LA\, 70803\, United States
CATEGORIES:Men's Ministry,Prayer
ATTACH;FMTTYPE=image/jpeg:https://www.ctklsu.org/wp-content/uploads/CTKAdorationnight-024-scaled.jpg
GEO:30.4157757;-91.1750936
X-APPLE-STRUCTURED-LOCATION;VALUE=URI;X-ADDRESS=CTK CTK Baton Rouge LA 70803 United States;X-APPLE-RADIUS=500;X-TITLE=CTK:geo:-91.1750936,30.4157757
END:VEVENT
BEGIN:VEVENT
DTSTART;TZID=America/Chicago:20270114T170000
DTEND;TZID=America/Chicago:20270114T180000
DTSTAMP:20260419T231247
CREATED:20260108T200604Z
LAST-MODIFIED:20260108T200606Z
UID:10002175-1799946000-1799949600@www.ctklsu.org
SUMMARY:Men's Freedom Group
DESCRIPTION:Do you struggle with lust and sexual sin and desire freedom? Freedom Group provides a space to learn how to recover and be free from lust within a fellowship of brothers who are all pursuing this freedom. If you are interested in trying a meeting\, please email Bryce at bpellegrin@ctklsu.org for more information.
URL:https://www.ctklsu.org/event/freedom-group-2/2027-01-14/
LOCATION:St. Aloysius Catholic Church\, 2025 Stuart Ave\, Baton Rouge\, LA\, 70808
CATEGORIES:Formation
ATTACH;FMTTYPE=image/jpeg:https://www.ctklsu.org/wp-content/uploads/69-1O4A1460-scaled.jpg
END:VEVENT
BEGIN:VEVENT
DTSTART;TZID=America/Chicago:20270118T170000
DTEND;TZID=America/Chicago:20270118T180000
DTSTAMP:20260419T231247
CREATED:20250901T143934Z
LAST-MODIFIED:20250907T184051Z
UID:10001920-1800291600-1800295200@www.ctklsu.org
SUMMARY:Men's Holy Hour
DESCRIPTION:All men are invited to join us every Monday in the Adoration Chapel for our Men’s Holy Hour from 5-6 p.m.
URL:https://www.ctklsu.org/event/mens-holy-hour-2/2027-01-18/
LOCATION:CTK\, CTK\, Baton Rouge\, LA\, 70803\, United States
CATEGORIES:Men's Ministry,Prayer
ATTACH;FMTTYPE=image/jpeg:https://www.ctklsu.org/wp-content/uploads/CTKAdorationnight-024-scaled.jpg
GEO:30.4157757;-91.1750936
X-APPLE-STRUCTURED-LOCATION;VALUE=URI;X-ADDRESS=CTK CTK Baton Rouge LA 70803 United States;X-APPLE-RADIUS=500;X-TITLE=CTK:geo:-91.1750936,30.4157757
END:VEVENT
BEGIN:VEVENT
DTSTART;TZID=America/Chicago:20270121T170000
DTEND;TZID=America/Chicago:20270121T180000
DTSTAMP:20260419T231247
CREATED:20260108T200604Z
LAST-MODIFIED:20260108T200606Z
UID:10002176-1800550800-1800554400@www.ctklsu.org
SUMMARY:Men's Freedom Group
DESCRIPTION:Do you struggle with lust and sexual sin and desire freedom? Freedom Group provides a space to learn how to recover and be free from lust within a fellowship of brothers who are all pursuing this freedom. If you are interested in trying a meeting\, please email Bryce at bpellegrin@ctklsu.org for more information.
URL:https://www.ctklsu.org/event/freedom-group-2/2027-01-21/
LOCATION:St. Aloysius Catholic Church\, 2025 Stuart Ave\, Baton Rouge\, LA\, 70808
CATEGORIES:Formation
ATTACH;FMTTYPE=image/jpeg:https://www.ctklsu.org/wp-content/uploads/69-1O4A1460-scaled.jpg
END:VEVENT
BEGIN:VEVENT
DTSTART;TZID=America/Chicago:20270125T170000
DTEND;TZID=America/Chicago:20270125T180000
DTSTAMP:20260419T231247
CREATED:20250901T143934Z
LAST-MODIFIED:20250907T184051Z
UID:10001921-1800896400-1800900000@www.ctklsu.org
SUMMARY:Men's Holy Hour
DESCRIPTION:All men are invited to join us every Monday in the Adoration Chapel for our Men’s Holy Hour from 5-6 p.m.
URL:https://www.ctklsu.org/event/mens-holy-hour-2/2027-01-25/
LOCATION:CTK\, CTK\, Baton Rouge\, LA\, 70803\, United States
CATEGORIES:Men's Ministry,Prayer
ATTACH;FMTTYPE=image/jpeg:https://www.ctklsu.org/wp-content/uploads/CTKAdorationnight-024-scaled.jpg
GEO:30.4157757;-91.1750936
X-APPLE-STRUCTURED-LOCATION;VALUE=URI;X-ADDRESS=CTK CTK Baton Rouge LA 70803 United States;X-APPLE-RADIUS=500;X-TITLE=CTK:geo:-91.1750936,30.4157757
END:VEVENT
BEGIN:VEVENT
DTSTART;TZID=America/Chicago:20270128T170000
DTEND;TZID=America/Chicago:20270128T180000
DTSTAMP:20260419T231247
CREATED:20260108T200604Z
LAST-MODIFIED:20260108T200606Z
UID:10002177-1801155600-1801159200@www.ctklsu.org
SUMMARY:Men's Freedom Group
DESCRIPTION:Do you struggle with lust and sexual sin and desire freedom? Freedom Group provides a space to learn how to recover and be free from lust within a fellowship of brothers who are all pursuing this freedom. If you are interested in trying a meeting\, please email Bryce at bpellegrin@ctklsu.org for more information.
URL:https://www.ctklsu.org/event/freedom-group-2/2027-01-28/
LOCATION:St. Aloysius Catholic Church\, 2025 Stuart Ave\, Baton Rouge\, LA\, 70808
CATEGORIES:Formation
ATTACH;FMTTYPE=image/jpeg:https://www.ctklsu.org/wp-content/uploads/69-1O4A1460-scaled.jpg
END:VEVENT
BEGIN:VEVENT
DTSTART;TZID=America/Chicago:20270201T170000
DTEND;TZID=America/Chicago:20270201T180000
DTSTAMP:20260419T231247
CREATED:20250901T143934Z
LAST-MODIFIED:20250907T184051Z
UID:10001922-1801501200-1801504800@www.ctklsu.org
SUMMARY:Men's Holy Hour
DESCRIPTION:All men are invited to join us every Monday in the Adoration Chapel for our Men’s Holy Hour from 5-6 p.m.
URL:https://www.ctklsu.org/event/mens-holy-hour-2/2027-02-01/
LOCATION:CTK\, CTK\, Baton Rouge\, LA\, 70803\, United States
CATEGORIES:Men's Ministry,Prayer
ATTACH;FMTTYPE=image/jpeg:https://www.ctklsu.org/wp-content/uploads/CTKAdorationnight-024-scaled.jpg
GEO:30.4157757;-91.1750936
X-APPLE-STRUCTURED-LOCATION;VALUE=URI;X-ADDRESS=CTK CTK Baton Rouge LA 70803 United States;X-APPLE-RADIUS=500;X-TITLE=CTK:geo:-91.1750936,30.4157757
END:VEVENT
BEGIN:VEVENT
DTSTART;TZID=America/Chicago:20270204T170000
DTEND;TZID=America/Chicago:20270204T180000
DTSTAMP:20260419T231247
CREATED:20260108T200604Z
LAST-MODIFIED:20260108T200606Z
UID:10002178-1801760400-1801764000@www.ctklsu.org
SUMMARY:Men's Freedom Group
DESCRIPTION:Do you struggle with lust and sexual sin and desire freedom? Freedom Group provides a space to learn how to recover and be free from lust within a fellowship of brothers who are all pursuing this freedom. If you are interested in trying a meeting\, please email Bryce at bpellegrin@ctklsu.org for more information.
URL:https://www.ctklsu.org/event/freedom-group-2/2027-02-04/
LOCATION:St. Aloysius Catholic Church\, 2025 Stuart Ave\, Baton Rouge\, LA\, 70808
CATEGORIES:Formation
ATTACH;FMTTYPE=image/jpeg:https://www.ctklsu.org/wp-content/uploads/69-1O4A1460-scaled.jpg
END:VEVENT
BEGIN:VEVENT
DTSTART;TZID=America/Chicago:20270208T170000
DTEND;TZID=America/Chicago:20270208T180000
DTSTAMP:20260419T231247
CREATED:20250901T143934Z
LAST-MODIFIED:20250907T184051Z
UID:10001923-1802106000-1802109600@www.ctklsu.org
SUMMARY:Men's Holy Hour
DESCRIPTION:All men are invited to join us every Monday in the Adoration Chapel for our Men’s Holy Hour from 5-6 p.m.
URL:https://www.ctklsu.org/event/mens-holy-hour-2/2027-02-08/
LOCATION:CTK\, CTK\, Baton Rouge\, LA\, 70803\, United States
CATEGORIES:Men's Ministry,Prayer
ATTACH;FMTTYPE=image/jpeg:https://www.ctklsu.org/wp-content/uploads/CTKAdorationnight-024-scaled.jpg
GEO:30.4157757;-91.1750936
X-APPLE-STRUCTURED-LOCATION;VALUE=URI;X-ADDRESS=CTK CTK Baton Rouge LA 70803 United States;X-APPLE-RADIUS=500;X-TITLE=CTK:geo:-91.1750936,30.4157757
END:VEVENT
BEGIN:VEVENT
DTSTART;TZID=America/Chicago:20270211T170000
DTEND;TZID=America/Chicago:20270211T180000
DTSTAMP:20260419T231247
CREATED:20260108T200604Z
LAST-MODIFIED:20260108T200606Z
UID:10002179-1802365200-1802368800@www.ctklsu.org
SUMMARY:Men's Freedom Group
DESCRIPTION:Do you struggle with lust and sexual sin and desire freedom? Freedom Group provides a space to learn how to recover and be free from lust within a fellowship of brothers who are all pursuing this freedom. If you are interested in trying a meeting\, please email Bryce at bpellegrin@ctklsu.org for more information.
URL:https://www.ctklsu.org/event/freedom-group-2/2027-02-11/
LOCATION:St. Aloysius Catholic Church\, 2025 Stuart Ave\, Baton Rouge\, LA\, 70808
CATEGORIES:Formation
ATTACH;FMTTYPE=image/jpeg:https://www.ctklsu.org/wp-content/uploads/69-1O4A1460-scaled.jpg
END:VEVENT
BEGIN:VEVENT
DTSTART;TZID=America/Chicago:20270215T170000
DTEND;TZID=America/Chicago:20270215T180000
DTSTAMP:20260419T231247
CREATED:20250901T143934Z
LAST-MODIFIED:20250907T184051Z
UID:10001924-1802710800-1802714400@www.ctklsu.org
SUMMARY:Men's Holy Hour
DESCRIPTION:All men are invited to join us every Monday in the Adoration Chapel for our Men’s Holy Hour from 5-6 p.m.
URL:https://www.ctklsu.org/event/mens-holy-hour-2/2027-02-15/
LOCATION:CTK\, CTK\, Baton Rouge\, LA\, 70803\, United States
CATEGORIES:Men's Ministry,Prayer
ATTACH;FMTTYPE=image/jpeg:https://www.ctklsu.org/wp-content/uploads/CTKAdorationnight-024-scaled.jpg
GEO:30.4157757;-91.1750936
X-APPLE-STRUCTURED-LOCATION;VALUE=URI;X-ADDRESS=CTK CTK Baton Rouge LA 70803 United States;X-APPLE-RADIUS=500;X-TITLE=CTK:geo:-91.1750936,30.4157757
END:VEVENT
BEGIN:VEVENT
DTSTART;TZID=America/Chicago:20270218T170000
DTEND;TZID=America/Chicago:20270218T180000
DTSTAMP:20260419T231247
CREATED:20260108T200604Z
LAST-MODIFIED:20260108T200606Z
UID:10002180-1802970000-1802973600@www.ctklsu.org
SUMMARY:Men's Freedom Group
DESCRIPTION:Do you struggle with lust and sexual sin and desire freedom? Freedom Group provides a space to learn how to recover and be free from lust within a fellowship of brothers who are all pursuing this freedom. If you are interested in trying a meeting\, please email Bryce at bpellegrin@ctklsu.org for more information.
URL:https://www.ctklsu.org/event/freedom-group-2/2027-02-18/
LOCATION:St. Aloysius Catholic Church\, 2025 Stuart Ave\, Baton Rouge\, LA\, 70808
CATEGORIES:Formation
ATTACH;FMTTYPE=image/jpeg:https://www.ctklsu.org/wp-content/uploads/69-1O4A1460-scaled.jpg
END:VEVENT
BEGIN:VEVENT
DTSTART;TZID=America/Chicago:20270222T170000
DTEND;TZID=America/Chicago:20270222T180000
DTSTAMP:20260419T231247
CREATED:20250901T143934Z
LAST-MODIFIED:20250907T184051Z
UID:10001925-1803315600-1803319200@www.ctklsu.org
SUMMARY:Men's Holy Hour
DESCRIPTION:All men are invited to join us every Monday in the Adoration Chapel for our Men’s Holy Hour from 5-6 p.m.
URL:https://www.ctklsu.org/event/mens-holy-hour-2/2027-02-22/
LOCATION:CTK\, CTK\, Baton Rouge\, LA\, 70803\, United States
CATEGORIES:Men's Ministry,Prayer
ATTACH;FMTTYPE=image/jpeg:https://www.ctklsu.org/wp-content/uploads/CTKAdorationnight-024-scaled.jpg
GEO:30.4157757;-91.1750936
X-APPLE-STRUCTURED-LOCATION;VALUE=URI;X-ADDRESS=CTK CTK Baton Rouge LA 70803 United States;X-APPLE-RADIUS=500;X-TITLE=CTK:geo:-91.1750936,30.4157757
END:VEVENT
BEGIN:VEVENT
DTSTART;TZID=America/Chicago:20270225T170000
DTEND;TZID=America/Chicago:20270225T180000
DTSTAMP:20260419T231247
CREATED:20260108T200604Z
LAST-MODIFIED:20260108T200606Z
UID:10002181-1803574800-1803578400@www.ctklsu.org
SUMMARY:Men's Freedom Group
DESCRIPTION:Do you struggle with lust and sexual sin and desire freedom? Freedom Group provides a space to learn how to recover and be free from lust within a fellowship of brothers who are all pursuing this freedom. If you are interested in trying a meeting\, please email Bryce at bpellegrin@ctklsu.org for more information.
URL:https://www.ctklsu.org/event/freedom-group-2/2027-02-25/
LOCATION:St. Aloysius Catholic Church\, 2025 Stuart Ave\, Baton Rouge\, LA\, 70808
CATEGORIES:Formation
ATTACH;FMTTYPE=image/jpeg:https://www.ctklsu.org/wp-content/uploads/69-1O4A1460-scaled.jpg
END:VEVENT
BEGIN:VEVENT
DTSTART;TZID=America/Chicago:20270301T170000
DTEND;TZID=America/Chicago:20270301T180000
DTSTAMP:20260419T231247
CREATED:20250901T143934Z
LAST-MODIFIED:20250907T184051Z
UID:10001926-1803920400-1803924000@www.ctklsu.org
SUMMARY:Men's Holy Hour
DESCRIPTION:All men are invited to join us every Monday in the Adoration Chapel for our Men’s Holy Hour from 5-6 p.m.
URL:https://www.ctklsu.org/event/mens-holy-hour-2/2027-03-01/
LOCATION:CTK\, CTK\, Baton Rouge\, LA\, 70803\, United States
CATEGORIES:Men's Ministry,Prayer
ATTACH;FMTTYPE=image/jpeg:https://www.ctklsu.org/wp-content/uploads/CTKAdorationnight-024-scaled.jpg
GEO:30.4157757;-91.1750936
X-APPLE-STRUCTURED-LOCATION;VALUE=URI;X-ADDRESS=CTK CTK Baton Rouge LA 70803 United States;X-APPLE-RADIUS=500;X-TITLE=CTK:geo:-91.1750936,30.4157757
END:VEVENT
BEGIN:VEVENT
DTSTART;TZID=America/Chicago:20270304T170000
DTEND;TZID=America/Chicago:20270304T180000
DTSTAMP:20260419T231247
CREATED:20260108T200604Z
LAST-MODIFIED:20260108T200606Z
UID:10002182-1804179600-1804183200@www.ctklsu.org
SUMMARY:Men's Freedom Group
DESCRIPTION:Do you struggle with lust and sexual sin and desire freedom? Freedom Group provides a space to learn how to recover and be free from lust within a fellowship of brothers who are all pursuing this freedom. If you are interested in trying a meeting\, please email Bryce at bpellegrin@ctklsu.org for more information.
URL:https://www.ctklsu.org/event/freedom-group-2/2027-03-04/
LOCATION:St. Aloysius Catholic Church\, 2025 Stuart Ave\, Baton Rouge\, LA\, 70808
CATEGORIES:Formation
ATTACH;FMTTYPE=image/jpeg:https://www.ctklsu.org/wp-content/uploads/69-1O4A1460-scaled.jpg
END:VEVENT
BEGIN:VEVENT
DTSTART;TZID=America/Chicago:20270308T170000
DTEND;TZID=America/Chicago:20270308T180000
DTSTAMP:20260419T231247
CREATED:20250901T143934Z
LAST-MODIFIED:20250907T184051Z
UID:10001927-1804525200-1804528800@www.ctklsu.org
SUMMARY:Men's Holy Hour
DESCRIPTION:All men are invited to join us every Monday in the Adoration Chapel for our Men’s Holy Hour from 5-6 p.m.
URL:https://www.ctklsu.org/event/mens-holy-hour-2/2027-03-08/
LOCATION:CTK\, CTK\, Baton Rouge\, LA\, 70803\, United States
CATEGORIES:Men's Ministry,Prayer
ATTACH;FMTTYPE=image/jpeg:https://www.ctklsu.org/wp-content/uploads/CTKAdorationnight-024-scaled.jpg
GEO:30.4157757;-91.1750936
X-APPLE-STRUCTURED-LOCATION;VALUE=URI;X-ADDRESS=CTK CTK Baton Rouge LA 70803 United States;X-APPLE-RADIUS=500;X-TITLE=CTK:geo:-91.1750936,30.4157757
END:VEVENT
BEGIN:VEVENT
DTSTART;TZID=America/Chicago:20270311T170000
DTEND;TZID=America/Chicago:20270311T180000
DTSTAMP:20260419T231247
CREATED:20260108T200604Z
LAST-MODIFIED:20260108T200606Z
UID:10002183-1804784400-1804788000@www.ctklsu.org
SUMMARY:Men's Freedom Group
DESCRIPTION:Do you struggle with lust and sexual sin and desire freedom? Freedom Group provides a space to learn how to recover and be free from lust within a fellowship of brothers who are all pursuing this freedom. If you are interested in trying a meeting\, please email Bryce at bpellegrin@ctklsu.org for more information.
URL:https://www.ctklsu.org/event/freedom-group-2/2027-03-11/
LOCATION:St. Aloysius Catholic Church\, 2025 Stuart Ave\, Baton Rouge\, LA\, 70808
CATEGORIES:Formation
ATTACH;FMTTYPE=image/jpeg:https://www.ctklsu.org/wp-content/uploads/69-1O4A1460-scaled.jpg
END:VEVENT
BEGIN:VEVENT
DTSTART;TZID=America/Chicago:20270315T170000
DTEND;TZID=America/Chicago:20270315T180000
DTSTAMP:20260419T231247
CREATED:20250901T143934Z
LAST-MODIFIED:20250907T184051Z
UID:10001928-1805130000-1805133600@www.ctklsu.org
SUMMARY:Men's Holy Hour
DESCRIPTION:All men are invited to join us every Monday in the Adoration Chapel for our Men’s Holy Hour from 5-6 p.m.
URL:https://www.ctklsu.org/event/mens-holy-hour-2/2027-03-15/
LOCATION:CTK\, CTK\, Baton Rouge\, LA\, 70803\, United States
CATEGORIES:Men's Ministry,Prayer
ATTACH;FMTTYPE=image/jpeg:https://www.ctklsu.org/wp-content/uploads/CTKAdorationnight-024-scaled.jpg
GEO:30.4157757;-91.1750936
X-APPLE-STRUCTURED-LOCATION;VALUE=URI;X-ADDRESS=CTK CTK Baton Rouge LA 70803 United States;X-APPLE-RADIUS=500;X-TITLE=CTK:geo:-91.1750936,30.4157757
END:VEVENT
BEGIN:VEVENT
DTSTART;TZID=America/Chicago:20270318T170000
DTEND;TZID=America/Chicago:20270318T180000
DTSTAMP:20260419T231247
CREATED:20260108T200604Z
LAST-MODIFIED:20260108T200606Z
UID:10002184-1805389200-1805392800@www.ctklsu.org
SUMMARY:Men's Freedom Group
DESCRIPTION:Do you struggle with lust and sexual sin and desire freedom? Freedom Group provides a space to learn how to recover and be free from lust within a fellowship of brothers who are all pursuing this freedom. If you are interested in trying a meeting\, please email Bryce at bpellegrin@ctklsu.org for more information.
URL:https://www.ctklsu.org/event/freedom-group-2/2027-03-18/
LOCATION:St. Aloysius Catholic Church\, 2025 Stuart Ave\, Baton Rouge\, LA\, 70808
CATEGORIES:Formation
ATTACH;FMTTYPE=image/jpeg:https://www.ctklsu.org/wp-content/uploads/69-1O4A1460-scaled.jpg
END:VEVENT
BEGIN:VEVENT
DTSTART;TZID=America/Chicago:20270322T170000
DTEND;TZID=America/Chicago:20270322T180000
DTSTAMP:20260419T231247
CREATED:20250901T143934Z
LAST-MODIFIED:20250907T184051Z
UID:10001929-1805734800-1805738400@www.ctklsu.org
SUMMARY:Men's Holy Hour
DESCRIPTION:All men are invited to join us every Monday in the Adoration Chapel for our Men’s Holy Hour from 5-6 p.m.
URL:https://www.ctklsu.org/event/mens-holy-hour-2/2027-03-22/
LOCATION:CTK\, CTK\, Baton Rouge\, LA\, 70803\, United States
CATEGORIES:Men's Ministry,Prayer
ATTACH;FMTTYPE=image/jpeg:https://www.ctklsu.org/wp-content/uploads/CTKAdorationnight-024-scaled.jpg
GEO:30.4157757;-91.1750936
X-APPLE-STRUCTURED-LOCATION;VALUE=URI;X-ADDRESS=CTK CTK Baton Rouge LA 70803 United States;X-APPLE-RADIUS=500;X-TITLE=CTK:geo:-91.1750936,30.4157757
END:VEVENT
BEGIN:VEVENT
DTSTART;TZID=America/Chicago:20270325T170000
DTEND;TZID=America/Chicago:20270325T180000
DTSTAMP:20260419T231247
CREATED:20260108T200604Z
LAST-MODIFIED:20260108T200606Z
UID:10002185-1805994000-1805997600@www.ctklsu.org
SUMMARY:Men's Freedom Group
DESCRIPTION:Do you struggle with lust and sexual sin and desire freedom? Freedom Group provides a space to learn how to recover and be free from lust within a fellowship of brothers who are all pursuing this freedom. If you are interested in trying a meeting\, please email Bryce at bpellegrin@ctklsu.org for more information.
URL:https://www.ctklsu.org/event/freedom-group-2/2027-03-25/
LOCATION:St. Aloysius Catholic Church\, 2025 Stuart Ave\, Baton Rouge\, LA\, 70808
CATEGORIES:Formation
ATTACH;FMTTYPE=image/jpeg:https://www.ctklsu.org/wp-content/uploads/69-1O4A1460-scaled.jpg
END:VEVENT
BEGIN:VEVENT
DTSTART;TZID=America/Chicago:20270329T170000
DTEND;TZID=America/Chicago:20270329T180000
DTSTAMP:20260419T231247
CREATED:20250901T143934Z
LAST-MODIFIED:20250907T184051Z
UID:10001930-1806339600-1806343200@www.ctklsu.org
SUMMARY:Men's Holy Hour
DESCRIPTION:All men are invited to join us every Monday in the Adoration Chapel for our Men’s Holy Hour from 5-6 p.m.
URL:https://www.ctklsu.org/event/mens-holy-hour-2/2027-03-29/
LOCATION:CTK\, CTK\, Baton Rouge\, LA\, 70803\, United States
CATEGORIES:Men's Ministry,Prayer
ATTACH;FMTTYPE=image/jpeg:https://www.ctklsu.org/wp-content/uploads/CTKAdorationnight-024-scaled.jpg
GEO:30.4157757;-91.1750936
X-APPLE-STRUCTURED-LOCATION;VALUE=URI;X-ADDRESS=CTK CTK Baton Rouge LA 70803 United States;X-APPLE-RADIUS=500;X-TITLE=CTK:geo:-91.1750936,30.4157757
END:VEVENT
BEGIN:VEVENT
DTSTART;TZID=America/Chicago:20270401T170000
DTEND;TZID=America/Chicago:20270401T180000
DTSTAMP:20260419T231247
CREATED:20260108T200604Z
LAST-MODIFIED:20260108T200606Z
UID:10002186-1806598800-1806602400@www.ctklsu.org
SUMMARY:Men's Freedom Group
DESCRIPTION:Do you struggle with lust and sexual sin and desire freedom? Freedom Group provides a space to learn how to recover and be free from lust within a fellowship of brothers who are all pursuing this freedom. If you are interested in trying a meeting\, please email Bryce at bpellegrin@ctklsu.org for more information.
URL:https://www.ctklsu.org/event/freedom-group-2/2027-04-01/
LOCATION:St. Aloysius Catholic Church\, 2025 Stuart Ave\, Baton Rouge\, LA\, 70808
CATEGORIES:Formation
ATTACH;FMTTYPE=image/jpeg:https://www.ctklsu.org/wp-content/uploads/69-1O4A1460-scaled.jpg
END:VEVENT
END:VCALENDAR