BEGIN:VCALENDAR
VERSION:2.0
PRODID:-//Christ The King - ECPv6.15.20//NONSGML v1.0//EN
CALSCALE:GREGORIAN
METHOD:PUBLISH
X-ORIGINAL-URL:https://www.ctklsu.org
X-WR-CALDESC:Events for Christ The King
REFRESH-INTERVAL;VALUE=DURATION:PT1H
X-Robots-Tag:noindex
X-PUBLISHED-TTL:PT1H
BEGIN:VTIMEZONE
TZID:America/Chicago
BEGIN:DAYLIGHT
TZOFFSETFROM:-0600
TZOFFSETTO:-0500
TZNAME:CDT
DTSTART:20250309T080000
END:DAYLIGHT
BEGIN:STANDARD
TZOFFSETFROM:-0500
TZOFFSETTO:-0600
TZNAME:CST
DTSTART:20251102T070000
END:STANDARD
BEGIN:DAYLIGHT
TZOFFSETFROM:-0600
TZOFFSETTO:-0500
TZNAME:CDT
DTSTART:20260308T080000
END:DAYLIGHT
BEGIN:STANDARD
TZOFFSETFROM:-0500
TZOFFSETTO:-0600
TZNAME:CST
DTSTART:20261101T070000
END:STANDARD
BEGIN:DAYLIGHT
TZOFFSETFROM:-0600
TZOFFSETTO:-0500
TZNAME:CDT
DTSTART:20270314T080000
END:DAYLIGHT
BEGIN:STANDARD
TZOFFSETFROM:-0500
TZOFFSETTO:-0600
TZNAME:CST
DTSTART:20271107T070000
END:STANDARD
BEGIN:DAYLIGHT
TZOFFSETFROM:-0600
TZOFFSETTO:-0500
TZNAME:CDT
DTSTART:20280312T080000
END:DAYLIGHT
BEGIN:STANDARD
TZOFFSETFROM:-0500
TZOFFSETTO:-0600
TZNAME:CST
DTSTART:20281105T070000
END:STANDARD
END:VTIMEZONE
BEGIN:VEVENT
DTSTART;TZID=America/Chicago:20260928T170000
DTEND;TZID=America/Chicago:20260928T180000
DTSTAMP:20260419T200506
CREATED:20250901T143934Z
LAST-MODIFIED:20250907T184051Z
UID:10001904-1790614800-1790618400@www.ctklsu.org
SUMMARY:Men's Holy Hour
DESCRIPTION:All men are invited to join us every Monday in the Adoration Chapel for our Men’s Holy Hour from 5-6 p.m.
URL:https://www.ctklsu.org/event/mens-holy-hour-2/2026-09-28/
LOCATION:CTK\, CTK\, Baton Rouge\, LA\, 70803\, United States
CATEGORIES:Men's Ministry,Prayer
ATTACH;FMTTYPE=image/jpeg:https://www.ctklsu.org/wp-content/uploads/CTKAdorationnight-024-scaled.jpg
GEO:30.4157757;-91.1750936
X-APPLE-STRUCTURED-LOCATION;VALUE=URI;X-ADDRESS=CTK CTK Baton Rouge LA 70803 United States;X-APPLE-RADIUS=500;X-TITLE=CTK:geo:-91.1750936,30.4157757
END:VEVENT
BEGIN:VEVENT
DTSTART;TZID=America/Chicago:20261001T170000
DTEND;TZID=America/Chicago:20261001T180000
DTSTAMP:20260419T200506
CREATED:20260108T200604Z
LAST-MODIFIED:20260108T200606Z
UID:10002160-1790874000-1790877600@www.ctklsu.org
SUMMARY:Men's Freedom Group
DESCRIPTION:Do you struggle with lust and sexual sin and desire freedom? Freedom Group provides a space to learn how to recover and be free from lust within a fellowship of brothers who are all pursuing this freedom. If you are interested in trying a meeting\, please email Bryce at bpellegrin@ctklsu.org for more information.
URL:https://www.ctklsu.org/event/freedom-group-2/2026-10-01/
LOCATION:St. Aloysius Catholic Church\, 2025 Stuart Ave\, Baton Rouge\, LA\, 70808
CATEGORIES:Formation
ATTACH;FMTTYPE=image/jpeg:https://www.ctklsu.org/wp-content/uploads/69-1O4A1460-scaled.jpg
END:VEVENT
BEGIN:VEVENT
DTSTART;TZID=America/Chicago:20261005T170000
DTEND;TZID=America/Chicago:20261005T180000
DTSTAMP:20260419T200506
CREATED:20250901T143934Z
LAST-MODIFIED:20250907T184051Z
UID:10001905-1791219600-1791223200@www.ctklsu.org
SUMMARY:Men's Holy Hour
DESCRIPTION:All men are invited to join us every Monday in the Adoration Chapel for our Men’s Holy Hour from 5-6 p.m.
URL:https://www.ctklsu.org/event/mens-holy-hour-2/2026-10-05/
LOCATION:CTK\, CTK\, Baton Rouge\, LA\, 70803\, United States
CATEGORIES:Men's Ministry,Prayer
ATTACH;FMTTYPE=image/jpeg:https://www.ctklsu.org/wp-content/uploads/CTKAdorationnight-024-scaled.jpg
GEO:30.4157757;-91.1750936
X-APPLE-STRUCTURED-LOCATION;VALUE=URI;X-ADDRESS=CTK CTK Baton Rouge LA 70803 United States;X-APPLE-RADIUS=500;X-TITLE=CTK:geo:-91.1750936,30.4157757
END:VEVENT
BEGIN:VEVENT
DTSTART;TZID=America/Chicago:20261008T170000
DTEND;TZID=America/Chicago:20261008T180000
DTSTAMP:20260419T200506
CREATED:20260108T200604Z
LAST-MODIFIED:20260108T200606Z
UID:10002161-1791478800-1791482400@www.ctklsu.org
SUMMARY:Men's Freedom Group
DESCRIPTION:Do you struggle with lust and sexual sin and desire freedom? Freedom Group provides a space to learn how to recover and be free from lust within a fellowship of brothers who are all pursuing this freedom. If you are interested in trying a meeting\, please email Bryce at bpellegrin@ctklsu.org for more information.
URL:https://www.ctklsu.org/event/freedom-group-2/2026-10-08/
LOCATION:St. Aloysius Catholic Church\, 2025 Stuart Ave\, Baton Rouge\, LA\, 70808
CATEGORIES:Formation
ATTACH;FMTTYPE=image/jpeg:https://www.ctklsu.org/wp-content/uploads/69-1O4A1460-scaled.jpg
END:VEVENT
BEGIN:VEVENT
DTSTART;TZID=America/Chicago:20261012T170000
DTEND;TZID=America/Chicago:20261012T180000
DTSTAMP:20260419T200506
CREATED:20250901T143934Z
LAST-MODIFIED:20250907T184051Z
UID:10001906-1791824400-1791828000@www.ctklsu.org
SUMMARY:Men's Holy Hour
DESCRIPTION:All men are invited to join us every Monday in the Adoration Chapel for our Men’s Holy Hour from 5-6 p.m.
URL:https://www.ctklsu.org/event/mens-holy-hour-2/2026-10-12/
LOCATION:CTK\, CTK\, Baton Rouge\, LA\, 70803\, United States
CATEGORIES:Men's Ministry,Prayer
ATTACH;FMTTYPE=image/jpeg:https://www.ctklsu.org/wp-content/uploads/CTKAdorationnight-024-scaled.jpg
GEO:30.4157757;-91.1750936
X-APPLE-STRUCTURED-LOCATION;VALUE=URI;X-ADDRESS=CTK CTK Baton Rouge LA 70803 United States;X-APPLE-RADIUS=500;X-TITLE=CTK:geo:-91.1750936,30.4157757
END:VEVENT
BEGIN:VEVENT
DTSTART;TZID=America/Chicago:20261015T170000
DTEND;TZID=America/Chicago:20261015T180000
DTSTAMP:20260419T200506
CREATED:20260108T200604Z
LAST-MODIFIED:20260108T200606Z
UID:10002162-1792083600-1792087200@www.ctklsu.org
SUMMARY:Men's Freedom Group
DESCRIPTION:Do you struggle with lust and sexual sin and desire freedom? Freedom Group provides a space to learn how to recover and be free from lust within a fellowship of brothers who are all pursuing this freedom. If you are interested in trying a meeting\, please email Bryce at bpellegrin@ctklsu.org for more information.
URL:https://www.ctklsu.org/event/freedom-group-2/2026-10-15/
LOCATION:St. Aloysius Catholic Church\, 2025 Stuart Ave\, Baton Rouge\, LA\, 70808
CATEGORIES:Formation
ATTACH;FMTTYPE=image/jpeg:https://www.ctklsu.org/wp-content/uploads/69-1O4A1460-scaled.jpg
END:VEVENT
BEGIN:VEVENT
DTSTART;TZID=America/Chicago:20261019T170000
DTEND;TZID=America/Chicago:20261019T180000
DTSTAMP:20260419T200506
CREATED:20250901T143934Z
LAST-MODIFIED:20250907T184051Z
UID:10001907-1792429200-1792432800@www.ctklsu.org
SUMMARY:Men's Holy Hour
DESCRIPTION:All men are invited to join us every Monday in the Adoration Chapel for our Men’s Holy Hour from 5-6 p.m.
URL:https://www.ctklsu.org/event/mens-holy-hour-2/2026-10-19/
LOCATION:CTK\, CTK\, Baton Rouge\, LA\, 70803\, United States
CATEGORIES:Men's Ministry,Prayer
ATTACH;FMTTYPE=image/jpeg:https://www.ctklsu.org/wp-content/uploads/CTKAdorationnight-024-scaled.jpg
GEO:30.4157757;-91.1750936
X-APPLE-STRUCTURED-LOCATION;VALUE=URI;X-ADDRESS=CTK CTK Baton Rouge LA 70803 United States;X-APPLE-RADIUS=500;X-TITLE=CTK:geo:-91.1750936,30.4157757
END:VEVENT
BEGIN:VEVENT
DTSTART;TZID=America/Chicago:20261022T170000
DTEND;TZID=America/Chicago:20261022T180000
DTSTAMP:20260419T200506
CREATED:20260108T200604Z
LAST-MODIFIED:20260108T200606Z
UID:10002163-1792688400-1792692000@www.ctklsu.org
SUMMARY:Men's Freedom Group
DESCRIPTION:Do you struggle with lust and sexual sin and desire freedom? Freedom Group provides a space to learn how to recover and be free from lust within a fellowship of brothers who are all pursuing this freedom. If you are interested in trying a meeting\, please email Bryce at bpellegrin@ctklsu.org for more information.
URL:https://www.ctklsu.org/event/freedom-group-2/2026-10-22/
LOCATION:St. Aloysius Catholic Church\, 2025 Stuart Ave\, Baton Rouge\, LA\, 70808
CATEGORIES:Formation
ATTACH;FMTTYPE=image/jpeg:https://www.ctklsu.org/wp-content/uploads/69-1O4A1460-scaled.jpg
END:VEVENT
BEGIN:VEVENT
DTSTART;TZID=America/Chicago:20261026T170000
DTEND;TZID=America/Chicago:20261026T180000
DTSTAMP:20260419T200506
CREATED:20250901T143934Z
LAST-MODIFIED:20250907T184051Z
UID:10001908-1793034000-1793037600@www.ctklsu.org
SUMMARY:Men's Holy Hour
DESCRIPTION:All men are invited to join us every Monday in the Adoration Chapel for our Men’s Holy Hour from 5-6 p.m.
URL:https://www.ctklsu.org/event/mens-holy-hour-2/2026-10-26/
LOCATION:CTK\, CTK\, Baton Rouge\, LA\, 70803\, United States
CATEGORIES:Men's Ministry,Prayer
ATTACH;FMTTYPE=image/jpeg:https://www.ctklsu.org/wp-content/uploads/CTKAdorationnight-024-scaled.jpg
GEO:30.4157757;-91.1750936
X-APPLE-STRUCTURED-LOCATION;VALUE=URI;X-ADDRESS=CTK CTK Baton Rouge LA 70803 United States;X-APPLE-RADIUS=500;X-TITLE=CTK:geo:-91.1750936,30.4157757
END:VEVENT
BEGIN:VEVENT
DTSTART;TZID=America/Chicago:20261029T170000
DTEND;TZID=America/Chicago:20261029T180000
DTSTAMP:20260419T200506
CREATED:20260108T200604Z
LAST-MODIFIED:20260108T200606Z
UID:10002164-1793293200-1793296800@www.ctklsu.org
SUMMARY:Men's Freedom Group
DESCRIPTION:Do you struggle with lust and sexual sin and desire freedom? Freedom Group provides a space to learn how to recover and be free from lust within a fellowship of brothers who are all pursuing this freedom. If you are interested in trying a meeting\, please email Bryce at bpellegrin@ctklsu.org for more information.
URL:https://www.ctklsu.org/event/freedom-group-2/2026-10-29/
LOCATION:St. Aloysius Catholic Church\, 2025 Stuart Ave\, Baton Rouge\, LA\, 70808
CATEGORIES:Formation
ATTACH;FMTTYPE=image/jpeg:https://www.ctklsu.org/wp-content/uploads/69-1O4A1460-scaled.jpg
END:VEVENT
BEGIN:VEVENT
DTSTART;TZID=America/Chicago:20261102T170000
DTEND;TZID=America/Chicago:20261102T180000
DTSTAMP:20260419T200506
CREATED:20250901T143934Z
LAST-MODIFIED:20250907T184051Z
UID:10001909-1793638800-1793642400@www.ctklsu.org
SUMMARY:Men's Holy Hour
DESCRIPTION:All men are invited to join us every Monday in the Adoration Chapel for our Men’s Holy Hour from 5-6 p.m.
URL:https://www.ctklsu.org/event/mens-holy-hour-2/2026-11-02/
LOCATION:CTK\, CTK\, Baton Rouge\, LA\, 70803\, United States
CATEGORIES:Men's Ministry,Prayer
ATTACH;FMTTYPE=image/jpeg:https://www.ctklsu.org/wp-content/uploads/CTKAdorationnight-024-scaled.jpg
GEO:30.4157757;-91.1750936
X-APPLE-STRUCTURED-LOCATION;VALUE=URI;X-ADDRESS=CTK CTK Baton Rouge LA 70803 United States;X-APPLE-RADIUS=500;X-TITLE=CTK:geo:-91.1750936,30.4157757
END:VEVENT
BEGIN:VEVENT
DTSTART;TZID=America/Chicago:20261105T170000
DTEND;TZID=America/Chicago:20261105T180000
DTSTAMP:20260419T200506
CREATED:20260108T200604Z
LAST-MODIFIED:20260108T200606Z
UID:10002165-1793898000-1793901600@www.ctklsu.org
SUMMARY:Men's Freedom Group
DESCRIPTION:Do you struggle with lust and sexual sin and desire freedom? Freedom Group provides a space to learn how to recover and be free from lust within a fellowship of brothers who are all pursuing this freedom. If you are interested in trying a meeting\, please email Bryce at bpellegrin@ctklsu.org for more information.
URL:https://www.ctklsu.org/event/freedom-group-2/2026-11-05/
LOCATION:St. Aloysius Catholic Church\, 2025 Stuart Ave\, Baton Rouge\, LA\, 70808
CATEGORIES:Formation
ATTACH;FMTTYPE=image/jpeg:https://www.ctklsu.org/wp-content/uploads/69-1O4A1460-scaled.jpg
END:VEVENT
BEGIN:VEVENT
DTSTART;TZID=America/Chicago:20261109T170000
DTEND;TZID=America/Chicago:20261109T180000
DTSTAMP:20260419T200506
CREATED:20250901T143934Z
LAST-MODIFIED:20250907T184051Z
UID:10001910-1794243600-1794247200@www.ctklsu.org
SUMMARY:Men's Holy Hour
DESCRIPTION:All men are invited to join us every Monday in the Adoration Chapel for our Men’s Holy Hour from 5-6 p.m.
URL:https://www.ctklsu.org/event/mens-holy-hour-2/2026-11-09/
LOCATION:CTK\, CTK\, Baton Rouge\, LA\, 70803\, United States
CATEGORIES:Men's Ministry,Prayer
ATTACH;FMTTYPE=image/jpeg:https://www.ctklsu.org/wp-content/uploads/CTKAdorationnight-024-scaled.jpg
GEO:30.4157757;-91.1750936
X-APPLE-STRUCTURED-LOCATION;VALUE=URI;X-ADDRESS=CTK CTK Baton Rouge LA 70803 United States;X-APPLE-RADIUS=500;X-TITLE=CTK:geo:-91.1750936,30.4157757
END:VEVENT
BEGIN:VEVENT
DTSTART;TZID=America/Chicago:20261112T170000
DTEND;TZID=America/Chicago:20261112T180000
DTSTAMP:20260419T200506
CREATED:20260108T200604Z
LAST-MODIFIED:20260108T200606Z
UID:10002166-1794502800-1794506400@www.ctklsu.org
SUMMARY:Men's Freedom Group
DESCRIPTION:Do you struggle with lust and sexual sin and desire freedom? Freedom Group provides a space to learn how to recover and be free from lust within a fellowship of brothers who are all pursuing this freedom. If you are interested in trying a meeting\, please email Bryce at bpellegrin@ctklsu.org for more information.
URL:https://www.ctklsu.org/event/freedom-group-2/2026-11-12/
LOCATION:St. Aloysius Catholic Church\, 2025 Stuart Ave\, Baton Rouge\, LA\, 70808
CATEGORIES:Formation
ATTACH;FMTTYPE=image/jpeg:https://www.ctklsu.org/wp-content/uploads/69-1O4A1460-scaled.jpg
END:VEVENT
BEGIN:VEVENT
DTSTART;TZID=America/Chicago:20261116T170000
DTEND;TZID=America/Chicago:20261116T180000
DTSTAMP:20260419T200506
CREATED:20250901T143934Z
LAST-MODIFIED:20250907T184051Z
UID:10001911-1794848400-1794852000@www.ctklsu.org
SUMMARY:Men's Holy Hour
DESCRIPTION:All men are invited to join us every Monday in the Adoration Chapel for our Men’s Holy Hour from 5-6 p.m.
URL:https://www.ctklsu.org/event/mens-holy-hour-2/2026-11-16/
LOCATION:CTK\, CTK\, Baton Rouge\, LA\, 70803\, United States
CATEGORIES:Men's Ministry,Prayer
ATTACH;FMTTYPE=image/jpeg:https://www.ctklsu.org/wp-content/uploads/CTKAdorationnight-024-scaled.jpg
GEO:30.4157757;-91.1750936
X-APPLE-STRUCTURED-LOCATION;VALUE=URI;X-ADDRESS=CTK CTK Baton Rouge LA 70803 United States;X-APPLE-RADIUS=500;X-TITLE=CTK:geo:-91.1750936,30.4157757
END:VEVENT
BEGIN:VEVENT
DTSTART;TZID=America/Chicago:20261119T170000
DTEND;TZID=America/Chicago:20261119T180000
DTSTAMP:20260419T200506
CREATED:20260108T200604Z
LAST-MODIFIED:20260108T200606Z
UID:10002167-1795107600-1795111200@www.ctklsu.org
SUMMARY:Men's Freedom Group
DESCRIPTION:Do you struggle with lust and sexual sin and desire freedom? Freedom Group provides a space to learn how to recover and be free from lust within a fellowship of brothers who are all pursuing this freedom. If you are interested in trying a meeting\, please email Bryce at bpellegrin@ctklsu.org for more information.
URL:https://www.ctklsu.org/event/freedom-group-2/2026-11-19/
LOCATION:St. Aloysius Catholic Church\, 2025 Stuart Ave\, Baton Rouge\, LA\, 70808
CATEGORIES:Formation
ATTACH;FMTTYPE=image/jpeg:https://www.ctklsu.org/wp-content/uploads/69-1O4A1460-scaled.jpg
END:VEVENT
BEGIN:VEVENT
DTSTART;TZID=America/Chicago:20261123T170000
DTEND;TZID=America/Chicago:20261123T180000
DTSTAMP:20260419T200506
CREATED:20250901T143934Z
LAST-MODIFIED:20250907T184051Z
UID:10001912-1795453200-1795456800@www.ctklsu.org
SUMMARY:Men's Holy Hour
DESCRIPTION:All men are invited to join us every Monday in the Adoration Chapel for our Men’s Holy Hour from 5-6 p.m.
URL:https://www.ctklsu.org/event/mens-holy-hour-2/2026-11-23/
LOCATION:CTK\, CTK\, Baton Rouge\, LA\, 70803\, United States
CATEGORIES:Men's Ministry,Prayer
ATTACH;FMTTYPE=image/jpeg:https://www.ctklsu.org/wp-content/uploads/CTKAdorationnight-024-scaled.jpg
GEO:30.4157757;-91.1750936
X-APPLE-STRUCTURED-LOCATION;VALUE=URI;X-ADDRESS=CTK CTK Baton Rouge LA 70803 United States;X-APPLE-RADIUS=500;X-TITLE=CTK:geo:-91.1750936,30.4157757
END:VEVENT
BEGIN:VEVENT
DTSTART;TZID=America/Chicago:20261126T170000
DTEND;TZID=America/Chicago:20261126T180000
DTSTAMP:20260419T200506
CREATED:20260108T200604Z
LAST-MODIFIED:20260108T200606Z
UID:10002168-1795712400-1795716000@www.ctklsu.org
SUMMARY:Men's Freedom Group
DESCRIPTION:Do you struggle with lust and sexual sin and desire freedom? Freedom Group provides a space to learn how to recover and be free from lust within a fellowship of brothers who are all pursuing this freedom. If you are interested in trying a meeting\, please email Bryce at bpellegrin@ctklsu.org for more information.
URL:https://www.ctklsu.org/event/freedom-group-2/2026-11-26/
LOCATION:St. Aloysius Catholic Church\, 2025 Stuart Ave\, Baton Rouge\, LA\, 70808
CATEGORIES:Formation
ATTACH;FMTTYPE=image/jpeg:https://www.ctklsu.org/wp-content/uploads/69-1O4A1460-scaled.jpg
END:VEVENT
BEGIN:VEVENT
DTSTART;TZID=America/Chicago:20261130T170000
DTEND;TZID=America/Chicago:20261130T180000
DTSTAMP:20260419T200507
CREATED:20250901T143934Z
LAST-MODIFIED:20250907T184051Z
UID:10001913-1796058000-1796061600@www.ctklsu.org
SUMMARY:Men's Holy Hour
DESCRIPTION:All men are invited to join us every Monday in the Adoration Chapel for our Men’s Holy Hour from 5-6 p.m.
URL:https://www.ctklsu.org/event/mens-holy-hour-2/2026-11-30/
LOCATION:CTK\, CTK\, Baton Rouge\, LA\, 70803\, United States
CATEGORIES:Men's Ministry,Prayer
ATTACH;FMTTYPE=image/jpeg:https://www.ctklsu.org/wp-content/uploads/CTKAdorationnight-024-scaled.jpg
GEO:30.4157757;-91.1750936
X-APPLE-STRUCTURED-LOCATION;VALUE=URI;X-ADDRESS=CTK CTK Baton Rouge LA 70803 United States;X-APPLE-RADIUS=500;X-TITLE=CTK:geo:-91.1750936,30.4157757
END:VEVENT
BEGIN:VEVENT
DTSTART;TZID=America/Chicago:20261203T170000
DTEND;TZID=America/Chicago:20261203T180000
DTSTAMP:20260419T200507
CREATED:20260108T200604Z
LAST-MODIFIED:20260108T200606Z
UID:10002169-1796317200-1796320800@www.ctklsu.org
SUMMARY:Men's Freedom Group
DESCRIPTION:Do you struggle with lust and sexual sin and desire freedom? Freedom Group provides a space to learn how to recover and be free from lust within a fellowship of brothers who are all pursuing this freedom. If you are interested in trying a meeting\, please email Bryce at bpellegrin@ctklsu.org for more information.
URL:https://www.ctklsu.org/event/freedom-group-2/2026-12-03/
LOCATION:St. Aloysius Catholic Church\, 2025 Stuart Ave\, Baton Rouge\, LA\, 70808
CATEGORIES:Formation
ATTACH;FMTTYPE=image/jpeg:https://www.ctklsu.org/wp-content/uploads/69-1O4A1460-scaled.jpg
END:VEVENT
BEGIN:VEVENT
DTSTART;TZID=America/Chicago:20261207T170000
DTEND;TZID=America/Chicago:20261207T180000
DTSTAMP:20260419T200507
CREATED:20250901T143934Z
LAST-MODIFIED:20250907T184051Z
UID:10001914-1796662800-1796666400@www.ctklsu.org
SUMMARY:Men's Holy Hour
DESCRIPTION:All men are invited to join us every Monday in the Adoration Chapel for our Men’s Holy Hour from 5-6 p.m.
URL:https://www.ctklsu.org/event/mens-holy-hour-2/2026-12-07/
LOCATION:CTK\, CTK\, Baton Rouge\, LA\, 70803\, United States
CATEGORIES:Men's Ministry,Prayer
ATTACH;FMTTYPE=image/jpeg:https://www.ctklsu.org/wp-content/uploads/CTKAdorationnight-024-scaled.jpg
GEO:30.4157757;-91.1750936
X-APPLE-STRUCTURED-LOCATION;VALUE=URI;X-ADDRESS=CTK CTK Baton Rouge LA 70803 United States;X-APPLE-RADIUS=500;X-TITLE=CTK:geo:-91.1750936,30.4157757
END:VEVENT
BEGIN:VEVENT
DTSTART;TZID=America/Chicago:20261210T170000
DTEND;TZID=America/Chicago:20261210T180000
DTSTAMP:20260419T200507
CREATED:20260108T200604Z
LAST-MODIFIED:20260108T200606Z
UID:10002170-1796922000-1796925600@www.ctklsu.org
SUMMARY:Men's Freedom Group
DESCRIPTION:Do you struggle with lust and sexual sin and desire freedom? Freedom Group provides a space to learn how to recover and be free from lust within a fellowship of brothers who are all pursuing this freedom. If you are interested in trying a meeting\, please email Bryce at bpellegrin@ctklsu.org for more information.
URL:https://www.ctklsu.org/event/freedom-group-2/2026-12-10/
LOCATION:St. Aloysius Catholic Church\, 2025 Stuart Ave\, Baton Rouge\, LA\, 70808
CATEGORIES:Formation
ATTACH;FMTTYPE=image/jpeg:https://www.ctklsu.org/wp-content/uploads/69-1O4A1460-scaled.jpg
END:VEVENT
BEGIN:VEVENT
DTSTART;TZID=America/Chicago:20261214T170000
DTEND;TZID=America/Chicago:20261214T180000
DTSTAMP:20260419T200507
CREATED:20250901T143934Z
LAST-MODIFIED:20250907T184051Z
UID:10001915-1797267600-1797271200@www.ctklsu.org
SUMMARY:Men's Holy Hour
DESCRIPTION:All men are invited to join us every Monday in the Adoration Chapel for our Men’s Holy Hour from 5-6 p.m.
URL:https://www.ctklsu.org/event/mens-holy-hour-2/2026-12-14/
LOCATION:CTK\, CTK\, Baton Rouge\, LA\, 70803\, United States
CATEGORIES:Men's Ministry,Prayer
ATTACH;FMTTYPE=image/jpeg:https://www.ctklsu.org/wp-content/uploads/CTKAdorationnight-024-scaled.jpg
GEO:30.4157757;-91.1750936
X-APPLE-STRUCTURED-LOCATION;VALUE=URI;X-ADDRESS=CTK CTK Baton Rouge LA 70803 United States;X-APPLE-RADIUS=500;X-TITLE=CTK:geo:-91.1750936,30.4157757
END:VEVENT
BEGIN:VEVENT
DTSTART;TZID=America/Chicago:20261217T170000
DTEND;TZID=America/Chicago:20261217T180000
DTSTAMP:20260419T200507
CREATED:20260108T200604Z
LAST-MODIFIED:20260108T200606Z
UID:10002171-1797526800-1797530400@www.ctklsu.org
SUMMARY:Men's Freedom Group
DESCRIPTION:Do you struggle with lust and sexual sin and desire freedom? Freedom Group provides a space to learn how to recover and be free from lust within a fellowship of brothers who are all pursuing this freedom. If you are interested in trying a meeting\, please email Bryce at bpellegrin@ctklsu.org for more information.
URL:https://www.ctklsu.org/event/freedom-group-2/2026-12-17/
LOCATION:St. Aloysius Catholic Church\, 2025 Stuart Ave\, Baton Rouge\, LA\, 70808
CATEGORIES:Formation
ATTACH;FMTTYPE=image/jpeg:https://www.ctklsu.org/wp-content/uploads/69-1O4A1460-scaled.jpg
END:VEVENT
BEGIN:VEVENT
DTSTART;TZID=America/Chicago:20261221T170000
DTEND;TZID=America/Chicago:20261221T180000
DTSTAMP:20260419T200507
CREATED:20250901T143934Z
LAST-MODIFIED:20250907T184051Z
UID:10001916-1797872400-1797876000@www.ctklsu.org
SUMMARY:Men's Holy Hour
DESCRIPTION:All men are invited to join us every Monday in the Adoration Chapel for our Men’s Holy Hour from 5-6 p.m.
URL:https://www.ctklsu.org/event/mens-holy-hour-2/2026-12-21/
LOCATION:CTK\, CTK\, Baton Rouge\, LA\, 70803\, United States
CATEGORIES:Men's Ministry,Prayer
ATTACH;FMTTYPE=image/jpeg:https://www.ctklsu.org/wp-content/uploads/CTKAdorationnight-024-scaled.jpg
GEO:30.4157757;-91.1750936
X-APPLE-STRUCTURED-LOCATION;VALUE=URI;X-ADDRESS=CTK CTK Baton Rouge LA 70803 United States;X-APPLE-RADIUS=500;X-TITLE=CTK:geo:-91.1750936,30.4157757
END:VEVENT
BEGIN:VEVENT
DTSTART;TZID=America/Chicago:20261224T170000
DTEND;TZID=America/Chicago:20261224T180000
DTSTAMP:20260419T200507
CREATED:20260108T200604Z
LAST-MODIFIED:20260108T200606Z
UID:10002172-1798131600-1798135200@www.ctklsu.org
SUMMARY:Men's Freedom Group
DESCRIPTION:Do you struggle with lust and sexual sin and desire freedom? Freedom Group provides a space to learn how to recover and be free from lust within a fellowship of brothers who are all pursuing this freedom. If you are interested in trying a meeting\, please email Bryce at bpellegrin@ctklsu.org for more information.
URL:https://www.ctklsu.org/event/freedom-group-2/2026-12-24/
LOCATION:St. Aloysius Catholic Church\, 2025 Stuart Ave\, Baton Rouge\, LA\, 70808
CATEGORIES:Formation
ATTACH;FMTTYPE=image/jpeg:https://www.ctklsu.org/wp-content/uploads/69-1O4A1460-scaled.jpg
END:VEVENT
BEGIN:VEVENT
DTSTART;TZID=America/Chicago:20261228T170000
DTEND;TZID=America/Chicago:20261228T180000
DTSTAMP:20260419T200507
CREATED:20250901T143934Z
LAST-MODIFIED:20250907T184051Z
UID:10001917-1798477200-1798480800@www.ctklsu.org
SUMMARY:Men's Holy Hour
DESCRIPTION:All men are invited to join us every Monday in the Adoration Chapel for our Men’s Holy Hour from 5-6 p.m.
URL:https://www.ctklsu.org/event/mens-holy-hour-2/2026-12-28/
LOCATION:CTK\, CTK\, Baton Rouge\, LA\, 70803\, United States
CATEGORIES:Men's Ministry,Prayer
ATTACH;FMTTYPE=image/jpeg:https://www.ctklsu.org/wp-content/uploads/CTKAdorationnight-024-scaled.jpg
GEO:30.4157757;-91.1750936
X-APPLE-STRUCTURED-LOCATION;VALUE=URI;X-ADDRESS=CTK CTK Baton Rouge LA 70803 United States;X-APPLE-RADIUS=500;X-TITLE=CTK:geo:-91.1750936,30.4157757
END:VEVENT
BEGIN:VEVENT
DTSTART;TZID=America/Chicago:20261231T170000
DTEND;TZID=America/Chicago:20261231T180000
DTSTAMP:20260419T200507
CREATED:20260108T200604Z
LAST-MODIFIED:20260108T200606Z
UID:10002173-1798736400-1798740000@www.ctklsu.org
SUMMARY:Men's Freedom Group
DESCRIPTION:Do you struggle with lust and sexual sin and desire freedom? Freedom Group provides a space to learn how to recover and be free from lust within a fellowship of brothers who are all pursuing this freedom. If you are interested in trying a meeting\, please email Bryce at bpellegrin@ctklsu.org for more information.
URL:https://www.ctklsu.org/event/freedom-group-2/2026-12-31/
LOCATION:St. Aloysius Catholic Church\, 2025 Stuart Ave\, Baton Rouge\, LA\, 70808
CATEGORIES:Formation
ATTACH;FMTTYPE=image/jpeg:https://www.ctklsu.org/wp-content/uploads/69-1O4A1460-scaled.jpg
END:VEVENT
BEGIN:VEVENT
DTSTART;TZID=America/Chicago:20270104T170000
DTEND;TZID=America/Chicago:20270104T180000
DTSTAMP:20260419T200507
CREATED:20250901T143934Z
LAST-MODIFIED:20250907T184051Z
UID:10001918-1799082000-1799085600@www.ctklsu.org
SUMMARY:Men's Holy Hour
DESCRIPTION:All men are invited to join us every Monday in the Adoration Chapel for our Men’s Holy Hour from 5-6 p.m.
URL:https://www.ctklsu.org/event/mens-holy-hour-2/2027-01-04/
LOCATION:CTK\, CTK\, Baton Rouge\, LA\, 70803\, United States
CATEGORIES:Men's Ministry,Prayer
ATTACH;FMTTYPE=image/jpeg:https://www.ctklsu.org/wp-content/uploads/CTKAdorationnight-024-scaled.jpg
GEO:30.4157757;-91.1750936
X-APPLE-STRUCTURED-LOCATION;VALUE=URI;X-ADDRESS=CTK CTK Baton Rouge LA 70803 United States;X-APPLE-RADIUS=500;X-TITLE=CTK:geo:-91.1750936,30.4157757
END:VEVENT
BEGIN:VEVENT
DTSTART;TZID=America/Chicago:20270107T170000
DTEND;TZID=America/Chicago:20270107T180000
DTSTAMP:20260419T200507
CREATED:20260108T200604Z
LAST-MODIFIED:20260108T200606Z
UID:10002174-1799341200-1799344800@www.ctklsu.org
SUMMARY:Men's Freedom Group
DESCRIPTION:Do you struggle with lust and sexual sin and desire freedom? Freedom Group provides a space to learn how to recover and be free from lust within a fellowship of brothers who are all pursuing this freedom. If you are interested in trying a meeting\, please email Bryce at bpellegrin@ctklsu.org for more information.
URL:https://www.ctklsu.org/event/freedom-group-2/2027-01-07/
LOCATION:St. Aloysius Catholic Church\, 2025 Stuart Ave\, Baton Rouge\, LA\, 70808
CATEGORIES:Formation
ATTACH;FMTTYPE=image/jpeg:https://www.ctklsu.org/wp-content/uploads/69-1O4A1460-scaled.jpg
END:VEVENT
END:VCALENDAR