BEGIN:VCALENDAR
VERSION:2.0
PRODID:-//Christ The King - ECPv6.15.20//NONSGML v1.0//EN
CALSCALE:GREGORIAN
METHOD:PUBLISH
X-ORIGINAL-URL:https://www.ctklsu.org
X-WR-CALDESC:Events for Christ The King
REFRESH-INTERVAL;VALUE=DURATION:PT1H
X-Robots-Tag:noindex
X-PUBLISHED-TTL:PT1H
BEGIN:VTIMEZONE
TZID:America/Chicago
BEGIN:DAYLIGHT
TZOFFSETFROM:-0600
TZOFFSETTO:-0500
TZNAME:CDT
DTSTART:20250309T080000
END:DAYLIGHT
BEGIN:STANDARD
TZOFFSETFROM:-0500
TZOFFSETTO:-0600
TZNAME:CST
DTSTART:20251102T070000
END:STANDARD
BEGIN:DAYLIGHT
TZOFFSETFROM:-0600
TZOFFSETTO:-0500
TZNAME:CDT
DTSTART:20260308T080000
END:DAYLIGHT
BEGIN:STANDARD
TZOFFSETFROM:-0500
TZOFFSETTO:-0600
TZNAME:CST
DTSTART:20261101T070000
END:STANDARD
BEGIN:DAYLIGHT
TZOFFSETFROM:-0600
TZOFFSETTO:-0500
TZNAME:CDT
DTSTART:20270314T080000
END:DAYLIGHT
BEGIN:STANDARD
TZOFFSETFROM:-0500
TZOFFSETTO:-0600
TZNAME:CST
DTSTART:20271107T070000
END:STANDARD
END:VTIMEZONE
BEGIN:VEVENT
DTSTART;TZID=America/Chicago:20260514T180000
DTEND;TZID=America/Chicago:20260514T190000
DTSTAMP:20260419T140407
CREATED:20210408T222830Z
LAST-MODIFIED:20260416T020436Z
UID:10000518-1778781600-1778785200@www.ctklsu.org
SUMMARY:Baccalaureate Mass
DESCRIPTION:A special Mass to celebrate the graduating class in all degree levels for Spring and Summer 2026 graduates. \n\nAll Graduates should be ready in the Activity Center by 5:30 p.m. for instruction about their participation in the Mass.\nPlease read below about the Graduate/Senior Thank You opportunity\, your participation is strongly encouraged and appreciated!\n\nPlease contact Noelle at nshipley@ctklsu.org with any questions.
URL:https://www.ctklsu.org/event/baccmass/
LOCATION:CTK – Corner Address\, Highland & Dalrymple\, Baton Rouge\, LA\, 70803\, United States
CATEGORIES:Featured Event,Prayer
ATTACH;FMTTYPE=image/jpeg:https://www.ctklsu.org/wp-content/uploads/IMG_8584-scaled.jpg
GEO:30.4157949;-91.1763586
X-APPLE-STRUCTURED-LOCATION;VALUE=URI;X-ADDRESS=CTK – Corner Address Highland & Dalrymple Baton Rouge LA 70803 United States;X-APPLE-RADIUS=500;X-TITLE=Highland & Dalrymple:geo:-91.1763586,30.4157949
END:VEVENT
BEGIN:VEVENT
DTSTART;TZID=America/Chicago:20260518T170000
DTEND;TZID=America/Chicago:20260518T180000
DTSTAMP:20260419T140407
CREATED:20250901T143934Z
LAST-MODIFIED:20250907T184051Z
UID:10001885-1779123600-1779127200@www.ctklsu.org
SUMMARY:Men's Holy Hour
DESCRIPTION:All men are invited to join us every Monday in the Adoration Chapel for our Men’s Holy Hour from 5-6 p.m.
URL:https://www.ctklsu.org/event/mens-holy-hour-2/2026-05-18/
LOCATION:CTK\, CTK\, Baton Rouge\, LA\, 70803\, United States
CATEGORIES:Men's Ministry,Prayer
ATTACH;FMTTYPE=image/jpeg:https://www.ctklsu.org/wp-content/uploads/CTKAdorationnight-024-scaled.jpg
GEO:30.4157757;-91.1750936
X-APPLE-STRUCTURED-LOCATION;VALUE=URI;X-ADDRESS=CTK CTK Baton Rouge LA 70803 United States;X-APPLE-RADIUS=500;X-TITLE=CTK:geo:-91.1750936,30.4157757
END:VEVENT
BEGIN:VEVENT
DTSTART;TZID=America/Chicago:20260521T170000
DTEND;TZID=America/Chicago:20260521T180000
DTSTAMP:20260419T140407
CREATED:20260108T200604Z
LAST-MODIFIED:20260108T200606Z
UID:10002141-1779382800-1779386400@www.ctklsu.org
SUMMARY:Men's Freedom Group
DESCRIPTION:Do you struggle with lust and sexual sin and desire freedom? Freedom Group provides a space to learn how to recover and be free from lust within a fellowship of brothers who are all pursuing this freedom. If you are interested in trying a meeting\, please email Bryce at bpellegrin@ctklsu.org for more information.
URL:https://www.ctklsu.org/event/freedom-group-2/2026-05-21/
LOCATION:St. Aloysius Catholic Church\, 2025 Stuart Ave\, Baton Rouge\, LA\, 70808
CATEGORIES:Formation
ATTACH;FMTTYPE=image/jpeg:https://www.ctklsu.org/wp-content/uploads/69-1O4A1460-scaled.jpg
END:VEVENT
BEGIN:VEVENT
DTSTART;TZID=America/Chicago:20260525T170000
DTEND;TZID=America/Chicago:20260525T180000
DTSTAMP:20260419T140407
CREATED:20250901T143934Z
LAST-MODIFIED:20250907T184051Z
UID:10001886-1779728400-1779732000@www.ctklsu.org
SUMMARY:Men's Holy Hour
DESCRIPTION:All men are invited to join us every Monday in the Adoration Chapel for our Men’s Holy Hour from 5-6 p.m.
URL:https://www.ctklsu.org/event/mens-holy-hour-2/2026-05-25/
LOCATION:CTK\, CTK\, Baton Rouge\, LA\, 70803\, United States
CATEGORIES:Men's Ministry,Prayer
ATTACH;FMTTYPE=image/jpeg:https://www.ctklsu.org/wp-content/uploads/CTKAdorationnight-024-scaled.jpg
GEO:30.4157757;-91.1750936
X-APPLE-STRUCTURED-LOCATION;VALUE=URI;X-ADDRESS=CTK CTK Baton Rouge LA 70803 United States;X-APPLE-RADIUS=500;X-TITLE=CTK:geo:-91.1750936,30.4157757
END:VEVENT
BEGIN:VEVENT
DTSTART;TZID=America/Chicago:20260528T170000
DTEND;TZID=America/Chicago:20260528T180000
DTSTAMP:20260419T140407
CREATED:20260108T200604Z
LAST-MODIFIED:20260108T200606Z
UID:10002142-1779987600-1779991200@www.ctklsu.org
SUMMARY:Men's Freedom Group
DESCRIPTION:Do you struggle with lust and sexual sin and desire freedom? Freedom Group provides a space to learn how to recover and be free from lust within a fellowship of brothers who are all pursuing this freedom. If you are interested in trying a meeting\, please email Bryce at bpellegrin@ctklsu.org for more information.
URL:https://www.ctklsu.org/event/freedom-group-2/2026-05-28/
LOCATION:St. Aloysius Catholic Church\, 2025 Stuart Ave\, Baton Rouge\, LA\, 70808
CATEGORIES:Formation
ATTACH;FMTTYPE=image/jpeg:https://www.ctklsu.org/wp-content/uploads/69-1O4A1460-scaled.jpg
END:VEVENT
BEGIN:VEVENT
DTSTART;TZID=America/Chicago:20260601T170000
DTEND;TZID=America/Chicago:20260601T180000
DTSTAMP:20260419T140407
CREATED:20250901T143934Z
LAST-MODIFIED:20250907T184051Z
UID:10001887-1780333200-1780336800@www.ctklsu.org
SUMMARY:Men's Holy Hour
DESCRIPTION:All men are invited to join us every Monday in the Adoration Chapel for our Men’s Holy Hour from 5-6 p.m.
URL:https://www.ctklsu.org/event/mens-holy-hour-2/2026-06-01/
LOCATION:CTK\, CTK\, Baton Rouge\, LA\, 70803\, United States
CATEGORIES:Men's Ministry,Prayer
ATTACH;FMTTYPE=image/jpeg:https://www.ctklsu.org/wp-content/uploads/CTKAdorationnight-024-scaled.jpg
GEO:30.4157757;-91.1750936
X-APPLE-STRUCTURED-LOCATION;VALUE=URI;X-ADDRESS=CTK CTK Baton Rouge LA 70803 United States;X-APPLE-RADIUS=500;X-TITLE=CTK:geo:-91.1750936,30.4157757
END:VEVENT
BEGIN:VEVENT
DTSTART;TZID=America/Chicago:20260604T170000
DTEND;TZID=America/Chicago:20260604T180000
DTSTAMP:20260419T140407
CREATED:20260108T200604Z
LAST-MODIFIED:20260108T200606Z
UID:10002143-1780592400-1780596000@www.ctklsu.org
SUMMARY:Men's Freedom Group
DESCRIPTION:Do you struggle with lust and sexual sin and desire freedom? Freedom Group provides a space to learn how to recover and be free from lust within a fellowship of brothers who are all pursuing this freedom. If you are interested in trying a meeting\, please email Bryce at bpellegrin@ctklsu.org for more information.
URL:https://www.ctklsu.org/event/freedom-group-2/2026-06-04/
LOCATION:St. Aloysius Catholic Church\, 2025 Stuart Ave\, Baton Rouge\, LA\, 70808
CATEGORIES:Formation
ATTACH;FMTTYPE=image/jpeg:https://www.ctklsu.org/wp-content/uploads/69-1O4A1460-scaled.jpg
END:VEVENT
BEGIN:VEVENT
DTSTART;TZID=America/Chicago:20260608T170000
DTEND;TZID=America/Chicago:20260608T180000
DTSTAMP:20260419T140407
CREATED:20250901T143934Z
LAST-MODIFIED:20250907T184051Z
UID:10001888-1780938000-1780941600@www.ctklsu.org
SUMMARY:Men's Holy Hour
DESCRIPTION:All men are invited to join us every Monday in the Adoration Chapel for our Men’s Holy Hour from 5-6 p.m.
URL:https://www.ctklsu.org/event/mens-holy-hour-2/2026-06-08/
LOCATION:CTK\, CTK\, Baton Rouge\, LA\, 70803\, United States
CATEGORIES:Men's Ministry,Prayer
ATTACH;FMTTYPE=image/jpeg:https://www.ctklsu.org/wp-content/uploads/CTKAdorationnight-024-scaled.jpg
GEO:30.4157757;-91.1750936
X-APPLE-STRUCTURED-LOCATION;VALUE=URI;X-ADDRESS=CTK CTK Baton Rouge LA 70803 United States;X-APPLE-RADIUS=500;X-TITLE=CTK:geo:-91.1750936,30.4157757
END:VEVENT
BEGIN:VEVENT
DTSTART;TZID=America/Chicago:20260611T170000
DTEND;TZID=America/Chicago:20260611T180000
DTSTAMP:20260419T140407
CREATED:20260108T200604Z
LAST-MODIFIED:20260108T200606Z
UID:10002144-1781197200-1781200800@www.ctklsu.org
SUMMARY:Men's Freedom Group
DESCRIPTION:Do you struggle with lust and sexual sin and desire freedom? Freedom Group provides a space to learn how to recover and be free from lust within a fellowship of brothers who are all pursuing this freedom. If you are interested in trying a meeting\, please email Bryce at bpellegrin@ctklsu.org for more information.
URL:https://www.ctklsu.org/event/freedom-group-2/2026-06-11/
LOCATION:St. Aloysius Catholic Church\, 2025 Stuart Ave\, Baton Rouge\, LA\, 70808
CATEGORIES:Formation
ATTACH;FMTTYPE=image/jpeg:https://www.ctklsu.org/wp-content/uploads/69-1O4A1460-scaled.jpg
END:VEVENT
BEGIN:VEVENT
DTSTART;TZID=America/Chicago:20260615T170000
DTEND;TZID=America/Chicago:20260615T180000
DTSTAMP:20260419T140407
CREATED:20250901T143934Z
LAST-MODIFIED:20250907T184051Z
UID:10001889-1781542800-1781546400@www.ctklsu.org
SUMMARY:Men's Holy Hour
DESCRIPTION:All men are invited to join us every Monday in the Adoration Chapel for our Men’s Holy Hour from 5-6 p.m.
URL:https://www.ctklsu.org/event/mens-holy-hour-2/2026-06-15/
LOCATION:CTK\, CTK\, Baton Rouge\, LA\, 70803\, United States
CATEGORIES:Men's Ministry,Prayer
ATTACH;FMTTYPE=image/jpeg:https://www.ctklsu.org/wp-content/uploads/CTKAdorationnight-024-scaled.jpg
GEO:30.4157757;-91.1750936
X-APPLE-STRUCTURED-LOCATION;VALUE=URI;X-ADDRESS=CTK CTK Baton Rouge LA 70803 United States;X-APPLE-RADIUS=500;X-TITLE=CTK:geo:-91.1750936,30.4157757
END:VEVENT
BEGIN:VEVENT
DTSTART;TZID=America/Chicago:20260618T170000
DTEND;TZID=America/Chicago:20260618T180000
DTSTAMP:20260419T140407
CREATED:20260108T200604Z
LAST-MODIFIED:20260108T200606Z
UID:10002145-1781802000-1781805600@www.ctklsu.org
SUMMARY:Men's Freedom Group
DESCRIPTION:Do you struggle with lust and sexual sin and desire freedom? Freedom Group provides a space to learn how to recover and be free from lust within a fellowship of brothers who are all pursuing this freedom. If you are interested in trying a meeting\, please email Bryce at bpellegrin@ctklsu.org for more information.
URL:https://www.ctklsu.org/event/freedom-group-2/2026-06-18/
LOCATION:St. Aloysius Catholic Church\, 2025 Stuart Ave\, Baton Rouge\, LA\, 70808
CATEGORIES:Formation
ATTACH;FMTTYPE=image/jpeg:https://www.ctklsu.org/wp-content/uploads/69-1O4A1460-scaled.jpg
END:VEVENT
BEGIN:VEVENT
DTSTART;TZID=America/Chicago:20260622T170000
DTEND;TZID=America/Chicago:20260622T180000
DTSTAMP:20260419T140407
CREATED:20250901T143934Z
LAST-MODIFIED:20250907T184051Z
UID:10001890-1782147600-1782151200@www.ctklsu.org
SUMMARY:Men's Holy Hour
DESCRIPTION:All men are invited to join us every Monday in the Adoration Chapel for our Men’s Holy Hour from 5-6 p.m.
URL:https://www.ctklsu.org/event/mens-holy-hour-2/2026-06-22/
LOCATION:CTK\, CTK\, Baton Rouge\, LA\, 70803\, United States
CATEGORIES:Men's Ministry,Prayer
ATTACH;FMTTYPE=image/jpeg:https://www.ctklsu.org/wp-content/uploads/CTKAdorationnight-024-scaled.jpg
GEO:30.4157757;-91.1750936
X-APPLE-STRUCTURED-LOCATION;VALUE=URI;X-ADDRESS=CTK CTK Baton Rouge LA 70803 United States;X-APPLE-RADIUS=500;X-TITLE=CTK:geo:-91.1750936,30.4157757
END:VEVENT
BEGIN:VEVENT
DTSTART;TZID=America/Chicago:20260625T170000
DTEND;TZID=America/Chicago:20260625T180000
DTSTAMP:20260419T140407
CREATED:20260108T200604Z
LAST-MODIFIED:20260108T200606Z
UID:10002146-1782406800-1782410400@www.ctklsu.org
SUMMARY:Men's Freedom Group
DESCRIPTION:Do you struggle with lust and sexual sin and desire freedom? Freedom Group provides a space to learn how to recover and be free from lust within a fellowship of brothers who are all pursuing this freedom. If you are interested in trying a meeting\, please email Bryce at bpellegrin@ctklsu.org for more information.
URL:https://www.ctklsu.org/event/freedom-group-2/2026-06-25/
LOCATION:St. Aloysius Catholic Church\, 2025 Stuart Ave\, Baton Rouge\, LA\, 70808
CATEGORIES:Formation
ATTACH;FMTTYPE=image/jpeg:https://www.ctklsu.org/wp-content/uploads/69-1O4A1460-scaled.jpg
END:VEVENT
BEGIN:VEVENT
DTSTART;TZID=America/Chicago:20260629T170000
DTEND;TZID=America/Chicago:20260629T180000
DTSTAMP:20260419T140407
CREATED:20250901T143934Z
LAST-MODIFIED:20250907T184051Z
UID:10001891-1782752400-1782756000@www.ctklsu.org
SUMMARY:Men's Holy Hour
DESCRIPTION:All men are invited to join us every Monday in the Adoration Chapel for our Men’s Holy Hour from 5-6 p.m.
URL:https://www.ctklsu.org/event/mens-holy-hour-2/2026-06-29/
LOCATION:CTK\, CTK\, Baton Rouge\, LA\, 70803\, United States
CATEGORIES:Men's Ministry,Prayer
ATTACH;FMTTYPE=image/jpeg:https://www.ctklsu.org/wp-content/uploads/CTKAdorationnight-024-scaled.jpg
GEO:30.4157757;-91.1750936
X-APPLE-STRUCTURED-LOCATION;VALUE=URI;X-ADDRESS=CTK CTK Baton Rouge LA 70803 United States;X-APPLE-RADIUS=500;X-TITLE=CTK:geo:-91.1750936,30.4157757
END:VEVENT
BEGIN:VEVENT
DTSTART;TZID=America/Chicago:20260702T170000
DTEND;TZID=America/Chicago:20260702T180000
DTSTAMP:20260419T140407
CREATED:20260108T200604Z
LAST-MODIFIED:20260108T200606Z
UID:10002147-1783011600-1783015200@www.ctklsu.org
SUMMARY:Men's Freedom Group
DESCRIPTION:Do you struggle with lust and sexual sin and desire freedom? Freedom Group provides a space to learn how to recover and be free from lust within a fellowship of brothers who are all pursuing this freedom. If you are interested in trying a meeting\, please email Bryce at bpellegrin@ctklsu.org for more information.
URL:https://www.ctklsu.org/event/freedom-group-2/2026-07-02/
LOCATION:St. Aloysius Catholic Church\, 2025 Stuart Ave\, Baton Rouge\, LA\, 70808
CATEGORIES:Formation
ATTACH;FMTTYPE=image/jpeg:https://www.ctklsu.org/wp-content/uploads/69-1O4A1460-scaled.jpg
END:VEVENT
BEGIN:VEVENT
DTSTART;TZID=America/Chicago:20260706T170000
DTEND;TZID=America/Chicago:20260706T180000
DTSTAMP:20260419T140407
CREATED:20250901T143934Z
LAST-MODIFIED:20250907T184051Z
UID:10001892-1783357200-1783360800@www.ctklsu.org
SUMMARY:Men's Holy Hour
DESCRIPTION:All men are invited to join us every Monday in the Adoration Chapel for our Men’s Holy Hour from 5-6 p.m.
URL:https://www.ctklsu.org/event/mens-holy-hour-2/2026-07-06/
LOCATION:CTK\, CTK\, Baton Rouge\, LA\, 70803\, United States
CATEGORIES:Men's Ministry,Prayer
ATTACH;FMTTYPE=image/jpeg:https://www.ctklsu.org/wp-content/uploads/CTKAdorationnight-024-scaled.jpg
GEO:30.4157757;-91.1750936
X-APPLE-STRUCTURED-LOCATION;VALUE=URI;X-ADDRESS=CTK CTK Baton Rouge LA 70803 United States;X-APPLE-RADIUS=500;X-TITLE=CTK:geo:-91.1750936,30.4157757
END:VEVENT
BEGIN:VEVENT
DTSTART;TZID=America/Chicago:20260709T170000
DTEND;TZID=America/Chicago:20260709T180000
DTSTAMP:20260419T140407
CREATED:20260108T200604Z
LAST-MODIFIED:20260108T200606Z
UID:10002148-1783616400-1783620000@www.ctklsu.org
SUMMARY:Men's Freedom Group
DESCRIPTION:Do you struggle with lust and sexual sin and desire freedom? Freedom Group provides a space to learn how to recover and be free from lust within a fellowship of brothers who are all pursuing this freedom. If you are interested in trying a meeting\, please email Bryce at bpellegrin@ctklsu.org for more information.
URL:https://www.ctklsu.org/event/freedom-group-2/2026-07-09/
LOCATION:St. Aloysius Catholic Church\, 2025 Stuart Ave\, Baton Rouge\, LA\, 70808
CATEGORIES:Formation
ATTACH;FMTTYPE=image/jpeg:https://www.ctklsu.org/wp-content/uploads/69-1O4A1460-scaled.jpg
END:VEVENT
BEGIN:VEVENT
DTSTART;VALUE=DATE:20260713
DTEND;VALUE=DATE:20260725
DTSTAMP:20260419T140407
CREATED:20220922T194808Z
LAST-MODIFIED:20251118T172606Z
UID:10000795-1783900800-1784937599@www.ctklsu.org
SUMMARY:France Pilgrimage
DESCRIPTION:Allons\, Tigres! \nWe’re teaming up with our friends at Altum L’alto Pilgrimages to embark on a pilgrimage across France from July 13 to 24\, 2026! \nWe’ll begin the pilgrimage in Paris and travel to cities such as Lisieux\, where Sts. Therese\, Zélie\, and Louis Martin are from and Alençon\, where St. Therese grew up. Other pilgrimage sites include Rocamadour\, Toulouse\, to see the tomb of St. Thomas Aquinas\, and Lourdes. The trip will also include a three-day kayak trip along the Dordogne River\, a hike in the Pyrenees Mountains\, and biking. \nTrip cost is $2\,750. Flights to and from Europe are an additional cost. Fundraising options are available. Friday\, Feb. 6\, is the deadline to apply with a $500 deposit. Please contact Rachel with questions at rhaydel@ctklsu.org.
URL:https://www.ctklsu.org/event/france/
LOCATION:France
CATEGORIES:Featured Event,Formation,Prayer
ATTACH;FMTTYPE=image/jpeg:https://www.ctklsu.org/wp-content/uploads/1O4A4952-scaled.jpg
END:VEVENT
BEGIN:VEVENT
DTSTART;TZID=America/Chicago:20260713T170000
DTEND;TZID=America/Chicago:20260713T180000
DTSTAMP:20260419T140407
CREATED:20250901T143934Z
LAST-MODIFIED:20250907T184051Z
UID:10001893-1783962000-1783965600@www.ctklsu.org
SUMMARY:Men's Holy Hour
DESCRIPTION:All men are invited to join us every Monday in the Adoration Chapel for our Men’s Holy Hour from 5-6 p.m.
URL:https://www.ctklsu.org/event/mens-holy-hour-2/2026-07-13/
LOCATION:CTK\, CTK\, Baton Rouge\, LA\, 70803\, United States
CATEGORIES:Men's Ministry,Prayer
ATTACH;FMTTYPE=image/jpeg:https://www.ctklsu.org/wp-content/uploads/CTKAdorationnight-024-scaled.jpg
GEO:30.4157757;-91.1750936
X-APPLE-STRUCTURED-LOCATION;VALUE=URI;X-ADDRESS=CTK CTK Baton Rouge LA 70803 United States;X-APPLE-RADIUS=500;X-TITLE=CTK:geo:-91.1750936,30.4157757
END:VEVENT
BEGIN:VEVENT
DTSTART;TZID=America/Chicago:20260716T170000
DTEND;TZID=America/Chicago:20260716T180000
DTSTAMP:20260419T140407
CREATED:20260108T200604Z
LAST-MODIFIED:20260108T200606Z
UID:10002149-1784221200-1784224800@www.ctklsu.org
SUMMARY:Men's Freedom Group
DESCRIPTION:Do you struggle with lust and sexual sin and desire freedom? Freedom Group provides a space to learn how to recover and be free from lust within a fellowship of brothers who are all pursuing this freedom. If you are interested in trying a meeting\, please email Bryce at bpellegrin@ctklsu.org for more information.
URL:https://www.ctklsu.org/event/freedom-group-2/2026-07-16/
LOCATION:St. Aloysius Catholic Church\, 2025 Stuart Ave\, Baton Rouge\, LA\, 70808
CATEGORIES:Formation
ATTACH;FMTTYPE=image/jpeg:https://www.ctklsu.org/wp-content/uploads/69-1O4A1460-scaled.jpg
END:VEVENT
BEGIN:VEVENT
DTSTART;TZID=America/Chicago:20260720T170000
DTEND;TZID=America/Chicago:20260720T180000
DTSTAMP:20260419T140407
CREATED:20250901T143934Z
LAST-MODIFIED:20250907T184051Z
UID:10001894-1784566800-1784570400@www.ctklsu.org
SUMMARY:Men's Holy Hour
DESCRIPTION:All men are invited to join us every Monday in the Adoration Chapel for our Men’s Holy Hour from 5-6 p.m.
URL:https://www.ctklsu.org/event/mens-holy-hour-2/2026-07-20/
LOCATION:CTK\, CTK\, Baton Rouge\, LA\, 70803\, United States
CATEGORIES:Men's Ministry,Prayer
ATTACH;FMTTYPE=image/jpeg:https://www.ctklsu.org/wp-content/uploads/CTKAdorationnight-024-scaled.jpg
GEO:30.4157757;-91.1750936
X-APPLE-STRUCTURED-LOCATION;VALUE=URI;X-ADDRESS=CTK CTK Baton Rouge LA 70803 United States;X-APPLE-RADIUS=500;X-TITLE=CTK:geo:-91.1750936,30.4157757
END:VEVENT
BEGIN:VEVENT
DTSTART;TZID=America/Chicago:20260723T170000
DTEND;TZID=America/Chicago:20260723T180000
DTSTAMP:20260419T140407
CREATED:20260108T200604Z
LAST-MODIFIED:20260108T200606Z
UID:10002150-1784826000-1784829600@www.ctklsu.org
SUMMARY:Men's Freedom Group
DESCRIPTION:Do you struggle with lust and sexual sin and desire freedom? Freedom Group provides a space to learn how to recover and be free from lust within a fellowship of brothers who are all pursuing this freedom. If you are interested in trying a meeting\, please email Bryce at bpellegrin@ctklsu.org for more information.
URL:https://www.ctklsu.org/event/freedom-group-2/2026-07-23/
LOCATION:St. Aloysius Catholic Church\, 2025 Stuart Ave\, Baton Rouge\, LA\, 70808
CATEGORIES:Formation
ATTACH;FMTTYPE=image/jpeg:https://www.ctklsu.org/wp-content/uploads/69-1O4A1460-scaled.jpg
END:VEVENT
BEGIN:VEVENT
DTSTART;TZID=America/Chicago:20260727T170000
DTEND;TZID=America/Chicago:20260727T180000
DTSTAMP:20260419T140407
CREATED:20250901T143934Z
LAST-MODIFIED:20250907T184051Z
UID:10001895-1785171600-1785175200@www.ctklsu.org
SUMMARY:Men's Holy Hour
DESCRIPTION:All men are invited to join us every Monday in the Adoration Chapel for our Men’s Holy Hour from 5-6 p.m.
URL:https://www.ctklsu.org/event/mens-holy-hour-2/2026-07-27/
LOCATION:CTK\, CTK\, Baton Rouge\, LA\, 70803\, United States
CATEGORIES:Men's Ministry,Prayer
ATTACH;FMTTYPE=image/jpeg:https://www.ctklsu.org/wp-content/uploads/CTKAdorationnight-024-scaled.jpg
GEO:30.4157757;-91.1750936
X-APPLE-STRUCTURED-LOCATION;VALUE=URI;X-ADDRESS=CTK CTK Baton Rouge LA 70803 United States;X-APPLE-RADIUS=500;X-TITLE=CTK:geo:-91.1750936,30.4157757
END:VEVENT
BEGIN:VEVENT
DTSTART;TZID=America/Chicago:20260730T170000
DTEND;TZID=America/Chicago:20260730T180000
DTSTAMP:20260419T140407
CREATED:20260108T200604Z
LAST-MODIFIED:20260108T200606Z
UID:10002151-1785430800-1785434400@www.ctklsu.org
SUMMARY:Men's Freedom Group
DESCRIPTION:Do you struggle with lust and sexual sin and desire freedom? Freedom Group provides a space to learn how to recover and be free from lust within a fellowship of brothers who are all pursuing this freedom. If you are interested in trying a meeting\, please email Bryce at bpellegrin@ctklsu.org for more information.
URL:https://www.ctklsu.org/event/freedom-group-2/2026-07-30/
LOCATION:St. Aloysius Catholic Church\, 2025 Stuart Ave\, Baton Rouge\, LA\, 70808
CATEGORIES:Formation
ATTACH;FMTTYPE=image/jpeg:https://www.ctklsu.org/wp-content/uploads/69-1O4A1460-scaled.jpg
END:VEVENT
BEGIN:VEVENT
DTSTART;TZID=America/Chicago:20260803T170000
DTEND;TZID=America/Chicago:20260803T180000
DTSTAMP:20260419T140407
CREATED:20250901T143934Z
LAST-MODIFIED:20250907T184051Z
UID:10001896-1785776400-1785780000@www.ctklsu.org
SUMMARY:Men's Holy Hour
DESCRIPTION:All men are invited to join us every Monday in the Adoration Chapel for our Men’s Holy Hour from 5-6 p.m.
URL:https://www.ctklsu.org/event/mens-holy-hour-2/2026-08-03/
LOCATION:CTK\, CTK\, Baton Rouge\, LA\, 70803\, United States
CATEGORIES:Men's Ministry,Prayer
ATTACH;FMTTYPE=image/jpeg:https://www.ctklsu.org/wp-content/uploads/CTKAdorationnight-024-scaled.jpg
GEO:30.4157757;-91.1750936
X-APPLE-STRUCTURED-LOCATION;VALUE=URI;X-ADDRESS=CTK CTK Baton Rouge LA 70803 United States;X-APPLE-RADIUS=500;X-TITLE=CTK:geo:-91.1750936,30.4157757
END:VEVENT
BEGIN:VEVENT
DTSTART;TZID=America/Chicago:20260806T170000
DTEND;TZID=America/Chicago:20260806T180000
DTSTAMP:20260419T140407
CREATED:20260108T200604Z
LAST-MODIFIED:20260108T200606Z
UID:10002152-1786035600-1786039200@www.ctklsu.org
SUMMARY:Men's Freedom Group
DESCRIPTION:Do you struggle with lust and sexual sin and desire freedom? Freedom Group provides a space to learn how to recover and be free from lust within a fellowship of brothers who are all pursuing this freedom. If you are interested in trying a meeting\, please email Bryce at bpellegrin@ctklsu.org for more information.
URL:https://www.ctklsu.org/event/freedom-group-2/2026-08-06/
LOCATION:St. Aloysius Catholic Church\, 2025 Stuart Ave\, Baton Rouge\, LA\, 70808
CATEGORIES:Formation
ATTACH;FMTTYPE=image/jpeg:https://www.ctklsu.org/wp-content/uploads/69-1O4A1460-scaled.jpg
END:VEVENT
BEGIN:VEVENT
DTSTART;TZID=America/Chicago:20260810T170000
DTEND;TZID=America/Chicago:20260810T180000
DTSTAMP:20260419T140407
CREATED:20250901T143934Z
LAST-MODIFIED:20250907T184051Z
UID:10001897-1786381200-1786384800@www.ctklsu.org
SUMMARY:Men's Holy Hour
DESCRIPTION:All men are invited to join us every Monday in the Adoration Chapel for our Men’s Holy Hour from 5-6 p.m.
URL:https://www.ctklsu.org/event/mens-holy-hour-2/2026-08-10/
LOCATION:CTK\, CTK\, Baton Rouge\, LA\, 70803\, United States
CATEGORIES:Men's Ministry,Prayer
ATTACH;FMTTYPE=image/jpeg:https://www.ctklsu.org/wp-content/uploads/CTKAdorationnight-024-scaled.jpg
GEO:30.4157757;-91.1750936
X-APPLE-STRUCTURED-LOCATION;VALUE=URI;X-ADDRESS=CTK CTK Baton Rouge LA 70803 United States;X-APPLE-RADIUS=500;X-TITLE=CTK:geo:-91.1750936,30.4157757
END:VEVENT
BEGIN:VEVENT
DTSTART;TZID=America/Chicago:20260813T170000
DTEND;TZID=America/Chicago:20260813T180000
DTSTAMP:20260419T140407
CREATED:20260108T200604Z
LAST-MODIFIED:20260108T200606Z
UID:10002153-1786640400-1786644000@www.ctklsu.org
SUMMARY:Men's Freedom Group
DESCRIPTION:Do you struggle with lust and sexual sin and desire freedom? Freedom Group provides a space to learn how to recover and be free from lust within a fellowship of brothers who are all pursuing this freedom. If you are interested in trying a meeting\, please email Bryce at bpellegrin@ctklsu.org for more information.
URL:https://www.ctklsu.org/event/freedom-group-2/2026-08-13/
LOCATION:St. Aloysius Catholic Church\, 2025 Stuart Ave\, Baton Rouge\, LA\, 70808
CATEGORIES:Formation
ATTACH;FMTTYPE=image/jpeg:https://www.ctklsu.org/wp-content/uploads/69-1O4A1460-scaled.jpg
END:VEVENT
BEGIN:VEVENT
DTSTART;TZID=America/Chicago:20260817T170000
DTEND;TZID=America/Chicago:20260817T180000
DTSTAMP:20260419T140407
CREATED:20250901T143934Z
LAST-MODIFIED:20250907T184051Z
UID:10001898-1786986000-1786989600@www.ctklsu.org
SUMMARY:Men's Holy Hour
DESCRIPTION:All men are invited to join us every Monday in the Adoration Chapel for our Men’s Holy Hour from 5-6 p.m.
URL:https://www.ctklsu.org/event/mens-holy-hour-2/2026-08-17/
LOCATION:CTK\, CTK\, Baton Rouge\, LA\, 70803\, United States
CATEGORIES:Men's Ministry,Prayer
ATTACH;FMTTYPE=image/jpeg:https://www.ctklsu.org/wp-content/uploads/CTKAdorationnight-024-scaled.jpg
GEO:30.4157757;-91.1750936
X-APPLE-STRUCTURED-LOCATION;VALUE=URI;X-ADDRESS=CTK CTK Baton Rouge LA 70803 United States;X-APPLE-RADIUS=500;X-TITLE=CTK:geo:-91.1750936,30.4157757
END:VEVENT
BEGIN:VEVENT
DTSTART;TZID=America/Chicago:20260820T170000
DTEND;TZID=America/Chicago:20260820T180000
DTSTAMP:20260419T140407
CREATED:20260108T200604Z
LAST-MODIFIED:20260108T200606Z
UID:10002154-1787245200-1787248800@www.ctklsu.org
SUMMARY:Men's Freedom Group
DESCRIPTION:Do you struggle with lust and sexual sin and desire freedom? Freedom Group provides a space to learn how to recover and be free from lust within a fellowship of brothers who are all pursuing this freedom. If you are interested in trying a meeting\, please email Bryce at bpellegrin@ctklsu.org for more information.
URL:https://www.ctklsu.org/event/freedom-group-2/2026-08-20/
LOCATION:St. Aloysius Catholic Church\, 2025 Stuart Ave\, Baton Rouge\, LA\, 70808
CATEGORIES:Formation
ATTACH;FMTTYPE=image/jpeg:https://www.ctklsu.org/wp-content/uploads/69-1O4A1460-scaled.jpg
END:VEVENT
END:VCALENDAR