BEGIN:VCALENDAR
VERSION:2.0
PRODID:-//Christ The King - ECPv6.15.20//NONSGML v1.0//EN
CALSCALE:GREGORIAN
METHOD:PUBLISH
X-WR-CALNAME:Christ The King
X-ORIGINAL-URL:https://www.ctklsu.org
X-WR-CALDESC:Events for Christ The King
REFRESH-INTERVAL;VALUE=DURATION:PT1H
X-Robots-Tag:noindex
X-PUBLISHED-TTL:PT1H
BEGIN:VTIMEZONE
TZID:America/Chicago
BEGIN:DAYLIGHT
TZOFFSETFROM:-0600
TZOFFSETTO:-0500
TZNAME:CDT
DTSTART:20240310T080000
END:DAYLIGHT
BEGIN:STANDARD
TZOFFSETFROM:-0500
TZOFFSETTO:-0600
TZNAME:CST
DTSTART:20241103T070000
END:STANDARD
BEGIN:DAYLIGHT
TZOFFSETFROM:-0600
TZOFFSETTO:-0500
TZNAME:CDT
DTSTART:20250309T080000
END:DAYLIGHT
BEGIN:STANDARD
TZOFFSETFROM:-0500
TZOFFSETTO:-0600
TZNAME:CST
DTSTART:20251102T070000
END:STANDARD
BEGIN:DAYLIGHT
TZOFFSETFROM:-0600
TZOFFSETTO:-0500
TZNAME:CDT
DTSTART:20260308T080000
END:DAYLIGHT
BEGIN:STANDARD
TZOFFSETFROM:-0500
TZOFFSETTO:-0600
TZNAME:CST
DTSTART:20261101T070000
END:STANDARD
END:VTIMEZONE
BEGIN:VEVENT
DTSTART;TZID=America/Chicago:20250820T164500
DTEND;TZID=America/Chicago:20250820T174500
DTSTAMP:20260420T070943
CREATED:20250603T171655Z
LAST-MODIFIED:20250603T171746Z
UID:10001569-1755708300-1755711900@www.ctklsu.org
SUMMARY:Men's Freedom Group
DESCRIPTION:Do you struggle with lust and sexual sin and desire freedom? Freedom Group provides a space to learn how to recover and be free from lust within a fellowship of brothers who are all pursuing this freedom. If you are interested in trying a meeting\, please email Bryce at bpellegrin@ctklsu.org for more information. \nWe will meet in Gonzaga Hall at St. Aloysius Catholic Church.\nClick here to see a map of St. Aloysius
URL:https://www.ctklsu.org/event/freedom-group/2025-08-20/
LOCATION:St. Aloysius Catholic Church\, 2025 Stuart Ave\, Baton Rouge\, LA\, 70808
CATEGORIES:Formation
ATTACH;FMTTYPE=image/jpeg:https://www.ctklsu.org/wp-content/uploads/69-1O4A1460-scaled.jpg
END:VEVENT
BEGIN:VEVENT
DTSTART;TZID=America/Chicago:20250820T100000
DTEND;TZID=America/Chicago:20250820T120000
DTSTAMP:20260420T070943
CREATED:20220816T174635Z
LAST-MODIFIED:20250721T163440Z
UID:10000699-1755684000-1755691200@www.ctklsu.org
SUMMARY:Pancake Breakfast
DESCRIPTION:Come to CTK at 10a.m. for breakfast on us! Enjoy pancakes and mingle with campus ministers and other students. All are invited!
URL:https://www.ctklsu.org/event/pancakes/
LOCATION:CTK\, CTK\, Baton Rouge\, LA\, 70803\, United States
CATEGORIES:Social
ATTACH;FMTTYPE=image/jpeg:https://www.ctklsu.org/wp-content/uploads/IMG_5410-scaled.jpg
GEO:30.4157757;-91.1750936
X-APPLE-STRUCTURED-LOCATION;VALUE=URI;X-ADDRESS=CTK CTK Baton Rouge LA 70803 United States;X-APPLE-RADIUS=500;X-TITLE=CTK:geo:-91.1750936,30.4157757
END:VEVENT
BEGIN:VEVENT
DTSTART;TZID=America/Chicago:20250819T190000
DTEND;TZID=America/Chicago:20250819T210000
DTSTAMP:20260420T070943
CREATED:20230809T163657Z
LAST-MODIFIED:20250721T162721Z
UID:10000978-1755630000-1755637200@www.ctklsu.org
SUMMARY:Women's Greek Dinner
DESCRIPTION:All women interested in joining Greek life at LSU are invited to our women’s Greek dinner on Tuesday\, Aug. 19\, at 7 p.m. in the Activity Center. Stop by CTK for dinner\, meet other girls interested in joining Greek life\, and hear a short talk!
URL:https://www.ctklsu.org/event/womensgreekdinner/
LOCATION:CTK\, CTK\, Baton Rouge\, LA\, 70803\, United States
CATEGORIES:Social
ATTACH;FMTTYPE=image/jpeg:https://www.ctklsu.org/wp-content/uploads/F18-BlockParty-104-scaled.jpg
GEO:30.4157757;-91.1750936
X-APPLE-STRUCTURED-LOCATION;VALUE=URI;X-ADDRESS=CTK CTK Baton Rouge LA 70803 United States;X-APPLE-RADIUS=500;X-TITLE=CTK:geo:-91.1750936,30.4157757
END:VEVENT
BEGIN:VEVENT
DTSTART;TZID=America/Chicago:20250813T164500
DTEND;TZID=America/Chicago:20250813T174500
DTSTAMP:20260420T070943
CREATED:20250603T171655Z
LAST-MODIFIED:20250603T171746Z
UID:10001568-1755103500-1755107100@www.ctklsu.org
SUMMARY:Men's Freedom Group
DESCRIPTION:Do you struggle with lust and sexual sin and desire freedom? Freedom Group provides a space to learn how to recover and be free from lust within a fellowship of brothers who are all pursuing this freedom. If you are interested in trying a meeting\, please email Bryce at bpellegrin@ctklsu.org for more information. \nWe will meet in Gonzaga Hall at St. Aloysius Catholic Church.\nClick here to see a map of St. Aloysius
URL:https://www.ctklsu.org/event/freedom-group/2025-08-13/
LOCATION:St. Aloysius Catholic Church\, 2025 Stuart Ave\, Baton Rouge\, LA\, 70808
CATEGORIES:Formation
ATTACH;FMTTYPE=image/jpeg:https://www.ctklsu.org/wp-content/uploads/69-1O4A1460-scaled.jpg
END:VEVENT
BEGIN:VEVENT
DTSTART;TZID=America/Chicago:20250806T164500
DTEND;TZID=America/Chicago:20250806T174500
DTSTAMP:20260420T070943
CREATED:20250603T171655Z
LAST-MODIFIED:20250603T171746Z
UID:10001567-1754498700-1754502300@www.ctklsu.org
SUMMARY:Men's Freedom Group
DESCRIPTION:Do you struggle with lust and sexual sin and desire freedom? Freedom Group provides a space to learn how to recover and be free from lust within a fellowship of brothers who are all pursuing this freedom. If you are interested in trying a meeting\, please email Bryce at bpellegrin@ctklsu.org for more information. \nWe will meet in Gonzaga Hall at St. Aloysius Catholic Church.\nClick here to see a map of St. Aloysius
URL:https://www.ctklsu.org/event/freedom-group/2025-08-06/
LOCATION:St. Aloysius Catholic Church\, 2025 Stuart Ave\, Baton Rouge\, LA\, 70808
CATEGORIES:Formation
ATTACH;FMTTYPE=image/jpeg:https://www.ctklsu.org/wp-content/uploads/69-1O4A1460-scaled.jpg
END:VEVENT
BEGIN:VEVENT
DTSTART;TZID=America/Chicago:20250730T164500
DTEND;TZID=America/Chicago:20250730T174500
DTSTAMP:20260420T070943
CREATED:20250603T171655Z
LAST-MODIFIED:20250603T171746Z
UID:10001566-1753893900-1753897500@www.ctklsu.org
SUMMARY:Men's Freedom Group
DESCRIPTION:Do you struggle with lust and sexual sin and desire freedom? Freedom Group provides a space to learn how to recover and be free from lust within a fellowship of brothers who are all pursuing this freedom. If you are interested in trying a meeting\, please email Bryce at bpellegrin@ctklsu.org for more information. \nWe will meet in Gonzaga Hall at St. Aloysius Catholic Church.\nClick here to see a map of St. Aloysius
URL:https://www.ctklsu.org/event/freedom-group/2025-07-30/
LOCATION:St. Aloysius Catholic Church\, 2025 Stuart Ave\, Baton Rouge\, LA\, 70808
CATEGORIES:Formation
ATTACH;FMTTYPE=image/jpeg:https://www.ctklsu.org/wp-content/uploads/69-1O4A1460-scaled.jpg
END:VEVENT
BEGIN:VEVENT
DTSTART;TZID=America/Chicago:20250723T164500
DTEND;TZID=America/Chicago:20250723T174500
DTSTAMP:20260420T070943
CREATED:20250603T171655Z
LAST-MODIFIED:20250603T171746Z
UID:10001565-1753289100-1753292700@www.ctklsu.org
SUMMARY:Men's Freedom Group
DESCRIPTION:Do you struggle with lust and sexual sin and desire freedom? Freedom Group provides a space to learn how to recover and be free from lust within a fellowship of brothers who are all pursuing this freedom. If you are interested in trying a meeting\, please email Bryce at bpellegrin@ctklsu.org for more information. \nWe will meet in Gonzaga Hall at St. Aloysius Catholic Church.\nClick here to see a map of St. Aloysius
URL:https://www.ctklsu.org/event/freedom-group/2025-07-23/
LOCATION:St. Aloysius Catholic Church\, 2025 Stuart Ave\, Baton Rouge\, LA\, 70808
CATEGORIES:Formation
ATTACH;FMTTYPE=image/jpeg:https://www.ctklsu.org/wp-content/uploads/69-1O4A1460-scaled.jpg
END:VEVENT
BEGIN:VEVENT
DTSTART;TZID=America/Chicago:20250716T164500
DTEND;TZID=America/Chicago:20250716T174500
DTSTAMP:20260420T070943
CREATED:20250603T171655Z
LAST-MODIFIED:20250603T171746Z
UID:10001564-1752684300-1752687900@www.ctklsu.org
SUMMARY:Men's Freedom Group
DESCRIPTION:Do you struggle with lust and sexual sin and desire freedom? Freedom Group provides a space to learn how to recover and be free from lust within a fellowship of brothers who are all pursuing this freedom. If you are interested in trying a meeting\, please email Bryce at bpellegrin@ctklsu.org for more information. \nWe will meet in Gonzaga Hall at St. Aloysius Catholic Church.\nClick here to see a map of St. Aloysius
URL:https://www.ctklsu.org/event/freedom-group/2025-07-16/
LOCATION:St. Aloysius Catholic Church\, 2025 Stuart Ave\, Baton Rouge\, LA\, 70808
CATEGORIES:Formation
ATTACH;FMTTYPE=image/jpeg:https://www.ctklsu.org/wp-content/uploads/69-1O4A1460-scaled.jpg
END:VEVENT
BEGIN:VEVENT
DTSTART;TZID=America/Chicago:20250709T164500
DTEND;TZID=America/Chicago:20250709T174500
DTSTAMP:20260420T070943
CREATED:20250603T171655Z
LAST-MODIFIED:20250603T171746Z
UID:10001563-1752079500-1752083100@www.ctklsu.org
SUMMARY:Men's Freedom Group
DESCRIPTION:Do you struggle with lust and sexual sin and desire freedom? Freedom Group provides a space to learn how to recover and be free from lust within a fellowship of brothers who are all pursuing this freedom. If you are interested in trying a meeting\, please email Bryce at bpellegrin@ctklsu.org for more information. \nWe will meet in Gonzaga Hall at St. Aloysius Catholic Church.\nClick here to see a map of St. Aloysius
URL:https://www.ctklsu.org/event/freedom-group/2025-07-09/
LOCATION:St. Aloysius Catholic Church\, 2025 Stuart Ave\, Baton Rouge\, LA\, 70808
CATEGORIES:Formation
ATTACH;FMTTYPE=image/jpeg:https://www.ctklsu.org/wp-content/uploads/69-1O4A1460-scaled.jpg
END:VEVENT
BEGIN:VEVENT
DTSTART;TZID=America/Chicago:20250702T164500
DTEND;TZID=America/Chicago:20250702T174500
DTSTAMP:20260420T070943
CREATED:20250603T171655Z
LAST-MODIFIED:20250603T171746Z
UID:10001562-1751474700-1751478300@www.ctklsu.org
SUMMARY:Men's Freedom Group
DESCRIPTION:Do you struggle with lust and sexual sin and desire freedom? Freedom Group provides a space to learn how to recover and be free from lust within a fellowship of brothers who are all pursuing this freedom. If you are interested in trying a meeting\, please email Bryce at bpellegrin@ctklsu.org for more information. \nWe will meet in Gonzaga Hall at St. Aloysius Catholic Church.\nClick here to see a map of St. Aloysius
URL:https://www.ctklsu.org/event/freedom-group/2025-07-02/
LOCATION:St. Aloysius Catholic Church\, 2025 Stuart Ave\, Baton Rouge\, LA\, 70808
CATEGORIES:Formation
ATTACH;FMTTYPE=image/jpeg:https://www.ctklsu.org/wp-content/uploads/69-1O4A1460-scaled.jpg
END:VEVENT
BEGIN:VEVENT
DTSTART;TZID=America/Chicago:20250625T164500
DTEND;TZID=America/Chicago:20250625T174500
DTSTAMP:20260420T070943
CREATED:20250603T171655Z
LAST-MODIFIED:20250603T171746Z
UID:10001561-1750869900-1750873500@www.ctklsu.org
SUMMARY:Men's Freedom Group
DESCRIPTION:Do you struggle with lust and sexual sin and desire freedom? Freedom Group provides a space to learn how to recover and be free from lust within a fellowship of brothers who are all pursuing this freedom. If you are interested in trying a meeting\, please email Bryce at bpellegrin@ctklsu.org for more information. \nWe will meet in Gonzaga Hall at St. Aloysius Catholic Church.\nClick here to see a map of St. Aloysius
URL:https://www.ctklsu.org/event/freedom-group/2025-06-25/
LOCATION:St. Aloysius Catholic Church\, 2025 Stuart Ave\, Baton Rouge\, LA\, 70808
CATEGORIES:Formation
ATTACH;FMTTYPE=image/jpeg:https://www.ctklsu.org/wp-content/uploads/69-1O4A1460-scaled.jpg
END:VEVENT
BEGIN:VEVENT
DTSTART;TZID=America/Chicago:20250618T164500
DTEND;TZID=America/Chicago:20250618T174500
DTSTAMP:20260420T070943
CREATED:20250603T171655Z
LAST-MODIFIED:20250603T171746Z
UID:10001560-1750265100-1750268700@www.ctklsu.org
SUMMARY:Men's Freedom Group
DESCRIPTION:Do you struggle with lust and sexual sin and desire freedom? Freedom Group provides a space to learn how to recover and be free from lust within a fellowship of brothers who are all pursuing this freedom. If you are interested in trying a meeting\, please email Bryce at bpellegrin@ctklsu.org for more information. \nWe will meet in Gonzaga Hall at St. Aloysius Catholic Church.\nClick here to see a map of St. Aloysius
URL:https://www.ctklsu.org/event/freedom-group/2025-06-18/
LOCATION:St. Aloysius Catholic Church\, 2025 Stuart Ave\, Baton Rouge\, LA\, 70808
CATEGORIES:Formation
ATTACH;FMTTYPE=image/jpeg:https://www.ctklsu.org/wp-content/uploads/69-1O4A1460-scaled.jpg
END:VEVENT
BEGIN:VEVENT
DTSTART;TZID=America/Chicago:20250611T164500
DTEND;TZID=America/Chicago:20250611T174500
DTSTAMP:20260420T070943
CREATED:20250603T171655Z
LAST-MODIFIED:20250603T171746Z
UID:10001559-1749660300-1749663900@www.ctklsu.org
SUMMARY:Men's Freedom Group
DESCRIPTION:Do you struggle with lust and sexual sin and desire freedom? Freedom Group provides a space to learn how to recover and be free from lust within a fellowship of brothers who are all pursuing this freedom. If you are interested in trying a meeting\, please email Bryce at bpellegrin@ctklsu.org for more information. \nWe will meet in Gonzaga Hall at St. Aloysius Catholic Church.\nClick here to see a map of St. Aloysius
URL:https://www.ctklsu.org/event/freedom-group/2025-06-11/
LOCATION:St. Aloysius Catholic Church\, 2025 Stuart Ave\, Baton Rouge\, LA\, 70808
CATEGORIES:Formation
ATTACH;FMTTYPE=image/jpeg:https://www.ctklsu.org/wp-content/uploads/69-1O4A1460-scaled.jpg
END:VEVENT
BEGIN:VEVENT
DTSTART;TZID=America/Chicago:20250605T180000
DTEND;TZID=America/Chicago:20250605T210000
DTSTAMP:20260420T070943
CREATED:20220511T190822Z
LAST-MODIFIED:20250603T154630Z
UID:10000665-1749146400-1749157200@www.ctklsu.org
SUMMARY:Volunteer Dinner
DESCRIPTION:All volunteers are invited to our Volunteer Appreciation Dinner as a thank you for your willingness to serve and the efforts you put forth to make this ministry possible on Thursday\, June 5\, at 6 p.m. Click the link below to RSVP!
URL:https://www.ctklsu.org/event/volunteer-dinner/
LOCATION:CTK\, CTK\, Baton Rouge\, LA\, 70803\, United States
CATEGORIES:Service
ATTACH;FMTTYPE=image/jpeg:https://www.ctklsu.org/wp-content/uploads/IMG_4860-scaled.jpg
GEO:30.4157757;-91.1750936
X-APPLE-STRUCTURED-LOCATION;VALUE=URI;X-ADDRESS=CTK CTK Baton Rouge LA 70803 United States;X-APPLE-RADIUS=500;X-TITLE=CTK:geo:-91.1750936,30.4157757
END:VEVENT
BEGIN:VEVENT
DTSTART;TZID=America/Chicago:20250604T164500
DTEND;TZID=America/Chicago:20250604T174500
DTSTAMP:20260420T070943
CREATED:20250603T171655Z
LAST-MODIFIED:20250603T171746Z
UID:10001281-1749055500-1749059100@www.ctklsu.org
SUMMARY:Men's Freedom Group
DESCRIPTION:Do you struggle with lust and sexual sin and desire freedom? Freedom Group provides a space to learn how to recover and be free from lust within a fellowship of brothers who are all pursuing this freedom. If you are interested in trying a meeting\, please email Bryce at bpellegrin@ctklsu.org for more information. \nWe will meet in Gonzaga Hall at St. Aloysius Catholic Church.\nClick here to see a map of St. Aloysius
URL:https://www.ctklsu.org/event/freedom-group/2025-06-04/
LOCATION:St. Aloysius Catholic Church\, 2025 Stuart Ave\, Baton Rouge\, LA\, 70808
CATEGORIES:Formation
ATTACH;FMTTYPE=image/jpeg:https://www.ctklsu.org/wp-content/uploads/69-1O4A1460-scaled.jpg
END:VEVENT
BEGIN:VEVENT
DTSTART;TZID=America/Chicago:20250529T170000
DTEND;TZID=America/Chicago:20250529T180000
DTSTAMP:20260420T070943
CREATED:20240923T160229Z
LAST-MODIFIED:20240923T161030Z
UID:10001280-1748538000-1748541600@www.ctklsu.org
SUMMARY:Men's Freedom Group
DESCRIPTION:Do you have a problem with lust and sexual sin and desire freedom? Freedom Group provides a space to learn how to recover and be free from lust within a fellowship of brothers who are all pursuing this freedom. If you are interested in trying a meeting\, please email Brennan at bgarriques@ctklsu.org for more information. \nWe will meet in Gonzaga Hall at St. Aloysius Catholic Church.\nClick here to see a map of St. Aloysius
URL:https://www.ctklsu.org/event/freedom-2-2/2025-05-29/
LOCATION:St. Aloysius Catholic Church\, 2025 Stuart Ave\, Baton Rouge\, LA\, 70808
CATEGORIES:Formation
ATTACH;FMTTYPE=image/jpeg:https://www.ctklsu.org/wp-content/uploads/69-1O4A1460-scaled.jpg
END:VEVENT
BEGIN:VEVENT
DTSTART;TZID=America/Chicago:20250522T170000
DTEND;TZID=America/Chicago:20250522T180000
DTSTAMP:20260420T070943
CREATED:20240923T160229Z
LAST-MODIFIED:20240923T161030Z
UID:10001279-1747933200-1747936800@www.ctklsu.org
SUMMARY:Men's Freedom Group
DESCRIPTION:Do you have a problem with lust and sexual sin and desire freedom? Freedom Group provides a space to learn how to recover and be free from lust within a fellowship of brothers who are all pursuing this freedom. If you are interested in trying a meeting\, please email Brennan at bgarriques@ctklsu.org for more information. \nWe will meet in Gonzaga Hall at St. Aloysius Catholic Church.\nClick here to see a map of St. Aloysius
URL:https://www.ctklsu.org/event/freedom-2-2/2025-05-22/
LOCATION:St. Aloysius Catholic Church\, 2025 Stuart Ave\, Baton Rouge\, LA\, 70808
CATEGORIES:Formation
ATTACH;FMTTYPE=image/jpeg:https://www.ctklsu.org/wp-content/uploads/69-1O4A1460-scaled.jpg
END:VEVENT
BEGIN:VEVENT
DTSTART;TZID=America/Chicago:20250515T170000
DTEND;TZID=America/Chicago:20250515T180000
DTSTAMP:20260420T070943
CREATED:20240923T160229Z
LAST-MODIFIED:20240923T161030Z
UID:10001278-1747328400-1747332000@www.ctklsu.org
SUMMARY:Men's Freedom Group
DESCRIPTION:Do you have a problem with lust and sexual sin and desire freedom? Freedom Group provides a space to learn how to recover and be free from lust within a fellowship of brothers who are all pursuing this freedom. If you are interested in trying a meeting\, please email Brennan at bgarriques@ctklsu.org for more information. \nWe will meet in Gonzaga Hall at St. Aloysius Catholic Church.\nClick here to see a map of St. Aloysius
URL:https://www.ctklsu.org/event/freedom-2-2/2025-05-15/
LOCATION:St. Aloysius Catholic Church\, 2025 Stuart Ave\, Baton Rouge\, LA\, 70808
CATEGORIES:Formation
ATTACH;FMTTYPE=image/jpeg:https://www.ctklsu.org/wp-content/uploads/69-1O4A1460-scaled.jpg
END:VEVENT
BEGIN:VEVENT
DTSTART;TZID=America/Chicago:20250508T170000
DTEND;TZID=America/Chicago:20250508T180000
DTSTAMP:20260420T070943
CREATED:20240923T160229Z
LAST-MODIFIED:20240923T161030Z
UID:10001277-1746723600-1746727200@www.ctklsu.org
SUMMARY:Men's Freedom Group
DESCRIPTION:Do you have a problem with lust and sexual sin and desire freedom? Freedom Group provides a space to learn how to recover and be free from lust within a fellowship of brothers who are all pursuing this freedom. If you are interested in trying a meeting\, please email Brennan at bgarriques@ctklsu.org for more information. \nWe will meet in Gonzaga Hall at St. Aloysius Catholic Church.\nClick here to see a map of St. Aloysius
URL:https://www.ctklsu.org/event/freedom-2-2/2025-05-08/
LOCATION:St. Aloysius Catholic Church\, 2025 Stuart Ave\, Baton Rouge\, LA\, 70808
CATEGORIES:Formation
ATTACH;FMTTYPE=image/jpeg:https://www.ctklsu.org/wp-content/uploads/69-1O4A1460-scaled.jpg
END:VEVENT
BEGIN:VEVENT
DTSTART;TZID=America/Chicago:20250501T180000
DTEND;TZID=America/Chicago:20250501T213000
DTSTAMP:20260420T070943
CREATED:20241218T185529Z
LAST-MODIFIED:20250425T123217Z
UID:10001545-1746122400-1746135000@www.ctklsu.org
SUMMARY:Women's TJs and PJs Night
DESCRIPTION:Take a break from studying for finals and join women’s minitry on Thursday\, May 1\, from 6-8:30 p.m. Wear your pjs and bring a snack from Trader Joe’s to share! We’ll have crafts\, snacks\, and a movie playing. We can’t wait to hang out with all of you! \nPlease reach out to Rachel at rhaydel@ctklsu.org for the location detials.
URL:https://www.ctklsu.org/event/womens-tjs-and-pjs-night/
LOCATION:Private Home\, Private Home\, LA\, United States
CATEGORIES:Social,Women's Ministry
GEO:38.8767448;-77.0054359
X-APPLE-STRUCTURED-LOCATION;VALUE=URI;X-ADDRESS=Private Home Private Home LA United States;X-APPLE-RADIUS=500;X-TITLE=Private Home:geo:-77.0054359,38.8767448
END:VEVENT
BEGIN:VEVENT
DTSTART;TZID=America/Chicago:20250501T170000
DTEND;TZID=America/Chicago:20250501T180000
DTSTAMP:20260420T070943
CREATED:20240923T160229Z
LAST-MODIFIED:20240923T161030Z
UID:10001276-1746118800-1746122400@www.ctklsu.org
SUMMARY:Men's Freedom Group
DESCRIPTION:Do you have a problem with lust and sexual sin and desire freedom? Freedom Group provides a space to learn how to recover and be free from lust within a fellowship of brothers who are all pursuing this freedom. If you are interested in trying a meeting\, please email Brennan at bgarriques@ctklsu.org for more information. \nWe will meet in Gonzaga Hall at St. Aloysius Catholic Church.\nClick here to see a map of St. Aloysius
URL:https://www.ctklsu.org/event/freedom-2-2/2025-05-01/
LOCATION:St. Aloysius Catholic Church\, 2025 Stuart Ave\, Baton Rouge\, LA\, 70808
CATEGORIES:Formation
ATTACH;FMTTYPE=image/jpeg:https://www.ctklsu.org/wp-content/uploads/69-1O4A1460-scaled.jpg
END:VEVENT
BEGIN:VEVENT
DTSTART;VALUE=DATE:20250428
DTEND;VALUE=DATE:20250502
DTSTAMP:20260420T070943
CREATED:20221107T230215Z
LAST-MODIFIED:20250414T193954Z
UID:10000839-1745798400-1746143999@www.ctklsu.org
SUMMARY:Dead Week Outreach
DESCRIPTION:Dead Week Outreach will take place from Monday\, April 28-Thursday\, May 1. Each day of Dead Week\, we will have a table in Free Ppeech Alley from 10 a.m.-3:00 p.m. Sign up to spend an hour at our table to offer snacks\, coffee\, lemonade and prayers to everyone who walks by. At a time when students are anxious and worried about many things\, we will remind them Christ is near!
URL:https://www.ctklsu.org/event/dead-week-outreach/
LOCATION:FSA\, Free Speech Alley\, Baton Rouge\, Louisiana\, 70803
CATEGORIES:Prayer
ATTACH;FMTTYPE=image/jpeg:https://www.ctklsu.org/wp-content/uploads/CTKAdorationnight-001-scaled.jpg
END:VEVENT
BEGIN:VEVENT
DTSTART;TZID=America/Chicago:20250425T180000
DTEND;TZID=America/Chicago:20250425T210000
DTSTAMP:20260420T070943
CREATED:20240318T143810Z
LAST-MODIFIED:20250325T163956Z
UID:10001136-1745604000-1745614800@www.ctklsu.org
SUMMARY:Senior Soiree
DESCRIPTION:All 2025 graduates (Spring\, Summer and Fall) are invited to our Senior Soiree cocktail night on Friday\, April 25\, at 6 p.m. Invitations can be picked up in the CTK office and RSVPs are requested by April 21. Senior Soiree is open to all degree levels.
URL:https://www.ctklsu.org/event/senior-soiree/
LOCATION:Private Home\, Private Home\, LA\, United States
CATEGORIES:Featured Event,Social
ATTACH;FMTTYPE=image/jpeg:https://www.ctklsu.org/wp-content/uploads/380-1O4A3447-1-scaled.jpg
GEO:38.8767448;-77.0054359
X-APPLE-STRUCTURED-LOCATION;VALUE=URI;X-ADDRESS=Private Home Private Home LA United States;X-APPLE-RADIUS=500;X-TITLE=Private Home:geo:-77.0054359,38.8767448
END:VEVENT
BEGIN:VEVENT
DTSTART;TZID=America/Chicago:20250424T170000
DTEND;TZID=America/Chicago:20250424T180000
DTSTAMP:20260420T070943
CREATED:20240923T160229Z
LAST-MODIFIED:20240923T161030Z
UID:10001275-1745514000-1745517600@www.ctklsu.org
SUMMARY:Men's Freedom Group
DESCRIPTION:Do you have a problem with lust and sexual sin and desire freedom? Freedom Group provides a space to learn how to recover and be free from lust within a fellowship of brothers who are all pursuing this freedom. If you are interested in trying a meeting\, please email Brennan at bgarriques@ctklsu.org for more information. \nWe will meet in Gonzaga Hall at St. Aloysius Catholic Church.\nClick here to see a map of St. Aloysius
URL:https://www.ctklsu.org/event/freedom-2-2/2025-04-24/
LOCATION:St. Aloysius Catholic Church\, 2025 Stuart Ave\, Baton Rouge\, LA\, 70808
CATEGORIES:Formation
ATTACH;FMTTYPE=image/jpeg:https://www.ctklsu.org/wp-content/uploads/69-1O4A1460-scaled.jpg
END:VEVENT
BEGIN:VEVENT
DTSTART;TZID=America/Chicago:20250423T170000
DTEND;TZID=America/Chicago:20250423T190000
DTSTAMP:20260420T070943
CREATED:20240229T202324Z
LAST-MODIFIED:20250324T001423Z
UID:10001134-1745427600-1745434800@www.ctklsu.org
SUMMARY:Eucharistic Procession
DESCRIPTION:All are invited to join us on Easter Wednesday\, April 23\, for a Eucharistic procession to celebrate the risen Lord. We will begin with Mass at 5 p.m. immediately followed by a Eucharist procession around LSU’s campus lead by Fr. Mathew. During the procession\, we will stop at the Greek Amphitheater for praise and worship before processing back to Christ the King. 
URL:https://www.ctklsu.org/event/procession/
LOCATION:CTK\, CTK\, Baton Rouge\, LA\, 70803\, United States
CATEGORIES:Featured Event,Music,Prayer
ATTACH;FMTTYPE=image/jpeg:https://www.ctklsu.org/wp-content/uploads/CTK-Eucharistic-procession-065-scaled.jpg
GEO:30.4157757;-91.1750936
X-APPLE-STRUCTURED-LOCATION;VALUE=URI;X-ADDRESS=CTK CTK Baton Rouge LA 70803 United States;X-APPLE-RADIUS=500;X-TITLE=CTK:geo:-91.1750936,30.4157757
END:VEVENT
BEGIN:VEVENT
DTSTART;TZID=America/Chicago:20250419T220000
DTEND;TZID=America/Chicago:20250420T020000
DTSTAMP:20260420T070943
CREATED:20240112T172413Z
LAST-MODIFIED:20250326T194456Z
UID:10001109-1745100000-1745114400@www.ctklsu.org
SUMMARY:Easter Vigil Party
DESCRIPTION:All are invited to celebrate the risen Lord with us and welcome those fully initiated into the Church at our Easter party in the Activity Center immediately following our 8 p.m. Easter Vigil on Saturday\, April 19. \nWe’ll have a live band\, food\, dancing and more. \nWe can’t wait to celebreate the resurrection with you!
URL:https://www.ctklsu.org/event/easter-vigil-party/
LOCATION:CTK\, CTK\, Baton Rouge\, LA\, 70803\, United States
CATEGORIES:Social
ATTACH;FMTTYPE=image/jpeg:https://www.ctklsu.org/wp-content/uploads/03-KMS_6203-scaled.jpg
GEO:30.4157757;-91.1750936
X-APPLE-STRUCTURED-LOCATION;VALUE=URI;X-ADDRESS=CTK CTK Baton Rouge LA 70803 United States;X-APPLE-RADIUS=500;X-TITLE=CTK:geo:-91.1750936,30.4157757
END:VEVENT
BEGIN:VEVENT
DTSTART;TZID=America/Chicago:20250417T170000
DTEND;TZID=America/Chicago:20250417T180000
DTSTAMP:20260420T070943
CREATED:20240923T160229Z
LAST-MODIFIED:20240923T161030Z
UID:10001274-1744909200-1744912800@www.ctklsu.org
SUMMARY:Men's Freedom Group
DESCRIPTION:Do you have a problem with lust and sexual sin and desire freedom? Freedom Group provides a space to learn how to recover and be free from lust within a fellowship of brothers who are all pursuing this freedom. If you are interested in trying a meeting\, please email Brennan at bgarriques@ctklsu.org for more information. \nWe will meet in Gonzaga Hall at St. Aloysius Catholic Church.\nClick here to see a map of St. Aloysius
URL:https://www.ctklsu.org/event/freedom-2-2/2025-04-17/
LOCATION:St. Aloysius Catholic Church\, 2025 Stuart Ave\, Baton Rouge\, LA\, 70808
CATEGORIES:Formation
ATTACH;FMTTYPE=image/jpeg:https://www.ctklsu.org/wp-content/uploads/69-1O4A1460-scaled.jpg
END:VEVENT
BEGIN:VEVENT
DTSTART;TZID=America/Chicago:20250416T200000
DTEND;TZID=America/Chicago:20250416T210000
DTSTAMP:20260420T070943
CREATED:20241218T150459Z
LAST-MODIFIED:20241218T151604Z
UID:10001524-1744833600-1744837200@www.ctklsu.org
SUMMARY:Alive
DESCRIPTION:Join us in the Portiuncula Adoration Chapel on Wednesdays from 8-9 p.m. for Alive praise & worship! Members of our music ministry team will lead us in song as an offering before the Blessed Sacrament.
URL:https://www.ctklsu.org/event/alive-2/2025-04-16/
LOCATION:CTK\, CTK\, Baton Rouge\, LA\, 70803\, United States
CATEGORIES:Prayer
ATTACH;FMTTYPE=image/jpeg:https://www.ctklsu.org/wp-content/uploads/IMG_5261-scaled.jpg
GEO:30.4157757;-91.1750936
X-APPLE-STRUCTURED-LOCATION;VALUE=URI;X-ADDRESS=CTK CTK Baton Rouge LA 70803 United States;X-APPLE-RADIUS=500;X-TITLE=CTK:geo:-91.1750936,30.4157757
END:VEVENT
BEGIN:VEVENT
DTSTART;TZID=America/Chicago:20250410T170000
DTEND;TZID=America/Chicago:20250410T180000
DTSTAMP:20260420T070943
CREATED:20240923T160229Z
LAST-MODIFIED:20240923T161030Z
UID:10001273-1744304400-1744308000@www.ctklsu.org
SUMMARY:Men's Freedom Group
DESCRIPTION:Do you have a problem with lust and sexual sin and desire freedom? Freedom Group provides a space to learn how to recover and be free from lust within a fellowship of brothers who are all pursuing this freedom. If you are interested in trying a meeting\, please email Brennan at bgarriques@ctklsu.org for more information. \nWe will meet in Gonzaga Hall at St. Aloysius Catholic Church.\nClick here to see a map of St. Aloysius
URL:https://www.ctklsu.org/event/freedom-2-2/2025-04-10/
LOCATION:St. Aloysius Catholic Church\, 2025 Stuart Ave\, Baton Rouge\, LA\, 70808
CATEGORIES:Formation
ATTACH;FMTTYPE=image/jpeg:https://www.ctklsu.org/wp-content/uploads/69-1O4A1460-scaled.jpg
END:VEVENT
BEGIN:VEVENT
DTSTART;TZID=America/Chicago:20250409T200000
DTEND;TZID=America/Chicago:20250409T210000
DTSTAMP:20260420T070943
CREATED:20241218T150459Z
LAST-MODIFIED:20241218T151604Z
UID:10001523-1744228800-1744232400@www.ctklsu.org
SUMMARY:Alive
DESCRIPTION:Join us in the Portiuncula Adoration Chapel on Wednesdays from 8-9 p.m. for Alive praise & worship! Members of our music ministry team will lead us in song as an offering before the Blessed Sacrament.
URL:https://www.ctklsu.org/event/alive-2/2025-04-09/
LOCATION:CTK\, CTK\, Baton Rouge\, LA\, 70803\, United States
CATEGORIES:Prayer
ATTACH;FMTTYPE=image/jpeg:https://www.ctklsu.org/wp-content/uploads/IMG_5261-scaled.jpg
GEO:30.4157757;-91.1750936
X-APPLE-STRUCTURED-LOCATION;VALUE=URI;X-ADDRESS=CTK CTK Baton Rouge LA 70803 United States;X-APPLE-RADIUS=500;X-TITLE=CTK:geo:-91.1750936,30.4157757
END:VEVENT
END:VCALENDAR