BEGIN:VCALENDAR
VERSION:2.0
PRODID:-//Christ The King - ECPv6.15.20//NONSGML v1.0//EN
CALSCALE:GREGORIAN
METHOD:PUBLISH
X-ORIGINAL-URL:https://www.ctklsu.org
X-WR-CALDESC:Events for Christ The King
REFRESH-INTERVAL;VALUE=DURATION:PT1H
X-Robots-Tag:noindex
X-PUBLISHED-TTL:PT1H
BEGIN:VTIMEZONE
TZID:America/Chicago
BEGIN:DAYLIGHT
TZOFFSETFROM:-0600
TZOFFSETTO:-0500
TZNAME:CDT
DTSTART:20250309T080000
END:DAYLIGHT
BEGIN:STANDARD
TZOFFSETFROM:-0500
TZOFFSETTO:-0600
TZNAME:CST
DTSTART:20251102T070000
END:STANDARD
BEGIN:DAYLIGHT
TZOFFSETFROM:-0600
TZOFFSETTO:-0500
TZNAME:CDT
DTSTART:20260308T080000
END:DAYLIGHT
BEGIN:STANDARD
TZOFFSETFROM:-0500
TZOFFSETTO:-0600
TZNAME:CST
DTSTART:20261101T070000
END:STANDARD
BEGIN:DAYLIGHT
TZOFFSETFROM:-0600
TZOFFSETTO:-0500
TZNAME:CDT
DTSTART:20270314T080000
END:DAYLIGHT
BEGIN:STANDARD
TZOFFSETFROM:-0500
TZOFFSETTO:-0600
TZNAME:CST
DTSTART:20271107T070000
END:STANDARD
END:VTIMEZONE
BEGIN:VEVENT
DTSTART;TZID=America/Chicago:20260402T170000
DTEND;TZID=America/Chicago:20260402T180000
DTSTAMP:20260421T104752
CREATED:20260108T200604Z
LAST-MODIFIED:20260108T200606Z
UID:10002134-1775149200-1775152800@www.ctklsu.org
SUMMARY:Men's Freedom Group
DESCRIPTION:Do you struggle with lust and sexual sin and desire freedom? Freedom Group provides a space to learn how to recover and be free from lust within a fellowship of brothers who are all pursuing this freedom. If you are interested in trying a meeting\, please email Bryce at bpellegrin@ctklsu.org for more information.
URL:https://www.ctklsu.org/event/freedom-group-2/2026-04-02/
LOCATION:St. Aloysius Catholic Church\, 2025 Stuart Ave\, Baton Rouge\, LA\, 70808
CATEGORIES:Formation
ATTACH;FMTTYPE=image/jpeg:https://www.ctklsu.org/wp-content/uploads/69-1O4A1460-scaled.jpg
END:VEVENT
BEGIN:VEVENT
DTSTART;TZID=America/Chicago:20260406T170000
DTEND;TZID=America/Chicago:20260406T180000
DTSTAMP:20260421T104752
CREATED:20250901T143934Z
LAST-MODIFIED:20250907T184051Z
UID:10001879-1775494800-1775498400@www.ctklsu.org
SUMMARY:Men's Holy Hour
DESCRIPTION:All men are invited to join us every Monday in the Adoration Chapel for our Men’s Holy Hour from 5-6 p.m.
URL:https://www.ctklsu.org/event/mens-holy-hour-2/2026-04-06/
LOCATION:CTK\, CTK\, Baton Rouge\, LA\, 70803\, United States
CATEGORIES:Men's Ministry,Prayer
ATTACH;FMTTYPE=image/jpeg:https://www.ctklsu.org/wp-content/uploads/CTKAdorationnight-024-scaled.jpg
GEO:30.4157757;-91.1750936
X-APPLE-STRUCTURED-LOCATION;VALUE=URI;X-ADDRESS=CTK CTK Baton Rouge LA 70803 United States;X-APPLE-RADIUS=500;X-TITLE=CTK:geo:-91.1750936,30.4157757
END:VEVENT
BEGIN:VEVENT
DTSTART;TZID=America/Chicago:20260409T170000
DTEND;TZID=America/Chicago:20260409T180000
DTSTAMP:20260421T104752
CREATED:20260108T200604Z
LAST-MODIFIED:20260108T200606Z
UID:10002135-1775754000-1775757600@www.ctklsu.org
SUMMARY:Men's Freedom Group
DESCRIPTION:Do you struggle with lust and sexual sin and desire freedom? Freedom Group provides a space to learn how to recover and be free from lust within a fellowship of brothers who are all pursuing this freedom. If you are interested in trying a meeting\, please email Bryce at bpellegrin@ctklsu.org for more information.
URL:https://www.ctklsu.org/event/freedom-group-2/2026-04-09/
LOCATION:St. Aloysius Catholic Church\, 2025 Stuart Ave\, Baton Rouge\, LA\, 70808
CATEGORIES:Formation
ATTACH;FMTTYPE=image/jpeg:https://www.ctklsu.org/wp-content/uploads/69-1O4A1460-scaled.jpg
END:VEVENT
BEGIN:VEVENT
DTSTART;TZID=America/Chicago:20260410T180000
DTEND;TZID=America/Chicago:20260410T200000
DTSTAMP:20260421T104752
CREATED:20260105T194243Z
LAST-MODIFIED:20260105T194243Z
UID:10002119-1775844000-1775851200@www.ctklsu.org
SUMMARY:Men's Nights
DESCRIPTION:All guys are invited to hang out at the the JPII House for Men’s Night! \nSpring Men’s Night:\nJan. 23\nMarch 27\nApril 10
URL:https://www.ctklsu.org/event/mens-nights/2026-04-10/
LOCATION:JPII House\, 23 Dalrymple Dr\, Baton Rouge\, LA\, 70803\, United States
CATEGORIES:Formation,Men's Ministry,Social
ATTACH;FMTTYPE=image/jpeg:https://www.ctklsu.org/wp-content/uploads/IMG_5014-scaled.jpg
GEO:30.4159244;-91.1724451
X-APPLE-STRUCTURED-LOCATION;VALUE=URI;X-ADDRESS=JPII House 23 Dalrymple Dr Baton Rouge LA 70803 United States;X-APPLE-RADIUS=500;X-TITLE=23 Dalrymple Dr:geo:-91.1724451,30.4159244
END:VEVENT
BEGIN:VEVENT
DTSTART;TZID=America/Chicago:20260412T190000
DTEND;TZID=America/Chicago:20260412T203000
DTSTAMP:20260421T104752
CREATED:20220912T162004Z
LAST-MODIFIED:20260107T173609Z
UID:10002122-1776020400-1776025800@www.ctklsu.org
SUMMARY:Freshman Fun Night
DESCRIPTION:Calling all freshmen! FFN (Freshman Fun Night) is a night for first-year students hosted by upperclassmen who were recently in your same shoes. The night is from 7-8:30 p.m. and is a place for freshmen to get together for a free meal\, community\, and a short talk with others in the same season of life. We hope to see you there!
URL:https://www.ctklsu.org/event/ffn/2026-04-12/
LOCATION:CTK\, CTK\, Baton Rouge\, LA\, 70803\, United States
CATEGORIES:Social
ATTACH;FMTTYPE=image/jpeg:https://www.ctklsu.org/wp-content/uploads/30-EU2A7830-scaled.jpg
GEO:30.4157757;-91.1750936
X-APPLE-STRUCTURED-LOCATION;VALUE=URI;X-ADDRESS=CTK CTK Baton Rouge LA 70803 United States;X-APPLE-RADIUS=500;X-TITLE=CTK:geo:-91.1750936,30.4157757
END:VEVENT
BEGIN:VEVENT
DTSTART;TZID=America/Chicago:20260413T170000
DTEND;TZID=America/Chicago:20260413T180000
DTSTAMP:20260421T104752
CREATED:20250901T143934Z
LAST-MODIFIED:20250907T184051Z
UID:10001880-1776099600-1776103200@www.ctklsu.org
SUMMARY:Men's Holy Hour
DESCRIPTION:All men are invited to join us every Monday in the Adoration Chapel for our Men’s Holy Hour from 5-6 p.m.
URL:https://www.ctklsu.org/event/mens-holy-hour-2/2026-04-13/
LOCATION:CTK\, CTK\, Baton Rouge\, LA\, 70803\, United States
CATEGORIES:Men's Ministry,Prayer
ATTACH;FMTTYPE=image/jpeg:https://www.ctklsu.org/wp-content/uploads/CTKAdorationnight-024-scaled.jpg
GEO:30.4157757;-91.1750936
X-APPLE-STRUCTURED-LOCATION;VALUE=URI;X-ADDRESS=CTK CTK Baton Rouge LA 70803 United States;X-APPLE-RADIUS=500;X-TITLE=CTK:geo:-91.1750936,30.4157757
END:VEVENT
BEGIN:VEVENT
DTSTART;TZID=America/Chicago:20260416T170000
DTEND;TZID=America/Chicago:20260416T180000
DTSTAMP:20260421T104752
CREATED:20260108T200604Z
LAST-MODIFIED:20260108T200606Z
UID:10002136-1776358800-1776362400@www.ctklsu.org
SUMMARY:Men's Freedom Group
DESCRIPTION:Do you struggle with lust and sexual sin and desire freedom? Freedom Group provides a space to learn how to recover and be free from lust within a fellowship of brothers who are all pursuing this freedom. If you are interested in trying a meeting\, please email Bryce at bpellegrin@ctklsu.org for more information.
URL:https://www.ctklsu.org/event/freedom-group-2/2026-04-16/
LOCATION:St. Aloysius Catholic Church\, 2025 Stuart Ave\, Baton Rouge\, LA\, 70808
CATEGORIES:Formation
ATTACH;FMTTYPE=image/jpeg:https://www.ctklsu.org/wp-content/uploads/69-1O4A1460-scaled.jpg
END:VEVENT
BEGIN:VEVENT
DTSTART;TZID=America/Chicago:20260416T190000
DTEND;TZID=America/Chicago:20260416T203000
DTSTAMP:20260421T104752
CREATED:20230830T202035Z
LAST-MODIFIED:20260108T201758Z
UID:10002389-1776366000-1776371400@www.ctklsu.org
SUMMARY:Community Night
DESCRIPTION:Spend your Thursday nights at home! Join us in the Acitivty Center at 7 p.m. for free dinner and fellowship! \nSpring 2026 Community Nights:\nJan. 15\nFeb. 5\nMarch 5\nApril 16 \nQuestions? Email Brennan at bgarriques@ctklsu.org.
URL:https://www.ctklsu.org/event/community-night/2026-04-16/
LOCATION:CTK\, CTK\, Baton Rouge\, LA\, 70803\, United States
CATEGORIES:Featured Event,Formation,Social
GEO:30.4157757;-91.1750936
X-APPLE-STRUCTURED-LOCATION;VALUE=URI;X-ADDRESS=CTK CTK Baton Rouge LA 70803 United States;X-APPLE-RADIUS=500;X-TITLE=CTK:geo:-91.1750936,30.4157757
END:VEVENT
BEGIN:VEVENT
DTSTART;TZID=America/Chicago:20260420T170000
DTEND;TZID=America/Chicago:20260420T180000
DTSTAMP:20260421T104752
CREATED:20250901T143934Z
LAST-MODIFIED:20250907T184051Z
UID:10001881-1776704400-1776708000@www.ctklsu.org
SUMMARY:Men's Holy Hour
DESCRIPTION:All men are invited to join us every Monday in the Adoration Chapel for our Men’s Holy Hour from 5-6 p.m.
URL:https://www.ctklsu.org/event/mens-holy-hour-2/2026-04-20/
LOCATION:CTK\, CTK\, Baton Rouge\, LA\, 70803\, United States
CATEGORIES:Men's Ministry,Prayer
ATTACH;FMTTYPE=image/jpeg:https://www.ctklsu.org/wp-content/uploads/CTKAdorationnight-024-scaled.jpg
GEO:30.4157757;-91.1750936
X-APPLE-STRUCTURED-LOCATION;VALUE=URI;X-ADDRESS=CTK CTK Baton Rouge LA 70803 United States;X-APPLE-RADIUS=500;X-TITLE=CTK:geo:-91.1750936,30.4157757
END:VEVENT
BEGIN:VEVENT
DTSTART;TZID=America/Chicago:20260423T170000
DTEND;TZID=America/Chicago:20260423T180000
DTSTAMP:20260421T104752
CREATED:20260108T200604Z
LAST-MODIFIED:20260108T200606Z
UID:10002137-1776963600-1776967200@www.ctklsu.org
SUMMARY:Men's Freedom Group
DESCRIPTION:Do you struggle with lust and sexual sin and desire freedom? Freedom Group provides a space to learn how to recover and be free from lust within a fellowship of brothers who are all pursuing this freedom. If you are interested in trying a meeting\, please email Bryce at bpellegrin@ctklsu.org for more information.
URL:https://www.ctklsu.org/event/freedom-group-2/2026-04-23/
LOCATION:St. Aloysius Catholic Church\, 2025 Stuart Ave\, Baton Rouge\, LA\, 70808
CATEGORIES:Formation
ATTACH;FMTTYPE=image/jpeg:https://www.ctklsu.org/wp-content/uploads/69-1O4A1460-scaled.jpg
END:VEVENT
BEGIN:VEVENT
DTSTART;TZID=America/Chicago:20260427T170000
DTEND;TZID=America/Chicago:20260427T180000
DTSTAMP:20260421T104752
CREATED:20250901T143934Z
LAST-MODIFIED:20250907T184051Z
UID:10001882-1777309200-1777312800@www.ctklsu.org
SUMMARY:Men's Holy Hour
DESCRIPTION:All men are invited to join us every Monday in the Adoration Chapel for our Men’s Holy Hour from 5-6 p.m.
URL:https://www.ctklsu.org/event/mens-holy-hour-2/2026-04-27/
LOCATION:CTK\, CTK\, Baton Rouge\, LA\, 70803\, United States
CATEGORIES:Men's Ministry,Prayer
ATTACH;FMTTYPE=image/jpeg:https://www.ctklsu.org/wp-content/uploads/CTKAdorationnight-024-scaled.jpg
GEO:30.4157757;-91.1750936
X-APPLE-STRUCTURED-LOCATION;VALUE=URI;X-ADDRESS=CTK CTK Baton Rouge LA 70803 United States;X-APPLE-RADIUS=500;X-TITLE=CTK:geo:-91.1750936,30.4157757
END:VEVENT
BEGIN:VEVENT
DTSTART;TZID=America/Chicago:20260430T170000
DTEND;TZID=America/Chicago:20260430T180000
DTSTAMP:20260421T104752
CREATED:20260108T200604Z
LAST-MODIFIED:20260108T200606Z
UID:10002138-1777568400-1777572000@www.ctklsu.org
SUMMARY:Men's Freedom Group
DESCRIPTION:Do you struggle with lust and sexual sin and desire freedom? Freedom Group provides a space to learn how to recover and be free from lust within a fellowship of brothers who are all pursuing this freedom. If you are interested in trying a meeting\, please email Bryce at bpellegrin@ctklsu.org for more information.
URL:https://www.ctklsu.org/event/freedom-group-2/2026-04-30/
LOCATION:St. Aloysius Catholic Church\, 2025 Stuart Ave\, Baton Rouge\, LA\, 70808
CATEGORIES:Formation
ATTACH;FMTTYPE=image/jpeg:https://www.ctklsu.org/wp-content/uploads/69-1O4A1460-scaled.jpg
END:VEVENT
BEGIN:VEVENT
DTSTART;TZID=America/Chicago:20260504T170000
DTEND;TZID=America/Chicago:20260504T180000
DTSTAMP:20260421T104752
CREATED:20250901T143934Z
LAST-MODIFIED:20250907T184051Z
UID:10001883-1777914000-1777917600@www.ctklsu.org
SUMMARY:Men's Holy Hour
DESCRIPTION:All men are invited to join us every Monday in the Adoration Chapel for our Men’s Holy Hour from 5-6 p.m.
URL:https://www.ctklsu.org/event/mens-holy-hour-2/2026-05-04/
LOCATION:CTK\, CTK\, Baton Rouge\, LA\, 70803\, United States
CATEGORIES:Men's Ministry,Prayer
ATTACH;FMTTYPE=image/jpeg:https://www.ctklsu.org/wp-content/uploads/CTKAdorationnight-024-scaled.jpg
GEO:30.4157757;-91.1750936
X-APPLE-STRUCTURED-LOCATION;VALUE=URI;X-ADDRESS=CTK CTK Baton Rouge LA 70803 United States;X-APPLE-RADIUS=500;X-TITLE=CTK:geo:-91.1750936,30.4157757
END:VEVENT
BEGIN:VEVENT
DTSTART;TZID=America/Chicago:20260507T170000
DTEND;TZID=America/Chicago:20260507T180000
DTSTAMP:20260421T104752
CREATED:20260108T200604Z
LAST-MODIFIED:20260108T200606Z
UID:10002139-1778173200-1778176800@www.ctklsu.org
SUMMARY:Men's Freedom Group
DESCRIPTION:Do you struggle with lust and sexual sin and desire freedom? Freedom Group provides a space to learn how to recover and be free from lust within a fellowship of brothers who are all pursuing this freedom. If you are interested in trying a meeting\, please email Bryce at bpellegrin@ctklsu.org for more information.
URL:https://www.ctklsu.org/event/freedom-group-2/2026-05-07/
LOCATION:St. Aloysius Catholic Church\, 2025 Stuart Ave\, Baton Rouge\, LA\, 70808
CATEGORIES:Formation
ATTACH;FMTTYPE=image/jpeg:https://www.ctklsu.org/wp-content/uploads/69-1O4A1460-scaled.jpg
END:VEVENT
BEGIN:VEVENT
DTSTART;TZID=America/Chicago:20260511T170000
DTEND;TZID=America/Chicago:20260511T180000
DTSTAMP:20260421T104752
CREATED:20250901T143934Z
LAST-MODIFIED:20250907T184051Z
UID:10001884-1778518800-1778522400@www.ctklsu.org
SUMMARY:Men's Holy Hour
DESCRIPTION:All men are invited to join us every Monday in the Adoration Chapel for our Men’s Holy Hour from 5-6 p.m.
URL:https://www.ctklsu.org/event/mens-holy-hour-2/2026-05-11/
LOCATION:CTK\, CTK\, Baton Rouge\, LA\, 70803\, United States
CATEGORIES:Men's Ministry,Prayer
ATTACH;FMTTYPE=image/jpeg:https://www.ctklsu.org/wp-content/uploads/CTKAdorationnight-024-scaled.jpg
GEO:30.4157757;-91.1750936
X-APPLE-STRUCTURED-LOCATION;VALUE=URI;X-ADDRESS=CTK CTK Baton Rouge LA 70803 United States;X-APPLE-RADIUS=500;X-TITLE=CTK:geo:-91.1750936,30.4157757
END:VEVENT
BEGIN:VEVENT
DTSTART;TZID=America/Chicago:20260514T170000
DTEND;TZID=America/Chicago:20260514T180000
DTSTAMP:20260421T104752
CREATED:20260108T200604Z
LAST-MODIFIED:20260108T200606Z
UID:10002140-1778778000-1778781600@www.ctklsu.org
SUMMARY:Men's Freedom Group
DESCRIPTION:Do you struggle with lust and sexual sin and desire freedom? Freedom Group provides a space to learn how to recover and be free from lust within a fellowship of brothers who are all pursuing this freedom. If you are interested in trying a meeting\, please email Bryce at bpellegrin@ctklsu.org for more information.
URL:https://www.ctklsu.org/event/freedom-group-2/2026-05-14/
LOCATION:St. Aloysius Catholic Church\, 2025 Stuart Ave\, Baton Rouge\, LA\, 70808
CATEGORIES:Formation
ATTACH;FMTTYPE=image/jpeg:https://www.ctklsu.org/wp-content/uploads/69-1O4A1460-scaled.jpg
END:VEVENT
BEGIN:VEVENT
DTSTART;TZID=America/Chicago:20260514T180000
DTEND;TZID=America/Chicago:20260514T190000
DTSTAMP:20260421T104752
CREATED:20210408T222830Z
LAST-MODIFIED:20260416T020436Z
UID:10000518-1778781600-1778785200@www.ctklsu.org
SUMMARY:Baccalaureate Mass
DESCRIPTION:A special Mass to celebrate the graduating class in all degree levels for Spring and Summer 2026 graduates. \n\nAll Graduates should be ready in the Activity Center by 5:30 p.m. for instruction about their participation in the Mass.\nPlease read below about the Graduate/Senior Thank You opportunity\, your participation is strongly encouraged and appreciated!\n\nPlease contact Noelle at nshipley@ctklsu.org with any questions.
URL:https://www.ctklsu.org/event/baccmass/
LOCATION:CTK – Corner Address\, Highland & Dalrymple\, Baton Rouge\, LA\, 70803\, United States
CATEGORIES:Featured Event,Prayer
ATTACH;FMTTYPE=image/jpeg:https://www.ctklsu.org/wp-content/uploads/IMG_8584-scaled.jpg
GEO:30.4157949;-91.1763586
X-APPLE-STRUCTURED-LOCATION;VALUE=URI;X-ADDRESS=CTK – Corner Address Highland & Dalrymple Baton Rouge LA 70803 United States;X-APPLE-RADIUS=500;X-TITLE=Highland & Dalrymple:geo:-91.1763586,30.4157949
END:VEVENT
BEGIN:VEVENT
DTSTART;TZID=America/Chicago:20260518T170000
DTEND;TZID=America/Chicago:20260518T180000
DTSTAMP:20260421T104752
CREATED:20250901T143934Z
LAST-MODIFIED:20250907T184051Z
UID:10001885-1779123600-1779127200@www.ctklsu.org
SUMMARY:Men's Holy Hour
DESCRIPTION:All men are invited to join us every Monday in the Adoration Chapel for our Men’s Holy Hour from 5-6 p.m.
URL:https://www.ctklsu.org/event/mens-holy-hour-2/2026-05-18/
LOCATION:CTK\, CTK\, Baton Rouge\, LA\, 70803\, United States
CATEGORIES:Men's Ministry,Prayer
ATTACH;FMTTYPE=image/jpeg:https://www.ctklsu.org/wp-content/uploads/CTKAdorationnight-024-scaled.jpg
GEO:30.4157757;-91.1750936
X-APPLE-STRUCTURED-LOCATION;VALUE=URI;X-ADDRESS=CTK CTK Baton Rouge LA 70803 United States;X-APPLE-RADIUS=500;X-TITLE=CTK:geo:-91.1750936,30.4157757
END:VEVENT
BEGIN:VEVENT
DTSTART;TZID=America/Chicago:20260521T170000
DTEND;TZID=America/Chicago:20260521T180000
DTSTAMP:20260421T104752
CREATED:20260108T200604Z
LAST-MODIFIED:20260108T200606Z
UID:10002141-1779382800-1779386400@www.ctklsu.org
SUMMARY:Men's Freedom Group
DESCRIPTION:Do you struggle with lust and sexual sin and desire freedom? Freedom Group provides a space to learn how to recover and be free from lust within a fellowship of brothers who are all pursuing this freedom. If you are interested in trying a meeting\, please email Bryce at bpellegrin@ctklsu.org for more information.
URL:https://www.ctklsu.org/event/freedom-group-2/2026-05-21/
LOCATION:St. Aloysius Catholic Church\, 2025 Stuart Ave\, Baton Rouge\, LA\, 70808
CATEGORIES:Formation
ATTACH;FMTTYPE=image/jpeg:https://www.ctklsu.org/wp-content/uploads/69-1O4A1460-scaled.jpg
END:VEVENT
BEGIN:VEVENT
DTSTART;TZID=America/Chicago:20260525T170000
DTEND;TZID=America/Chicago:20260525T180000
DTSTAMP:20260421T104752
CREATED:20250901T143934Z
LAST-MODIFIED:20250907T184051Z
UID:10001886-1779728400-1779732000@www.ctklsu.org
SUMMARY:Men's Holy Hour
DESCRIPTION:All men are invited to join us every Monday in the Adoration Chapel for our Men’s Holy Hour from 5-6 p.m.
URL:https://www.ctklsu.org/event/mens-holy-hour-2/2026-05-25/
LOCATION:CTK\, CTK\, Baton Rouge\, LA\, 70803\, United States
CATEGORIES:Men's Ministry,Prayer
ATTACH;FMTTYPE=image/jpeg:https://www.ctklsu.org/wp-content/uploads/CTKAdorationnight-024-scaled.jpg
GEO:30.4157757;-91.1750936
X-APPLE-STRUCTURED-LOCATION;VALUE=URI;X-ADDRESS=CTK CTK Baton Rouge LA 70803 United States;X-APPLE-RADIUS=500;X-TITLE=CTK:geo:-91.1750936,30.4157757
END:VEVENT
BEGIN:VEVENT
DTSTART;TZID=America/Chicago:20260528T170000
DTEND;TZID=America/Chicago:20260528T180000
DTSTAMP:20260421T104752
CREATED:20260108T200604Z
LAST-MODIFIED:20260108T200606Z
UID:10002142-1779987600-1779991200@www.ctklsu.org
SUMMARY:Men's Freedom Group
DESCRIPTION:Do you struggle with lust and sexual sin and desire freedom? Freedom Group provides a space to learn how to recover and be free from lust within a fellowship of brothers who are all pursuing this freedom. If you are interested in trying a meeting\, please email Bryce at bpellegrin@ctklsu.org for more information.
URL:https://www.ctklsu.org/event/freedom-group-2/2026-05-28/
LOCATION:St. Aloysius Catholic Church\, 2025 Stuart Ave\, Baton Rouge\, LA\, 70808
CATEGORIES:Formation
ATTACH;FMTTYPE=image/jpeg:https://www.ctklsu.org/wp-content/uploads/69-1O4A1460-scaled.jpg
END:VEVENT
BEGIN:VEVENT
DTSTART;TZID=America/Chicago:20260601T170000
DTEND;TZID=America/Chicago:20260601T180000
DTSTAMP:20260421T104752
CREATED:20250901T143934Z
LAST-MODIFIED:20250907T184051Z
UID:10001887-1780333200-1780336800@www.ctklsu.org
SUMMARY:Men's Holy Hour
DESCRIPTION:All men are invited to join us every Monday in the Adoration Chapel for our Men’s Holy Hour from 5-6 p.m.
URL:https://www.ctklsu.org/event/mens-holy-hour-2/2026-06-01/
LOCATION:CTK\, CTK\, Baton Rouge\, LA\, 70803\, United States
CATEGORIES:Men's Ministry,Prayer
ATTACH;FMTTYPE=image/jpeg:https://www.ctklsu.org/wp-content/uploads/CTKAdorationnight-024-scaled.jpg
GEO:30.4157757;-91.1750936
X-APPLE-STRUCTURED-LOCATION;VALUE=URI;X-ADDRESS=CTK CTK Baton Rouge LA 70803 United States;X-APPLE-RADIUS=500;X-TITLE=CTK:geo:-91.1750936,30.4157757
END:VEVENT
BEGIN:VEVENT
DTSTART;TZID=America/Chicago:20260604T170000
DTEND;TZID=America/Chicago:20260604T180000
DTSTAMP:20260421T104752
CREATED:20260108T200604Z
LAST-MODIFIED:20260108T200606Z
UID:10002143-1780592400-1780596000@www.ctklsu.org
SUMMARY:Men's Freedom Group
DESCRIPTION:Do you struggle with lust and sexual sin and desire freedom? Freedom Group provides a space to learn how to recover and be free from lust within a fellowship of brothers who are all pursuing this freedom. If you are interested in trying a meeting\, please email Bryce at bpellegrin@ctklsu.org for more information.
URL:https://www.ctklsu.org/event/freedom-group-2/2026-06-04/
LOCATION:St. Aloysius Catholic Church\, 2025 Stuart Ave\, Baton Rouge\, LA\, 70808
CATEGORIES:Formation
ATTACH;FMTTYPE=image/jpeg:https://www.ctklsu.org/wp-content/uploads/69-1O4A1460-scaled.jpg
END:VEVENT
BEGIN:VEVENT
DTSTART;TZID=America/Chicago:20260608T170000
DTEND;TZID=America/Chicago:20260608T180000
DTSTAMP:20260421T104752
CREATED:20250901T143934Z
LAST-MODIFIED:20250907T184051Z
UID:10001888-1780938000-1780941600@www.ctklsu.org
SUMMARY:Men's Holy Hour
DESCRIPTION:All men are invited to join us every Monday in the Adoration Chapel for our Men’s Holy Hour from 5-6 p.m.
URL:https://www.ctklsu.org/event/mens-holy-hour-2/2026-06-08/
LOCATION:CTK\, CTK\, Baton Rouge\, LA\, 70803\, United States
CATEGORIES:Men's Ministry,Prayer
ATTACH;FMTTYPE=image/jpeg:https://www.ctklsu.org/wp-content/uploads/CTKAdorationnight-024-scaled.jpg
GEO:30.4157757;-91.1750936
X-APPLE-STRUCTURED-LOCATION;VALUE=URI;X-ADDRESS=CTK CTK Baton Rouge LA 70803 United States;X-APPLE-RADIUS=500;X-TITLE=CTK:geo:-91.1750936,30.4157757
END:VEVENT
BEGIN:VEVENT
DTSTART;TZID=America/Chicago:20260611T170000
DTEND;TZID=America/Chicago:20260611T180000
DTSTAMP:20260421T104752
CREATED:20260108T200604Z
LAST-MODIFIED:20260108T200606Z
UID:10002144-1781197200-1781200800@www.ctklsu.org
SUMMARY:Men's Freedom Group
DESCRIPTION:Do you struggle with lust and sexual sin and desire freedom? Freedom Group provides a space to learn how to recover and be free from lust within a fellowship of brothers who are all pursuing this freedom. If you are interested in trying a meeting\, please email Bryce at bpellegrin@ctklsu.org for more information.
URL:https://www.ctklsu.org/event/freedom-group-2/2026-06-11/
LOCATION:St. Aloysius Catholic Church\, 2025 Stuart Ave\, Baton Rouge\, LA\, 70808
CATEGORIES:Formation
ATTACH;FMTTYPE=image/jpeg:https://www.ctklsu.org/wp-content/uploads/69-1O4A1460-scaled.jpg
END:VEVENT
BEGIN:VEVENT
DTSTART;TZID=America/Chicago:20260615T170000
DTEND;TZID=America/Chicago:20260615T180000
DTSTAMP:20260421T104752
CREATED:20250901T143934Z
LAST-MODIFIED:20250907T184051Z
UID:10001889-1781542800-1781546400@www.ctklsu.org
SUMMARY:Men's Holy Hour
DESCRIPTION:All men are invited to join us every Monday in the Adoration Chapel for our Men’s Holy Hour from 5-6 p.m.
URL:https://www.ctklsu.org/event/mens-holy-hour-2/2026-06-15/
LOCATION:CTK\, CTK\, Baton Rouge\, LA\, 70803\, United States
CATEGORIES:Men's Ministry,Prayer
ATTACH;FMTTYPE=image/jpeg:https://www.ctklsu.org/wp-content/uploads/CTKAdorationnight-024-scaled.jpg
GEO:30.4157757;-91.1750936
X-APPLE-STRUCTURED-LOCATION;VALUE=URI;X-ADDRESS=CTK CTK Baton Rouge LA 70803 United States;X-APPLE-RADIUS=500;X-TITLE=CTK:geo:-91.1750936,30.4157757
END:VEVENT
BEGIN:VEVENT
DTSTART;TZID=America/Chicago:20260618T170000
DTEND;TZID=America/Chicago:20260618T180000
DTSTAMP:20260421T104752
CREATED:20260108T200604Z
LAST-MODIFIED:20260108T200606Z
UID:10002145-1781802000-1781805600@www.ctklsu.org
SUMMARY:Men's Freedom Group
DESCRIPTION:Do you struggle with lust and sexual sin and desire freedom? Freedom Group provides a space to learn how to recover and be free from lust within a fellowship of brothers who are all pursuing this freedom. If you are interested in trying a meeting\, please email Bryce at bpellegrin@ctklsu.org for more information.
URL:https://www.ctklsu.org/event/freedom-group-2/2026-06-18/
LOCATION:St. Aloysius Catholic Church\, 2025 Stuart Ave\, Baton Rouge\, LA\, 70808
CATEGORIES:Formation
ATTACH;FMTTYPE=image/jpeg:https://www.ctklsu.org/wp-content/uploads/69-1O4A1460-scaled.jpg
END:VEVENT
BEGIN:VEVENT
DTSTART;TZID=America/Chicago:20260622T170000
DTEND;TZID=America/Chicago:20260622T180000
DTSTAMP:20260421T104752
CREATED:20250901T143934Z
LAST-MODIFIED:20250907T184051Z
UID:10001890-1782147600-1782151200@www.ctklsu.org
SUMMARY:Men's Holy Hour
DESCRIPTION:All men are invited to join us every Monday in the Adoration Chapel for our Men’s Holy Hour from 5-6 p.m.
URL:https://www.ctklsu.org/event/mens-holy-hour-2/2026-06-22/
LOCATION:CTK\, CTK\, Baton Rouge\, LA\, 70803\, United States
CATEGORIES:Men's Ministry,Prayer
ATTACH;FMTTYPE=image/jpeg:https://www.ctklsu.org/wp-content/uploads/CTKAdorationnight-024-scaled.jpg
GEO:30.4157757;-91.1750936
X-APPLE-STRUCTURED-LOCATION;VALUE=URI;X-ADDRESS=CTK CTK Baton Rouge LA 70803 United States;X-APPLE-RADIUS=500;X-TITLE=CTK:geo:-91.1750936,30.4157757
END:VEVENT
BEGIN:VEVENT
DTSTART;TZID=America/Chicago:20260625T170000
DTEND;TZID=America/Chicago:20260625T180000
DTSTAMP:20260421T104752
CREATED:20260108T200604Z
LAST-MODIFIED:20260108T200606Z
UID:10002146-1782406800-1782410400@www.ctklsu.org
SUMMARY:Men's Freedom Group
DESCRIPTION:Do you struggle with lust and sexual sin and desire freedom? Freedom Group provides a space to learn how to recover and be free from lust within a fellowship of brothers who are all pursuing this freedom. If you are interested in trying a meeting\, please email Bryce at bpellegrin@ctklsu.org for more information.
URL:https://www.ctklsu.org/event/freedom-group-2/2026-06-25/
LOCATION:St. Aloysius Catholic Church\, 2025 Stuart Ave\, Baton Rouge\, LA\, 70808
CATEGORIES:Formation
ATTACH;FMTTYPE=image/jpeg:https://www.ctklsu.org/wp-content/uploads/69-1O4A1460-scaled.jpg
END:VEVENT
BEGIN:VEVENT
DTSTART;TZID=America/Chicago:20260629T170000
DTEND;TZID=America/Chicago:20260629T180000
DTSTAMP:20260421T104752
CREATED:20250901T143934Z
LAST-MODIFIED:20250907T184051Z
UID:10001891-1782752400-1782756000@www.ctklsu.org
SUMMARY:Men's Holy Hour
DESCRIPTION:All men are invited to join us every Monday in the Adoration Chapel for our Men’s Holy Hour from 5-6 p.m.
URL:https://www.ctklsu.org/event/mens-holy-hour-2/2026-06-29/
LOCATION:CTK\, CTK\, Baton Rouge\, LA\, 70803\, United States
CATEGORIES:Men's Ministry,Prayer
ATTACH;FMTTYPE=image/jpeg:https://www.ctklsu.org/wp-content/uploads/CTKAdorationnight-024-scaled.jpg
GEO:30.4157757;-91.1750936
X-APPLE-STRUCTURED-LOCATION;VALUE=URI;X-ADDRESS=CTK CTK Baton Rouge LA 70803 United States;X-APPLE-RADIUS=500;X-TITLE=CTK:geo:-91.1750936,30.4157757
END:VEVENT
END:VCALENDAR