BEGIN:VCALENDAR
VERSION:2.0
PRODID:-//Christ The King - ECPv6.15.20//NONSGML v1.0//EN
CALSCALE:GREGORIAN
METHOD:PUBLISH
X-WR-CALNAME:Christ The King
X-ORIGINAL-URL:https://www.ctklsu.org
X-WR-CALDESC:Events for Christ The King
REFRESH-INTERVAL;VALUE=DURATION:PT1H
X-Robots-Tag:noindex
X-PUBLISHED-TTL:PT1H
BEGIN:VTIMEZONE
TZID:America/Chicago
BEGIN:DAYLIGHT
TZOFFSETFROM:-0600
TZOFFSETTO:-0500
TZNAME:CDT
DTSTART:20210314T080000
END:DAYLIGHT
BEGIN:STANDARD
TZOFFSETFROM:-0500
TZOFFSETTO:-0600
TZNAME:CST
DTSTART:20211107T070000
END:STANDARD
BEGIN:DAYLIGHT
TZOFFSETFROM:-0600
TZOFFSETTO:-0500
TZNAME:CDT
DTSTART:20220313T080000
END:DAYLIGHT
BEGIN:STANDARD
TZOFFSETFROM:-0500
TZOFFSETTO:-0600
TZNAME:CST
DTSTART:20221106T070000
END:STANDARD
BEGIN:DAYLIGHT
TZOFFSETFROM:-0600
TZOFFSETTO:-0500
TZNAME:CDT
DTSTART:20230312T080000
END:DAYLIGHT
BEGIN:STANDARD
TZOFFSETFROM:-0500
TZOFFSETTO:-0600
TZNAME:CST
DTSTART:20231105T070000
END:STANDARD
END:VTIMEZONE
BEGIN:VEVENT
DTSTART;TZID=America/Chicago:20221115T190000
DTEND;TZID=America/Chicago:20221115T203000
DTSTAMP:20260421T045843
CREATED:20220912T154048Z
LAST-MODIFIED:20221017T182719Z
UID:10000765-1668538800-1668544200@www.ctklsu.org
SUMMARY:Alpha
DESCRIPTION:Alpha is a series of sessions exploring the basic tenets of the Christian faith. This program typically runs for nine weeks. Each talk is not designed to address heavy theological content\, but will explore a different question about the fundamentals of the faith in order to create an open and non-judgmental space for conversation. The night will begin with a free home-cooked meal in the Activity Center\, followed by a short video and discussion.
URL:https://www.ctklsu.org/event/alpha/2022-11-15/
LOCATION:CTK\, CTK\, Baton Rouge\, LA\, 70803\, United States
CATEGORIES:Formation
ATTACH;FMTTYPE=image/jpeg:https://www.ctklsu.org/wp-content/uploads/IMG_9428-scaled.jpg
GEO:30.4157757;-91.1750936
X-APPLE-STRUCTURED-LOCATION;VALUE=URI;X-ADDRESS=CTK CTK Baton Rouge LA 70803 United States;X-APPLE-RADIUS=500;X-TITLE=CTK:geo:-91.1750936,30.4157757
END:VEVENT
BEGIN:VEVENT
DTSTART;TZID=America/Chicago:20221108T190000
DTEND;TZID=America/Chicago:20221108T203000
DTSTAMP:20260421T045843
CREATED:20220912T154048Z
LAST-MODIFIED:20221017T182719Z
UID:10000764-1667934000-1667939400@www.ctklsu.org
SUMMARY:Alpha
DESCRIPTION:Alpha is a series of sessions exploring the basic tenets of the Christian faith. This program typically runs for nine weeks. Each talk is not designed to address heavy theological content\, but will explore a different question about the fundamentals of the faith in order to create an open and non-judgmental space for conversation. The night will begin with a free home-cooked meal in the Activity Center\, followed by a short video and discussion.
URL:https://www.ctklsu.org/event/alpha/2022-11-08/
LOCATION:CTK\, CTK\, Baton Rouge\, LA\, 70803\, United States
CATEGORIES:Formation
ATTACH;FMTTYPE=image/jpeg:https://www.ctklsu.org/wp-content/uploads/IMG_9428-scaled.jpg
GEO:30.4157757;-91.1750936
X-APPLE-STRUCTURED-LOCATION;VALUE=URI;X-ADDRESS=CTK CTK Baton Rouge LA 70803 United States;X-APPLE-RADIUS=500;X-TITLE=CTK:geo:-91.1750936,30.4157757
END:VEVENT
BEGIN:VEVENT
DTSTART;TZID=America/Chicago:20221101T190000
DTEND;TZID=America/Chicago:20221101T203000
DTSTAMP:20260421T045843
CREATED:20220912T154048Z
LAST-MODIFIED:20221017T182719Z
UID:10000763-1667329200-1667334600@www.ctklsu.org
SUMMARY:Alpha
DESCRIPTION:Alpha is a series of sessions exploring the basic tenets of the Christian faith. This program typically runs for nine weeks. Each talk is not designed to address heavy theological content\, but will explore a different question about the fundamentals of the faith in order to create an open and non-judgmental space for conversation. The night will begin with a free home-cooked meal in the Activity Center\, followed by a short video and discussion.
URL:https://www.ctklsu.org/event/alpha/2022-11-01/
LOCATION:CTK\, CTK\, Baton Rouge\, LA\, 70803\, United States
CATEGORIES:Formation
ATTACH;FMTTYPE=image/jpeg:https://www.ctklsu.org/wp-content/uploads/IMG_9428-scaled.jpg
GEO:30.4157757;-91.1750936
X-APPLE-STRUCTURED-LOCATION;VALUE=URI;X-ADDRESS=CTK CTK Baton Rouge LA 70803 United States;X-APPLE-RADIUS=500;X-TITLE=CTK:geo:-91.1750936,30.4157757
END:VEVENT
BEGIN:VEVENT
DTSTART;TZID=America/Chicago:20221025T190000
DTEND;TZID=America/Chicago:20221025T203000
DTSTAMP:20260421T045843
CREATED:20220912T154048Z
LAST-MODIFIED:20221017T182719Z
UID:10000835-1666724400-1666729800@www.ctklsu.org
SUMMARY:Alpha
DESCRIPTION:Alpha is a series of sessions exploring the basic tenets of the Christian faith. This program typically runs for nine weeks. Each talk is not designed to address heavy theological content\, but will explore a different question about the fundamentals of the faith in order to create an open and non-judgmental space for conversation. The night will begin with a free home-cooked meal in the Activity Center\, followed by a short video and discussion.
URL:https://www.ctklsu.org/event/alpha/2022-10-25/
LOCATION:CTK\, CTK\, Baton Rouge\, LA\, 70803\, United States
CATEGORIES:Formation
ATTACH;FMTTYPE=image/jpeg:https://www.ctklsu.org/wp-content/uploads/IMG_9428-scaled.jpg
GEO:30.4157757;-91.1750936
X-APPLE-STRUCTURED-LOCATION;VALUE=URI;X-ADDRESS=CTK CTK Baton Rouge LA 70803 United States;X-APPLE-RADIUS=500;X-TITLE=CTK:geo:-91.1750936,30.4157757
END:VEVENT
BEGIN:VEVENT
DTSTART;TZID=America/Chicago:20221018T190000
DTEND;TZID=America/Chicago:20221018T203000
DTSTAMP:20260421T045843
CREATED:20220912T154048Z
LAST-MODIFIED:20221017T182719Z
UID:10000762-1666119600-1666125000@www.ctklsu.org
SUMMARY:Alpha
DESCRIPTION:Alpha is a series of sessions exploring the basic tenets of the Christian faith. This program typically runs for nine weeks. Each talk is not designed to address heavy theological content\, but will explore a different question about the fundamentals of the faith in order to create an open and non-judgmental space for conversation. The night will begin with a free home-cooked meal in the Activity Center\, followed by a short video and discussion.
URL:https://www.ctklsu.org/event/alpha/2022-10-18/
LOCATION:CTK\, CTK\, Baton Rouge\, LA\, 70803\, United States
CATEGORIES:Formation
ATTACH;FMTTYPE=image/jpeg:https://www.ctklsu.org/wp-content/uploads/IMG_9428-scaled.jpg
GEO:30.4157757;-91.1750936
X-APPLE-STRUCTURED-LOCATION;VALUE=URI;X-ADDRESS=CTK CTK Baton Rouge LA 70803 United States;X-APPLE-RADIUS=500;X-TITLE=CTK:geo:-91.1750936,30.4157757
END:VEVENT
BEGIN:VEVENT
DTSTART;TZID=America/Chicago:20221011T190000
DTEND;TZID=America/Chicago:20221011T203000
DTSTAMP:20260421T045843
CREATED:20220912T154048Z
LAST-MODIFIED:20221017T182719Z
UID:10000761-1665514800-1665520200@www.ctklsu.org
SUMMARY:Alpha
DESCRIPTION:Alpha is a series of sessions exploring the basic tenets of the Christian faith. This program typically runs for nine weeks. Each talk is not designed to address heavy theological content\, but will explore a different question about the fundamentals of the faith in order to create an open and non-judgmental space for conversation. The night will begin with a free home-cooked meal in the Activity Center\, followed by a short video and discussion.
URL:https://www.ctklsu.org/event/alpha/2022-10-11/
LOCATION:CTK\, CTK\, Baton Rouge\, LA\, 70803\, United States
CATEGORIES:Formation
ATTACH;FMTTYPE=image/jpeg:https://www.ctklsu.org/wp-content/uploads/IMG_9428-scaled.jpg
GEO:30.4157757;-91.1750936
X-APPLE-STRUCTURED-LOCATION;VALUE=URI;X-ADDRESS=CTK CTK Baton Rouge LA 70803 United States;X-APPLE-RADIUS=500;X-TITLE=CTK:geo:-91.1750936,30.4157757
END:VEVENT
BEGIN:VEVENT
DTSTART;TZID=America/Chicago:20221004T190000
DTEND;TZID=America/Chicago:20221004T203000
DTSTAMP:20260421T045843
CREATED:20220912T154048Z
LAST-MODIFIED:20221017T182719Z
UID:10000760-1664910000-1664915400@www.ctklsu.org
SUMMARY:Alpha
DESCRIPTION:Alpha is a series of sessions exploring the basic tenets of the Christian faith. This program typically runs for nine weeks. Each talk is not designed to address heavy theological content\, but will explore a different question about the fundamentals of the faith in order to create an open and non-judgmental space for conversation. The night will begin with a free home-cooked meal in the Activity Center\, followed by a short video and discussion.
URL:https://www.ctklsu.org/event/alpha/2022-10-04/
LOCATION:CTK\, CTK\, Baton Rouge\, LA\, 70803\, United States
CATEGORIES:Formation
ATTACH;FMTTYPE=image/jpeg:https://www.ctklsu.org/wp-content/uploads/IMG_9428-scaled.jpg
GEO:30.4157757;-91.1750936
X-APPLE-STRUCTURED-LOCATION;VALUE=URI;X-ADDRESS=CTK CTK Baton Rouge LA 70803 United States;X-APPLE-RADIUS=500;X-TITLE=CTK:geo:-91.1750936,30.4157757
END:VEVENT
BEGIN:VEVENT
DTSTART;TZID=America/Chicago:20220927T190000
DTEND;TZID=America/Chicago:20220927T203000
DTSTAMP:20260421T045843
CREATED:20220912T154048Z
LAST-MODIFIED:20221017T182719Z
UID:10000759-1664305200-1664310600@www.ctklsu.org
SUMMARY:Alpha
DESCRIPTION:Alpha is a series of sessions exploring the basic tenets of the Christian faith. This program typically runs for nine weeks. Each talk is not designed to address heavy theological content\, but will explore a different question about the fundamentals of the faith in order to create an open and non-judgmental space for conversation. The night will begin with a free home-cooked meal in the Activity Center\, followed by a short video and discussion.
URL:https://www.ctklsu.org/event/alpha/2022-09-27/
LOCATION:CTK\, CTK\, Baton Rouge\, LA\, 70803\, United States
CATEGORIES:Formation
ATTACH;FMTTYPE=image/jpeg:https://www.ctklsu.org/wp-content/uploads/IMG_9428-scaled.jpg
GEO:30.4157757;-91.1750936
X-APPLE-STRUCTURED-LOCATION;VALUE=URI;X-ADDRESS=CTK CTK Baton Rouge LA 70803 United States;X-APPLE-RADIUS=500;X-TITLE=CTK:geo:-91.1750936,30.4157757
END:VEVENT
BEGIN:VEVENT
DTSTART;TZID=America/Chicago:20220920T190000
DTEND;TZID=America/Chicago:20220920T203000
DTSTAMP:20260421T045843
CREATED:20220912T154048Z
LAST-MODIFIED:20221017T182719Z
UID:10000758-1663700400-1663705800@www.ctklsu.org
SUMMARY:Alpha
DESCRIPTION:Alpha is a series of sessions exploring the basic tenets of the Christian faith. This program typically runs for nine weeks. Each talk is not designed to address heavy theological content\, but will explore a different question about the fundamentals of the faith in order to create an open and non-judgmental space for conversation. The night will begin with a free home-cooked meal in the Activity Center\, followed by a short video and discussion.
URL:https://www.ctklsu.org/event/alpha/2022-09-20/
LOCATION:CTK\, CTK\, Baton Rouge\, LA\, 70803\, United States
CATEGORIES:Formation
ATTACH;FMTTYPE=image/jpeg:https://www.ctklsu.org/wp-content/uploads/IMG_9428-scaled.jpg
GEO:30.4157757;-91.1750936
X-APPLE-STRUCTURED-LOCATION;VALUE=URI;X-ADDRESS=CTK CTK Baton Rouge LA 70803 United States;X-APPLE-RADIUS=500;X-TITLE=CTK:geo:-91.1750936,30.4157757
END:VEVENT
BEGIN:VEVENT
DTSTART;TZID=America/Chicago:20220913T190000
DTEND;TZID=America/Chicago:20220913T203000
DTSTAMP:20260421T045843
CREATED:20220912T154048Z
LAST-MODIFIED:20221017T182719Z
UID:10000757-1663095600-1663101000@www.ctklsu.org
SUMMARY:Alpha
DESCRIPTION:Alpha is a series of sessions exploring the basic tenets of the Christian faith. This program typically runs for nine weeks. Each talk is not designed to address heavy theological content\, but will explore a different question about the fundamentals of the faith in order to create an open and non-judgmental space for conversation. The night will begin with a free home-cooked meal in the Activity Center\, followed by a short video and discussion.
URL:https://www.ctklsu.org/event/alpha/2022-09-13/
LOCATION:CTK\, CTK\, Baton Rouge\, LA\, 70803\, United States
CATEGORIES:Formation
ATTACH;FMTTYPE=image/jpeg:https://www.ctklsu.org/wp-content/uploads/IMG_9428-scaled.jpg
GEO:30.4157757;-91.1750936
X-APPLE-STRUCTURED-LOCATION;VALUE=URI;X-ADDRESS=CTK CTK Baton Rouge LA 70803 United States;X-APPLE-RADIUS=500;X-TITLE=CTK:geo:-91.1750936,30.4157757
END:VEVENT
END:VCALENDAR