BEGIN:VCALENDAR
VERSION:2.0
PRODID:-//Christ The King - ECPv6.15.20//NONSGML v1.0//EN
CALSCALE:GREGORIAN
METHOD:PUBLISH
X-ORIGINAL-URL:https://www.ctklsu.org
X-WR-CALDESC:Events for Christ The King
REFRESH-INTERVAL;VALUE=DURATION:PT1H
X-Robots-Tag:noindex
X-PUBLISHED-TTL:PT1H
BEGIN:VTIMEZONE
TZID:UTC
BEGIN:STANDARD
TZOFFSETFROM:+0000
TZOFFSETTO:+0000
TZNAME:UTC
DTSTART:20230101T000000
END:STANDARD
END:VTIMEZONE
BEGIN:VEVENT
DTSTART;VALUE=DATE:20240214
DTEND;VALUE=DATE:20240215
DTSTAMP:20260420T073405
CREATED:20210126T040229Z
LAST-MODIFIED:20240214T162108Z
UID:10000512-1707868800-1707955199@www.ctklsu.org
SUMMARY:Ash Wednesday
DESCRIPTION:Confession: 11am\nMass: 12pm | 6pm | 8pm\nWatch the video to learn more about the significance of Ash Wednesday!
URL:https://www.ctklsu.org/event/ash-wednesday/
LOCATION:CTK\, CTK\, Baton Rouge\, LA\, 70803\, United States
CATEGORIES:Featured Event,Prayer
ATTACH;FMTTYPE=image/jpeg:https://www.ctklsu.org/wp-content/uploads/ashes.jpg
GEO:30.4157757;-91.1750936
X-APPLE-STRUCTURED-LOCATION;VALUE=URI;X-ADDRESS=CTK CTK Baton Rouge LA 70803 United States;X-APPLE-RADIUS=500;X-TITLE=CTK:geo:-91.1750936,30.4157757
END:VEVENT
END:VCALENDAR