BEGIN:VCALENDAR
VERSION:2.0
PRODID:-//Christ The King - ECPv6.15.20//NONSGML v1.0//EN
CALSCALE:GREGORIAN
METHOD:PUBLISH
X-ORIGINAL-URL:https://www.ctklsu.org
X-WR-CALDESC:Events for Christ The King
REFRESH-INTERVAL;VALUE=DURATION:PT1H
X-Robots-Tag:noindex
X-PUBLISHED-TTL:PT1H
BEGIN:VTIMEZONE
TZID:America/Chicago
BEGIN:DAYLIGHT
TZOFFSETFROM:-0600
TZOFFSETTO:-0500
TZNAME:CDT
DTSTART:20230312T080000
END:DAYLIGHT
BEGIN:STANDARD
TZOFFSETFROM:-0500
TZOFFSETTO:-0600
TZNAME:CST
DTSTART:20231105T070000
END:STANDARD
BEGIN:DAYLIGHT
TZOFFSETFROM:-0600
TZOFFSETTO:-0500
TZNAME:CDT
DTSTART:20240310T080000
END:DAYLIGHT
BEGIN:STANDARD
TZOFFSETFROM:-0500
TZOFFSETTO:-0600
TZNAME:CST
DTSTART:20241103T070000
END:STANDARD
BEGIN:DAYLIGHT
TZOFFSETFROM:-0600
TZOFFSETTO:-0500
TZNAME:CDT
DTSTART:20250309T080000
END:DAYLIGHT
BEGIN:STANDARD
TZOFFSETFROM:-0500
TZOFFSETTO:-0600
TZNAME:CST
DTSTART:20251102T070000
END:STANDARD
END:VTIMEZONE
BEGIN:VEVENT
DTSTART;VALUE=DATE:20240204
DTEND;VALUE=DATE:20240206
DTSTAMP:20260420T074913
CREATED:20231017T181204Z
LAST-MODIFIED:20240130T220107Z
UID:10001032-1707004800-1707177599@www.ctklsu.org
SUMMARY:Carmelites Visit
DESCRIPTION:The Carmelite Sisters of the Most Sacred Heart of Los Angeles are back! \nFeb. 4: Calling all women! Join the sisters at 7:30 p.m. in the activity center for ice cream and their talk Healed by Love: Personal Testimonies of the Carmelite Sisters.\nWe all have a sacred story\, our own personal “salvation history” where God heals us by His Love. All women are invited to hear the Carmelite Sisters share their personal testimonies of how God touched their feminine hearts and set them on a healing journey to Carmel. There will be time for a Q&A after the talk. \nFeb. 5: We invite both men and women to join the sisters in the activity center at 7:30 p.m. for Into the Deep: Prayer in the Carmelite Tradition.\nWe all thirst for a deep and loving relationship with the Living God. Join the Carmelite Sisters for a talk on how to go deeper in prayer and develop an abiding intimacy with Him Who we know loves us. There will be time for a Q&A after the talk. \nSpiritual direction: The sister are also offering spiritual direction to women Feb. 5-6. Click the link in our bio to sign up for a 30 minute time slot with one of the sisters.
URL:https://www.ctklsu.org/event/carmelites/
LOCATION:CTK\, CTK\, Baton Rouge\, LA\, 70803\, United States
CATEGORIES:Formation,Women's Ministry
ATTACH;FMTTYPE=image/png:https://www.ctklsu.org/wp-content/uploads/carmelite-visit.png
GEO:30.4157757;-91.1750936
X-APPLE-STRUCTURED-LOCATION;VALUE=URI;X-ADDRESS=CTK CTK Baton Rouge LA 70803 United States;X-APPLE-RADIUS=500;X-TITLE=CTK:geo:-91.1750936,30.4157757
END:VEVENT
END:VCALENDAR