BEGIN:VCALENDAR
VERSION:2.0
PRODID:-//Christ The King - ECPv6.15.20//NONSGML v1.0//EN
CALSCALE:GREGORIAN
METHOD:PUBLISH
X-ORIGINAL-URL:https://www.ctklsu.org
X-WR-CALDESC:Events for Christ The King
REFRESH-INTERVAL;VALUE=DURATION:PT1H
X-Robots-Tag:noindex
X-PUBLISHED-TTL:PT1H
BEGIN:VTIMEZONE
TZID:America/Chicago
BEGIN:DAYLIGHT
TZOFFSETFROM:-0600
TZOFFSETTO:-0500
TZNAME:CDT
DTSTART:20220313T080000
END:DAYLIGHT
BEGIN:STANDARD
TZOFFSETFROM:-0500
TZOFFSETTO:-0600
TZNAME:CST
DTSTART:20221106T070000
END:STANDARD
BEGIN:DAYLIGHT
TZOFFSETFROM:-0600
TZOFFSETTO:-0500
TZNAME:CDT
DTSTART:20230312T080000
END:DAYLIGHT
BEGIN:STANDARD
TZOFFSETFROM:-0500
TZOFFSETTO:-0600
TZNAME:CST
DTSTART:20231105T070000
END:STANDARD
BEGIN:DAYLIGHT
TZOFFSETFROM:-0600
TZOFFSETTO:-0500
TZNAME:CDT
DTSTART:20240310T080000
END:DAYLIGHT
BEGIN:STANDARD
TZOFFSETFROM:-0500
TZOFFSETTO:-0600
TZNAME:CST
DTSTART:20241103T070000
END:STANDARD
END:VTIMEZONE
BEGIN:VEVENT
DTSTART;TZID=America/Chicago:20231018T113000
DTEND;TZID=America/Chicago:20231018T133000
DTSTAMP:20260420T133840
CREATED:20230906T220737Z
LAST-MODIFIED:20230906T223128Z
UID:10001018-1697628600-1697635800@www.ctklsu.org
SUMMARY:Alumni Mass & Luncheon
DESCRIPTION:Join us during your lunch break on October 18th for Mass celebrated by Fr. Mathew Dunn\, pastor of Christ the King at LSU\, followed by a short lunch and ministry updates.  \n\nWHEN: Wednesday\, October 18th\, 2023 \nWHERE: Holy Cross Chapel – 905 Main St.\, Houston\, TX 77002 \nWHO: Alumni\, friends\, & family of LSU/CTK living in Houston \n  \nSCHEDULE OF EVENTS: \n11:35AM – Mass \n12:15PM – Luncheon & Presentation \n1:15PM – Closing Remarks & Sendoff \n  \nparking & directions can be found here \n 
URL:https://www.ctklsu.org/event/alumni-mass-luncheon/
LOCATION:Holy Cross Chapel\, 905 Main Street\, Houston\, TX\, 77002\, United States
CATEGORIES:Featured Event,Guest Speakers,Prayer,Social
ATTACH;FMTTYPE=image/jpeg:https://www.ctklsu.org/wp-content/uploads/380-1O4A3447-scaled.jpg
END:VEVENT
END:VCALENDAR