BEGIN:VCALENDAR
VERSION:2.0
PRODID:-//Christ The King - ECPv6.15.20//NONSGML v1.0//EN
CALSCALE:GREGORIAN
METHOD:PUBLISH
X-WR-CALNAME:Christ The King
X-ORIGINAL-URL:https://www.ctklsu.org
X-WR-CALDESC:Events for Christ The King
REFRESH-INTERVAL;VALUE=DURATION:PT1H
X-Robots-Tag:noindex
X-PUBLISHED-TTL:PT1H
BEGIN:VTIMEZONE
TZID:America/Chicago
BEGIN:DAYLIGHT
TZOFFSETFROM:-0600
TZOFFSETTO:-0500
TZNAME:CDT
DTSTART:20220313T080000
END:DAYLIGHT
BEGIN:STANDARD
TZOFFSETFROM:-0500
TZOFFSETTO:-0600
TZNAME:CST
DTSTART:20221106T070000
END:STANDARD
BEGIN:DAYLIGHT
TZOFFSETFROM:-0600
TZOFFSETTO:-0500
TZNAME:CDT
DTSTART:20230312T080000
END:DAYLIGHT
BEGIN:STANDARD
TZOFFSETFROM:-0500
TZOFFSETTO:-0600
TZNAME:CST
DTSTART:20231105T070000
END:STANDARD
BEGIN:DAYLIGHT
TZOFFSETFROM:-0600
TZOFFSETTO:-0500
TZNAME:CDT
DTSTART:20240310T080000
END:DAYLIGHT
BEGIN:STANDARD
TZOFFSETFROM:-0500
TZOFFSETTO:-0600
TZNAME:CST
DTSTART:20241103T070000
END:STANDARD
END:VTIMEZONE
BEGIN:VEVENT
DTSTART;TZID=America/Chicago:20230929T183000
DTEND;TZID=America/Chicago:20230929T203000
DTSTAMP:20260420T145302
CREATED:20230919T211922Z
LAST-MODIFIED:20240723T184839Z
UID:10001021-1696012200-1696019400@www.ctklsu.org
SUMMARY:Women's Service Night
DESCRIPTION:Join women’s ministry in making care packages for the homeless on Monday\, October 14th at 7:30 p.m.! We’re meeting at a site off campus\, so contact Laine Raley at laineraley16@gmail.com for the location. Please fill out the sign up form to let us know what item(s) you will be contributing.
URL:https://www.ctklsu.org/event/womens-service-night/
LOCATION:Private Home\, Private Home\, LA\, United States
CATEGORIES:Service,Women's Ministry
ATTACH;FMTTYPE=image/jpeg:https://www.ctklsu.org/wp-content/uploads/110-DSC_7583-scaled.jpg
GEO:38.8767448;-77.0054359
X-APPLE-STRUCTURED-LOCATION;VALUE=URI;X-ADDRESS=Private Home Private Home LA United States;X-APPLE-RADIUS=500;X-TITLE=Private Home:geo:-77.0054359,38.8767448
END:VEVENT
END:VCALENDAR